Workbook
Name Totaal: Berekeningen!$B$24:$AJ$24

Sheet Invullen
B2: 1 | I2: 2 | P2: 3 | W2: 4 | AD2: 5
B3: Datum: | I3: Datum: | P3: Datum: | W3: Datum: | AD3: Datum:
B4: Naam: | I4: Naam: | P4: Naam: | W4: Naam: | AD4: Naam:
B5: Discipline: | I5: Discipline: | P5: Discipline: | W5: Discipline: | AD5: Discipline:
B6: Plaats: | I6: Plaats: | P6: Plaats: | W6: Plaats: | AD6: Plaats:
B7: Locatie: | I7: Locatie: | P7: Locatie: | W7: Locatie: | AD7: Locatie:
B8: Afstand: | I8: Afstand: | P8: Afstand: | W8: Afstand: | AD8: Afstand:
B9: Blazoen: | I9: Blazoen: | P9: Blazoen: | W9: Blazoen: | AD9: Blazoen:
B10: Tegenstander: | I10: Tegenstander: | P10: Tegenstander: | W10: Tegenstander: | AD10: Tegenstander:
B12: 1 | F12: =SUM((SUM(C12:E12))+(COUNTIF(C12:E12,"X")*10)) -> 0 | G12: =F12 -> 0 | I12: 1 | M12: =SUM((SUM(J12:L12))+(COUNTIF(J12:L12,"X")*10)) -> 0 | N12: =M12 -> 0 | P12: 1 | T12: =SUM((SUM(Q12:S12))+(COUNTIF(Q12:S12,"X")*10)) -> 0 | U12: =T12 -> 0 | W12: 1 | AA12: =SUM((SUM(X12:Z12))+(COUNTIF(X12:Z12,"X")*10)) -> 0 | AB12: =AA12 -> 0 | AD12: 1 | AH12: =SUM((SUM(AE12:AG12))+(COUNTIF(AE12:AG12,"X")*10)) -> 0 | AI12: =AH12 -> 0
B13: 2 | F13: =SUM((SUM(C13:E13))+(COUNTIF(C13:E13,"X")*10)) -> 0 | G13: =SUM(G12,F13) -> 0 | I13: 2 | M13: =SUM((SUM(J13:L13))+(COUNTIF(J13:L13,"X")*10)) -> 0 | N13: =SUM(N12,M13) -> 0 | P13: 2 | T13: =SUM((SUM(Q13:S13))+(COUNTIF(Q13:S13,"X")*10)) -> 0 | U13: =SUM(U12,T13) -> 0 | W13: 2 | AA13: =SUM((SUM(X13:Z13))+(COUNTIF(X13:Z13,"X")*10)) -> 0 | AB13: =SUM(AB12,AA13) -> 0 | AD13: 2 | AH13: =SUM((SUM(AE13:AG13))+(COUNTIF(AE13:AG13,"X")*10)) -> 0 | AI13: =SUM(AI12,AH13) -> 0
B14: 3 | F14: =SUM((SUM(C14:E14))+(COUNTIF(C14:E14,"X")*10)) -> 0 | G14: =SUM(G13,F14) -> 0 | I14: 3 | M14: =SUM((SUM(J14:L14))+(COUNTIF(J14:L14,"X")*10)) -> 0 | N14: =SUM(N13,M14) -> 0 | P14: 3 | T14: =SUM((SUM(Q14:S14))+(COUNTIF(Q14:S14,"X")*10)) -> 0 | U14: =SUM(U13,T14) -> 0 | W14: 3 | AA14: =SUM((SUM(X14:Z14))+(COUNTIF(X14:Z14,"X")*10)) -> 0 | AB14: =SUM(AB13,AA14) -> 0 | AD14: 3 | AH14: =SUM((SUM(AE14:AG14))+(COUNTIF(AE14:AG14,"X")*10)) -> 0 | AI14: =SUM(AI13,AH14) -> 0
B15: 4 | F15: =SUM((SUM(C15:E15))+(COUNTIF(C15:E15,"X")*10)) -> 0 | G15: =SUM(G14,F15) -> 0 | I15: 4 | M15: =SUM((SUM(J15:L15))+(COUNTIF(J15:L15,"X")*10)) -> 0 | N15: =SUM(N14,M15) -> 0 | P15: 4 | T15: =SUM((SUM(Q15:S15))+(COUNTIF(Q15:S15,"X")*10)) -> 0 | U15: =SUM(U14,T15) -> 0 | W15: 4 | AA15: =SUM((SUM(X15:Z15))+(COUNTIF(X15:Z15,"X")*10)) -> 0 | AB15: =SUM(AB14,AA15) -> 0 | AD15: 4 | AH15: =SUM((SUM(AE15:AG15))+(COUNTIF(AE15:AG15,"X")*10)) -> 0 | AI15: =SUM(AI14,AH15) -> 0
B16: 5 | F16: =SUM((SUM(C16:E16))+(COUNTIF(C16:E16,"X")*10)) -> 0 | G16: =SUM(G15,F16) -> 0 | I16: 5 | M16: =SUM((SUM(J16:L16))+(COUNTIF(J16:L16,"X")*10)) -> 0 | N16: =SUM(N15,M16) -> 0 | P16: 5 | T16: =SUM((SUM(Q16:S16))+(COUNTIF(Q16:S16,"X")*10)) -> 0 | U16: =SUM(U15,T16) -> 0 | W16: 5 | AA16: =SUM((SUM(X16:Z16))+(COUNTIF(X16:Z16,"X")*10)) -> 0 | AB16: =SUM(AB15,AA16) -> 0 | AD16: 5 | AH16: =SUM((SUM(AE16:AG16))+(COUNTIF(AE16:AG16,"X")*10)) -> 0 | AI16: =SUM(AI15,AH16) -> 0
B17: 6 | F17: =SUM((SUM(C17:E17))+(COUNTIF(C17:E17,"X")*10)) -> 0 | G17: =SUM(G16,F17) -> 0 | I17: 6 | M17: =SUM((SUM(J17:L17))+(COUNTIF(J17:L17,"X")*10)) -> 0 | N17: =SUM(N16,M17) -> 0 | P17: 6 | T17: =SUM((SUM(Q17:S17))+(COUNTIF(Q17:S17,"X")*10)) -> 0 | U17: =SUM(U16,T17) -> 0 | W17: 6 | AA17: =SUM((SUM(X17:Z17))+(COUNTIF(X17:Z17,"X")*10)) -> 0 | AB17: =SUM(AB16,AA17) -> 0 | AD17: 6 | AH17: =SUM((SUM(AE17:AG17))+(COUNTIF(AE17:AG17,"X")*10)) -> 0 | AI17: =SUM(AI16,AH17) -> 0
B18: 7 | F18: =SUM((SUM(C18:E18))+(COUNTIF(C18:E18,"X")*10)) -> 0 | G18: =SUM(G17,F18) -> 0 | I18: 7 | M18: =SUM((SUM(J18:L18))+(COUNTIF(J18:L18,"X")*10)) -> 0 | N18: =SUM(N17,M18) -> 0 | P18: 7 | T18: =SUM((SUM(Q18:S18))+(COUNTIF(Q18:S18,"X")*10)) -> 0 | U18: =SUM(U17,T18) -> 0 | W18: 7 | AA18: =SUM((SUM(X18:Z18))+(COUNTIF(X18:Z18,"X")*10)) -> 0 | AB18: =SUM(AB17,AA18) -> 0 | AD18: 7 | AH18: =SUM((SUM(AE18:AG18))+(COUNTIF(AE18:AG18,"X")*10)) -> 0 | AI18: =SUM(AI17,AH18) -> 0
B19: 8 | F19: =SUM((SUM(C19:E19))+(COUNTIF(C19:E19,"X")*10)) -> 0 | G19: =SUM(G18,F19) -> 0 | I19: 8 | M19: =SUM((SUM(J19:L19))+(COUNTIF(J19:L19,"X")*10)) -> 0 | N19: =SUM(N18,M19) -> 0 | P19: 8 | T19: =SUM((SUM(Q19:S19))+(COUNTIF(Q19:S19,"X")*10)) -> 0 | U19: =SUM(U18,T19) -> 0 | W19: 8 | AA19: =SUM((SUM(X19:Z19))+(COUNTIF(X19:Z19,"X")*10)) -> 0 | AB19: =SUM(AB18,AA19) -> 0 | AD19: 8 | AH19: =SUM((SUM(AE19:AG19))+(COUNTIF(AE19:AG19,"X")*10)) -> 0 | AI19: =SUM(AI18,AH19) -> 0
B20: 9 | F20: =SUM((SUM(C20:E20))+(COUNTIF(C20:E20,"X")*10)) -> 0 | G20: =SUM(G19,F20) -> 0 | I20: 9 | M20: =SUM((SUM(J20:L20))+(COUNTIF(J20:L20,"X")*10)) -> 0 | N20: =SUM(N19,M20) -> 0 | P20: 9 | T20: =SUM((SUM(Q20:S20))+(COUNTIF(Q20:S20,"X")*10)) -> 0 | U20: =SUM(U19,T20) -> 0 | W20: 9 | AA20: =SUM((SUM(X20:Z20))+(COUNTIF(X20:Z20,"X")*10)) -> 0 | AB20: =SUM(AB19,AA20) -> 0 | AD20: 9 | AH20: =SUM((SUM(AE20:AG20))+(COUNTIF(AE20:AG20,"X")*10)) -> 0 | AI20: =SUM(AI19,AH20) -> 0
B21: 10 | F21: =SUM(SUM(C21:E21))+(COUNTIF(C21:E21,"X")*10) -> 0 | G21: =SUM(G20,F21) -> 0 | I21: 10 | M21: =SUM((SUM(J21:L21))+(COUNTIF(J21:L21,"X")*10)) -> 0 | N21: =SUM(N20,M21) -> 0 | P21: 10 | T21: =SUM((SUM(Q21:S21))+(COUNTIF(Q21:S21,"X")*10)) -> 0 | U21: =SUM(U20,T21) -> 0 | W21: 10 | AA21: =SUM((SUM(X21:Z21))+(COUNTIF(X21:Z21,"X")*10)) -> 0 | AB21: =SUM(AB20,AA21) -> 0 | AD21: 10 | AH21: =SUM((SUM(AE21:AG21))+(COUNTIF(AE21:AG21,"X")*10)) -> 0 | AI21: =SUM(AI20,AH21) -> 0
B22: Totaal: | G22: =G21 -> 0 | I22: Totaal: | N22: =N21 -> 0 | P22: Totaal: | U22: =U21 -> 0 | W22: Totaal: | AB22: =AB21 -> 0 | AD22: Totaal: | AI22: =AI21 -> 0
B24: Aantal 10: | G24: =COUNTIF(C12:E21,10) -> 0 | I24: Aantal 10: | N24: =COUNTIF(J12:L21,10) -> 0 | P24: Aantal 10: | U24: =COUNTIF(Q12:S21,10) -> 0 | W24: Aantal 10: | AB24: =COUNTIF(X12:Z21,10) -> 0 | AD24: Aantal 10: | AI24: =COUNTIF(AE12:AG21,10) -> 0
B25: Aantal X: | G25: =COUNTIF(C12:E21,"x") -> 0 | I25: Aantal X: | N25: =COUNTIF(J12:L21,"x") -> 0 | P25: Aantal X: | U25: =COUNTIF(Q12:S21,"x") -> 0 | W25: Aantal X: | AB25: =COUNTIF(X12:Z21,"x") -> 0 | AD25: Aantal X: | AI25: =COUNTIF(AE12:AG21,"x") -> 0
B26: Pijl-gemiddelde: | G26: =G22/30 -> 0 | I26: Pijl-gemiddelde: | N26: =N22/30 -> 0 | P26: Pijl-gemiddelde: | U26: =U22/30 -> 0 | W26: Pijl-gemiddelde: | AB26: =AB22/30 -> 0 | AD26: Pijl-gemiddelde: | AI26: =AI22/30 -> 0
B27: Set-gemiddelde: | G27: =SUM(SUM(F12:F21)/10) -> 0 | I27: Set-gemiddelde: | N27: =SUM(SUM(M12:M21)/10) -> 0 | P27: Set-gemiddelde: | U27: =SUM(SUM(T12:T21)/10) -> 0 | W27: Set-gemiddelde: | AB27: =SUM(SUM(AA12:AA21)/10) -> 0 | AD27: Set-gemiddelde: | AI27: =SUM(SUM(AH12:AH21)/10) -> 0
B29: 6 | I29: 7 | P29: 8 | W29: 9 | AD29: 10
B30: Datum: | I30: Datum: | P30: Datum: | W30: Datum: | AD30: Datum:
B31: Naam: | I31: Naam: | P31: Naam: | W31: Naam: | AD31: Naam:
B32: Discipline: | I32: Discipline: | P32: Discipline: | W32: Discipline: | AD32: Discipline:
B33: Plaats: | I33: Plaats: | P33: Plaats: | W33: Plaats: | AD33: Plaats:
B34: Locatie: | I34: Locatie: | P34: Locatie: | W34: Locatie: | AD34: Locatie:
B35: Afstand: | I35: Afstand: | P35: Afstand: | W35: Afstand: | AD35: Afstand:
B36: Blazoen: | I36: Blazoen: | P36: Blazoen: | W36: Blazoen: | AD36: Blazoen:
B37: Tegenstander: | I37: Tegenstander: | P37: Tegenstander: | W37: Tegenstander: | AD37: Tegenstander:
B39: 1 | F39: =SUM((SUM(C39:E39))+(COUNTIF(C39:E39,"X")*10)) -> 0 | G39: =F39 -> 0 | I39: 1 | M39: =SUM((SUM(J39:L39))+(COUNTIF(J39:L39,"X")*10)) -> 0 | N39: =M39 -> 0 | P39: 1 | T39: =SUM((SUM(Q39:S39))+(COUNTIF(Q39:S39,"X")*10)) -> 0 | U39: =T39 -> 0 | W39: 1 | AA39: =SUM((SUM(X39:Z39))+(COUNTIF(X39:Z39,"X")*10)) -> 0 | AB39: =AA39 -> 0 | AD39: 1 | AH39: =SUM((SUM(AE39:AG39))+(COUNTIF(AE39:AG39,"X")*10)) -> 0 | AI39: =AH39 -> 0
B40: 2 | F40: =SUM((SUM(C40:E40))+(COUNTIF(C40:E40,"X")*10)) -> 0 | G40: =SUM(G39,F40) -> 0 | I40: 2 | M40: =SUM((SUM(J40:L40))+(COUNTIF(J40:L40,"X")*10)) -> 0 | N40: =SUM(N39,M40) -> 0 | P40: 2 | T40: =SUM((SUM(Q40:S40))+(COUNTIF(Q40:S40,"X")*10)) -> 0 | U40: =SUM(U39,T40) -> 0 | W40: 2 | AA40: =SUM((SUM(X40:Z40))+(COUNTIF(X40:Z40,"X")*10)) -> 0 | AB40: =SUM(AB39,AA40) -> 0 | AD40: 2 | AH40: =SUM((SUM(AE40:AG40))+(COUNTIF(AE40:AG40,"X")*10)) -> 0 | AI40: =SUM(AI39,AH40) -> 0
B41: 3 | F41: =SUM((SUM(C41:E41))+(COUNTIF(C41:E41,"X")*10)) -> 0 | G41: =SUM(G40,F41) -> 0 | I41: 3 | M41: =SUM((SUM(J41:L41))+(COUNTIF(J41:L41,"X")*10)) -> 0 | N41: =SUM(N40,M41) -> 0 | P41: 3 | T41: =SUM((SUM(Q41:S41))+(COUNTIF(Q41:S41,"X")*10)) -> 0 | U41: =SUM(U40,T41) -> 0 | W41: 3 | AA41: =SUM((SUM(X41:Z41))+(COUNTIF(X41:Z41,"X")*10)) -> 0 | AB41: =SUM(AB40,AA41) -> 0 | AD41: 3 | AH41: =SUM((SUM(AE41:AG41))+(COUNTIF(AE41:AG41,"X")*10)) -> 0 | AI41: =SUM(AI40,AH41) -> 0
B42: 4 | F42: =SUM((SUM(C42:E42))+(COUNTIF(C42:E42,"X")*10)) -> 0 | G42: =SUM(G41,F42) -> 0 | I42: 4 | M42: =SUM((SUM(J42:L42))+(COUNTIF(J42:L42,"X")*10)) -> 0 | N42: =SUM(N41,M42) -> 0 | P42: 4 | T42: =SUM((SUM(Q42:S42))+(COUNTIF(Q42:S42,"X")*10)) -> 0 | U42: =SUM(U41,T42) -> 0 | W42: 4 | AA42: =SUM((SUM(X42:Z42))+(COUNTIF(X42:Z42,"X")*10)) -> 0 | AB42: =SUM(AB41,AA42) -> 0 | AD42: 4 | AH42: =SUM((SUM(AE42:AG42))+(COUNTIF(AE42:AG42,"X")*10)) -> 0 | AI42: =SUM(AI41,AH42) -> 0
B43: 5 | F43: =SUM((SUM(C43:E43))+(COUNTIF(C43:E43,"X")*10)) -> 0 | G43: =SUM(G42,F43) -> 0 | I43: 5 | M43: =SUM((SUM(J43:L43))+(COUNTIF(J43:L43,"X")*10)) -> 0 | N43: =SUM(N42,M43) -> 0 | P43: 5 | T43: =SUM((SUM(Q43:S43))+(COUNTIF(Q43:S43,"X")*10)) -> 0 | U43: =SUM(U42,T43) -> 0 | W43: 5 | AA43: =SUM((SUM(X43:Z43))+(COUNTIF(X43:Z43,"X")*10)) -> 0 | AB43: =SUM(AB42,AA43) -> 0 | AD43: 5 | AH43: =SUM((SUM(AE43:AG43))+(COUNTIF(AE43:AG43,"X")*10)) -> 0 | AI43: =SUM(AI42,AH43) -> 0
B44: 6 | F44: =SUM((SUM(C44:E44))+(COUNTIF(C44:E44,"X")*10)) -> 0 | G44: =SUM(G43,F44) -> 0 | I44: 6 | M44: =SUM((SUM(J44:L44))+(COUNTIF(J44:L44,"X")*10)) -> 0 | N44: =SUM(N43,M44) -> 0 | P44: 6 | T44: =SUM((SUM(Q44:S44))+(COUNTIF(Q44:S44,"X")*10)) -> 0 | U44: =SUM(U43,T44) -> 0 | W44: 6 | AA44: =SUM((SUM(X44:Z44))+(COUNTIF(X44:Z44,"X")*10)) -> 0 | AB44: =SUM(AB43,AA44) -> 0 | AD44: 6 | AH44: =SUM((SUM(AE44:AG44))+(COUNTIF(AE44:AG44,"X")*10)) -> 0 | AI44: =SUM(AI43,AH44) -> 0
B45: 7 | F45: =SUM((SUM(C45:E45))+(COUNTIF(C45:E45,"X")*10)) -> 0 | G45: =SUM(G44,F45) -> 0 | I45: 7 | M45: =SUM((SUM(J45:L45))+(COUNTIF(J45:L45,"X")*10)) -> 0 | N45: =SUM(N44,M45) -> 0 | P45: 7 | T45: =SUM((SUM(Q45:S45))+(COUNTIF(Q45:S45,"X")*10)) -> 0 | U45: =SUM(U44,T45) -> 0 | W45: 7 | AA45: =SUM((SUM(X45:Z45))+(COUNTIF(X45:Z45,"X")*10)) -> 0 | AB45: =SUM(AB44,AA45) -> 0 | AD45: 7 | AH45: =SUM((SUM(AE45:AG45))+(COUNTIF(AE45:AG45,"X")*10)) -> 0 | AI45: =SUM(AI44,AH45) -> 0
B46: 8 | F46: =SUM((SUM(C46:E46))+(COUNTIF(C46:E46,"X")*10)) -> 0 | G46: =SUM(G45,F46) -> 0 | I46: 8 | M46: =SUM((SUM(J46:L46))+(COUNTIF(J46:L46,"X")*10)) -> 0 | N46: =SUM(N45,M46) -> 0 | P46: 8 | T46: =SUM((SUM(Q46:S46))+(COUNTIF(Q46:S46,"X")*10)) -> 0 | U46: =SUM(U45,T46) -> 0 | W46: 8 | AA46: =SUM((SUM(X46:Z46))+(COUNTIF(X46:Z46,"X")*10)) -> 0 | AB46: =SUM(AB45,AA46) -> 0 | AD46: 8 | AH46: =SUM((SUM(AE46:AG46))+(COUNTIF(AE46:AG46,"X")*10)) -> 0 | AI46: =SUM(AI45,AH46) -> 0
B47: 9 | F47: =SUM((SUM(C47:E47))+(COUNTIF(C47:E47,"X")*10)) -> 0 | G47: =SUM(G46,F47) -> 0 | I47: 9 | M47: =SUM((SUM(J47:L47))+(COUNTIF(J47:L47,"X")*10)) -> 0 | N47: =SUM(N46,M47) -> 0 | P47: 9 | T47: =SUM((SUM(Q47:S47))+(COUNTIF(Q47:S47,"X")*10)) -> 0 | U47: =SUM(U46,T47) -> 0 | W47: 9 | AA47: =SUM((SUM(X47:Z47))+(COUNTIF(X47:Z47,"X")*10)) -> 0 | AB47: =SUM(AB46,AA47) -> 0 | AD47: 9 | AH47: =SUM((SUM(AE47:AG47))+(COUNTIF(AE47:AG47,"X")*10)) -> 0 | AI47: =SUM(AI46,AH47) -> 0
B48: 10 | F48: =SUM((SUM(C48:E48))+(COUNTIF(C48:E48,"X")*10)) -> 0 | G48: =SUM(G47,F48) -> 0 | I48: 10 | M48: =SUM((SUM(J48:L48))+(COUNTIF(J48:L48,"X")*10)) -> 0 | N48: =SUM(N47,M48) -> 0 | P48: 10 | T48: =SUM((SUM(Q48:S48))+(COUNTIF(Q48:S48,"X")*10)) -> 0 | U48: =SUM(U47,T48) -> 0 | W48: 10 | AA48: =SUM((SUM(X48:Z48))+(COUNTIF(X48:Z48,"X")*10)) -> 0 | AB48: =SUM(AB47,AA48) -> 0 | AD48: 10 | AH48: =SUM((SUM(AE48:AG48))+(COUNTIF(AE48:AG48,"X")*10)) -> 0 | AI48: =SUM(AI47,AH48) -> 0
B49: Totaal: | G49: =G48 -> 0 | I49: Totaal: | N49: =N48 -> 0 | P49: Totaal: | U49: =U48 -> 0 | W49: Totaal: | AB49: =AB48 -> 0 | AD49: Totaal: | AI49: =AI48 -> 0
B51: Aantal 10: | G51: =COUNTIF(C39:E48,10) -> 0 | I51: Aantal 10: | N51: =COUNTIF(J39:L48,10) -> 0 | P51: Aantal 10: | U51: =COUNTIF(Q39:S48,10) -> 0 | W51: Aantal 10: | AB51: =COUNTIF(X39:Z48,10) -> 0 | AD51: Aantal 10: | AI51: =COUNTIF(AE39:AG48,10) -> 0
B52: Aantal X: | G52: =COUNTIF(C39:E48,"x") -> 0 | I52: Aantal X: | N52: =COUNTIF(J39:L48,"x") -> 0 | P52: Aantal X: | U52: =COUNTIF(Q39:S48,"x") -> 0 | W52: Aantal X: | AB52: =COUNTIF(X39:Z48,"x") -> 0 | AD52: Aantal X: | AI52: =COUNTIF(AE39:AG48,"x") -> 0
B53: Pijl-gemiddelde: | G53: =G49/30 -> 0 | I53: Pijl-gemiddelde: | N53: =N49/30 -> 0 | P53: Pijl-gemiddelde: | U53: =U49/30 -> 0 | W53: Pijl-gemiddelde: | AB53: =AB49/30 -> 0 | AD53: Pijl-gemiddelde: | AI53: =AI49/30 -> 0
B54: Set-gemiddelde: | G54: =SUM(SUM(F39:F48)/10) -> 0 | I54: Set-gemiddelde: | N54: =SUM(SUM(M39:M48)/10) -> 0 | P54: Set-gemiddelde: | U54: =SUM(SUM(T39:T48)/10) -> 0 | W54: Set-gemiddelde: | AB54: =SUM(SUM(AA39:AA48)/10) -> 0 | AD54: Set-gemiddelde: | AI54: =SUM(SUM(AH39:AH48)/10) -> 0
B56: 11 | I56: 12 | P56: 13 | W56: 14 | AD56: 15
B57: Datum: | I57: Datum: | P57: Datum: | W57: Datum: | AD57: Datum:
B58: Naam: | I58: Naam: | P58: Naam: | W58: Naam: | AD58: Naam:
B59: Discipline: | I59: Discipline: | P59: Discipline: | W59: Discipline: | AD59: Discipline:
B60: Plaats: | I60: Plaats: | P60: Plaats: | W60: Plaats: | AD60: Plaats:
B61: Locatie: | I61: Locatie: | P61: Locatie: | W61: Locatie: | AD61: Locatie:
B62: Afstand: | I62: Afstand: | P62: Afstand: | W62: Afstand: | AD62: Afstand:
B63: Blazoen: | I63: Blazoen: | P63: Blazoen: | W63: Blazoen: | AD63: Blazoen:
B64: Tegenstander: | I64: Tegenstander: | P64: Tegenstander: | W64: Tegenstander: | AD64: Tegenstander:
B66: 1 | F66: =SUM((SUM(C66:E66))+(COUNTIF(C66:E66,"X")*10)) -> 0 | G66: =F66 -> 0 | I66: 1 | M66: =SUM((SUM(J66:L66))+(COUNTIF(J66:L66,"X")*10)) -> 0 | N66: =M66 -> 0 | P66: 1 | T66: =SUM((SUM(Q66:S66))+(COUNTIF(Q66:S66,"X")*10)) -> 0 | U66: =T66 -> 0 | W66: 1 | AA66: =SUM((SUM(X66:Z66))+(COUNTIF(X66:Z66,"X")*10)) -> 0 | AB66: =AA66 -> 0 | AD66: 1 | AH66: =SUM((SUM(AE66:AG66))+(COUNTIF(AE66:AG66,"X")*10)) -> 0 | AI66: =AH66 -> 0
B67: 2 | F67: =SUM((SUM(C67:E67))+(COUNTIF(C67:E67,"X")*10)) -> 0 | G67: =SUM(G66,F67) -> 0 | I67: 2 | M67: =SUM((SUM(J67:L67))+(COUNTIF(J67:L67,"X")*10)) -> 0 | N67: =SUM(N66,M67) -> 0 | P67: 2 | T67: =SUM((SUM(Q67:S67))+(COUNTIF(Q67:S67,"X")*10)) -> 0 | U67: =SUM(U66,T67) -> 0 | W67: 2 | AA67: =SUM((SUM(X67:Z67))+(COUNTIF(X67:Z67,"X")*10)) -> 0 | AB67: =SUM(AB66,AA67) -> 0 | AD67: 2 | AH67: =SUM((SUM(AE67:AG67))+(COUNTIF(AE67:AG67,"X")*10)) -> 0 | AI67: =SUM(AI66,AH67) -> 0
B68: 3 | F68: =SUM((SUM(C68:E68))+(COUNTIF(C68:E68,"X")*10)) -> 0 | G68: =SUM(G67,F68) -> 0 | I68: 3 | M68: =SUM((SUM(J68:L68))+(COUNTIF(J68:L68,"X")*10)) -> 0 | N68: =SUM(N67,M68) -> 0 | P68: 3 | T68: =SUM((SUM(Q68:S68))+(COUNTIF(Q68:S68,"X")*10)) -> 0 | U68: =SUM(U67,T68) -> 0 | W68: 3 | AA68: =SUM((SUM(X68:Z68))+(COUNTIF(X68:Z68,"X")*10)) -> 0 | AB68: =SUM(AB67,AA68) -> 0 | AD68: 3 | AH68: =SUM((SUM(AE68:AG68))+(COUNTIF(AE68:AG68,"X")*10)) -> 0 | AI68: =SUM(AI67,AH68) -> 0
B69: 4 | F69: =SUM((SUM(C69:E69))+(COUNTIF(C69:E69,"X")*10)) -> 0 | G69: =SUM(G68,F69) -> 0 | I69: 4 | M69: =SUM((SUM(J69:L69))+(COUNTIF(J69:L69,"X")*10)) -> 0 | N69: =SUM(N68,M69) -> 0 | P69: 4 | T69: =SUM((SUM(Q69:S69))+(COUNTIF(Q69:S69,"X")*10)) -> 0 | U69: =SUM(U68,T69) -> 0 | W69: 4 | AA69: =SUM((SUM(X69:Z69))+(COUNTIF(X69:Z69,"X")*10)) -> 0 | AB69: =SUM(AB68,AA69) -> 0 | AD69: 4 | AH69: =SUM((SUM(AE69:AG69))+(COUNTIF(AE69:AG69,"X")*10)) -> 0 | AI69: =SUM(AI68,AH69) -> 0
B70: 5 | F70: =SUM((SUM(C70:E70))+(COUNTIF(C70:E70,"X")*10)) -> 0 | G70: =SUM(G69,F70) -> 0 | I70: 5 | M70: =SUM((SUM(J70:L70))+(COUNTIF(J70:L70,"X")*10)) -> 0 | N70: =SUM(N69,M70) -> 0 | P70: 5 | T70: =SUM((SUM(Q70:S70))+(COUNTIF(Q70:S70,"X")*10)) -> 0 | U70: =SUM(U69,T70) -> 0 | W70: 5 | AA70: =SUM((SUM(X70:Z70))+(COUNTIF(X70:Z70,"X")*10)) -> 0 | AB70: =SUM(AB69,AA70) -> 0 | AD70: 5 | AH70: =SUM((SUM(AE70:AG70))+(COUNTIF(AE70:AG70,"X")*10)) -> 0 | AI70: =SUM(AI69,AH70) -> 0
B71: 6 | F71: =SUM((SUM(C71:E71))+(COUNTIF(C71:E71,"X")*10)) -> 0 | G71: =SUM(G70,F71) -> 0 | I71: 6 | M71: =SUM((SUM(J71:L71))+(COUNTIF(J71:L71,"X")*10)) -> 0 | N71: =SUM(N70,M71) -> 0 | P71: 6 | T71: =SUM((SUM(Q71:S71))+(COUNTIF(Q71:S71,"X")*10)) -> 0 | U71: =SUM(U70,T71) -> 0 | W71: 6 | AA71: =SUM((SUM(X71:Z71))+(COUNTIF(X71:Z71,"X")*10)) -> 0 | AB71: =SUM(AB70,AA71) -> 0 | AD71: 6 | AH71: =SUM((SUM(AE71:AG71))+(COUNTIF(AE71:AG71,"X")*10)) -> 0 | AI71: =SUM(AI70,AH71) -> 0
B72: 7 | F72: =SUM((SUM(C72:E72))+(COUNTIF(C72:E72,"X")*10)) -> 0 | G72: =SUM(G71,F72) -> 0 | I72: 7 | M72: =SUM((SUM(J72:L72))+(COUNTIF(J72:L72,"X")*10)) -> 0 | N72: =SUM(N71,M72) -> 0 | P72: 7 | T72: =SUM((SUM(Q72:S72))+(COUNTIF(Q72:S72,"X")*10)) -> 0 | U72: =SUM(U71,T72) -> 0 | W72: 7 | AA72: =SUM((SUM(X72:Z72))+(COUNTIF(X72:Z72,"X")*10)) -> 0 | AB72: =SUM(AB71,AA72) -> 0 | AD72: 7 | AH72: =SUM((SUM(AE72:AG72))+(COUNTIF(AE72:AG72,"X")*10)) -> 0 | AI72: =SUM(AI71,AH72) -> 0
B73: 8 | F73: =SUM((SUM(C73:E73))+(COUNTIF(C73:E73,"X")*10)) -> 0 | G73: =SUM(G72,F73) -> 0 | I73: 8 | M73: =SUM((SUM(J73:L73))+(COUNTIF(J73:L73,"X")*10)) -> 0 | N73: =SUM(N72,M73) -> 0 | P73: 8 | T73: =SUM((SUM(Q73:S73))+(COUNTIF(Q73:S73,"X")*10)) -> 0 | U73: =SUM(U72,T73) -> 0 | W73: 8 | AA73: =SUM((SUM(X73:Z73))+(COUNTIF(X73:Z73,"X")*10)) -> 0 | AB73: =SUM(AB72,AA73) -> 0 | AD73: 8 | AH73: =SUM((SUM(AE73:AG73))+(COUNTIF(AE73:AG73,"X")*10)) -> 0 | AI73: =SUM(AI72,AH73) -> 0
B74: 9 | F74: =SUM((SUM(C74:E74))+(COUNTIF(C74:E74,"X")*10)) -> 0 | G74: =SUM(G73,F74) -> 0 | I74: 9 | M74: =SUM((SUM(J74:L74))+(COUNTIF(J74:L74,"X")*10)) -> 0 | N74: =SUM(N73,M74) -> 0 | P74: 9 | T74: =SUM((SUM(Q74:S74))+(COUNTIF(Q74:S74,"X")*10)) -> 0 | U74: =SUM(U73,T74) -> 0 | W74: 9 | AA74: =SUM((SUM(X74:Z74))+(COUNTIF(X74:Z74,"X")*10)) -> 0 | AB74: =SUM(AB73,AA74) -> 0 | AD74: 9 | AH74: =SUM((SUM(AE74:AG74))+(COUNTIF(AE74:AG74,"X")*10)) -> 0 | AI74: =SUM(AI73,AH74) -> 0
B75: 10 | F75: =SUM((SUM(C75:E75))+(COUNTIF(C75:E75,"X")*10)) -> 0 | G75: =SUM(G74,F75) -> 0 | I75: 10 | M75: =SUM((SUM(J75:L75))+(COUNTIF(J75:L75,"X")*10)) -> 0 | N75: =SUM(N74,M75) -> 0 | P75: 10 | T75: =SUM((SUM(Q75:S75))+(COUNTIF(Q75:S75,"X")*10)) -> 0 | U75: =SUM(U74,T75) -> 0 | W75: 10 | AA75: =SUM((SUM(X75:Z75))+(COUNTIF(X75:Z75,"X")*10)) -> 0 | AB75: =SUM(AB74,AA75) -> 0 | AD75: 10 | AH75: =SUM((SUM(AE75:AG75))+(COUNTIF(AE75:AG75,"X")*10)) -> 0 | AI75: =SUM(AI74,AH75) -> 0
B76: Totaal: | G76: =G75 -> 0 | I76: Totaal: | N76: =N75 -> 0 | P76: Totaal: | U76: =U75 -> 0 | W76: Totaal: | AB76: =AB75 -> 0 | AD76: Totaal: | AI76: =AI75 -> 0
B78: Aantal 10: | G78: =COUNTIF(C66:E75,10) -> 0 | I78: Aantal 10: | N78: =COUNTIF(J66:L75,10) -> 0 | P78: Aantal 10: | U78: =COUNTIF(Q66:S75,10) -> 0 | W78: Aantal 10: | AB78: =COUNTIF(X66:Z75,10) -> 0 | AD78: Aantal 10: | AI78: =COUNTIF(AE66:AG75,10) -> 0
B79: Aantal X: | G79: =COUNTIF(C66:E75,"x") -> 0 | I79: Aantal X: | N79: =COUNTIF(J66:L75,"x") -> 0 | P79: Aantal X: | U79: =COUNTIF(Q66:S75,"x") -> 0 | W79: Aantal X: | AB79: =COUNTIF(X66:Z75,"x") -> 0 | AD79: Aantal X: | AI79: =COUNTIF(AE66:AG75,"x") -> 0
B80: Pijl-gemiddelde: | G80: =G76/30 -> 0 | I80: Pijl-gemiddelde: | N80: =N76/30 -> 0 | P80: Pijl-gemiddelde: | U80: =U76/30 -> 0 | W80: Pijl-gemiddelde: | AB80: =AB76/30 -> 0 | AD80: Pijl-gemiddelde: | AI80: =AI76/30 -> 0
B81: Set-gemiddelde: | G81: =SUM(SUM(F66:F75)/10) -> 0 | I81: Set-gemiddelde: | N81: =SUM(SUM(M66:M75)/10) -> 0 | P81: Set-gemiddelde: | U81: =SUM(SUM(T66:T75)/10) -> 0 | W81: Set-gemiddelde: | AB81: =SUM(SUM(AA66:AA75)/10) -> 0 | AD81: Set-gemiddelde: | AI81: =SUM(SUM(AH66:AH75)/10) -> 0
B83: 16 | I83: 17 | P83: 18 | W83: 19 | AD83: 20
B84: Datum: | I84: Datum: | P84: Datum: | W84: Datum: | AD84: Datum:
B85: Naam: | I85: Naam: | P85: Naam: | W85: Naam: | AD85: Naam:
B86: Discipline: | I86: Discipline: | P86: Discipline: | W86: Discipline: | AD86: Discipline:
B87: Plaats: | I87: Plaats: | P87: Plaats: | W87: Plaats: | AD87: Plaats:
B88: Locatie: | I88: Locatie: | P88: Locatie: | W88: Locatie: | AD88: Locatie:
B89: Afstand: | I89: Afstand: | P89: Afstand: | W89: Afstand: | AD89: Afstand:
B90: Blazoen: | I90: Blazoen: | P90: Blazoen: | W90: Blazoen: | AD90: Blazoen:
B91: Tegenstander: | I91: Tegenstander: | P91: Tegenstander: | W91: Tegenstander: | AD91: Tegenstander:
B93: 1 | F93: =SUM((SUM(C93:E93))+(COUNTIF(C93:E93,"X")*10)) -> 0 | G93: =F93 -> 0 | I93: 1 | M93: =SUM((SUM(J93:L93))+(COUNTIF(J93:L93,"X")*10)) -> 0 | N93: =M93 -> 0 | P93: 1 | T93: =SUM((SUM(Q93:S93))+(COUNTIF(Q93:S93,"X")*10)) -> 0 | U93: =T93 -> 0 | W93: 1 | AA93: =SUM((SUM(X93:Z93))+(COUNTIF(X93:Z93,"X")*10)) -> 0 | AB93: =AA93 -> 0 | AD93: 1 | AH93: =SUM((SUM(AE93:AG93))+(COUNTIF(AE93:AG93,"X")*10)) -> 0 | AI93: =AH93 -> 0
B94: 2 | F94: =SUM((SUM(C94:E94))+(COUNTIF(C94:E94,"X")*10)) -> 0 | G94: =SUM(G93,F94) -> 0 | I94: 2 | M94: =SUM((SUM(J94:L94))+(COUNTIF(J94:L94,"X")*10)) -> 0 | N94: =SUM(N93,M94) -> 0 | P94: 2 | T94: =SUM((SUM(Q94:S94))+(COUNTIF(Q94:S94,"X")*10)) -> 0 | U94: =SUM(U93,T94) -> 0 | W94: 2 | AA94: =SUM((SUM(X94:Z94))+(COUNTIF(X94:Z94,"X")*10)) -> 0 | AB94: =SUM(AB93,AA94) -> 0 | AD94: 2 | AH94: =SUM((SUM(AE94:AG94))+(COUNTIF(AE94:AG94,"X")*10)) -> 0 | AI94: =SUM(AI93,AH94) -> 0
B95: 3 | F95: =SUM((SUM(C95:E95))+(COUNTIF(C95:E95,"X")*10)) -> 0 | G95: =SUM(G94,F95) -> 0 | I95: 3 | M95: =SUM((SUM(J95:L95))+(COUNTIF(J95:L95,"X")*10)) -> 0 | N95: =SUM(N94,M95) -> 0 | P95: 3 | T95: =SUM((SUM(Q95:S95))+(COUNTIF(Q95:S95,"X")*10)) -> 0 | U95: =SUM(U94,T95) -> 0 | W95: 3 | AA95: =SUM((SUM(X95:Z95))+(COUNTIF(X95:Z95,"X")*10)) -> 0 | AB95: =SUM(AB94,AA95) -> 0 | AD95: 3 | AH95: =SUM((SUM(AE95:AG95))+(COUNTIF(AE95:AG95,"X")*10)) -> 0 | AI95: =SUM(AI94,AH95) -> 0
B96: 4 | F96: =SUM((SUM(C96:E96))+(COUNTIF(C96:E96,"X")*10)) -> 0 | G96: =SUM(G95,F96) -> 0 | I96: 4 | M96: =SUM((SUM(J96:L96))+(COUNTIF(J96:L96,"X")*10)) -> 0 | N96: =SUM(N95,M96) -> 0 | P96: 4 | T96: =SUM((SUM(Q96:S96))+(COUNTIF(Q96:S96,"X")*10)) -> 0 | U96: =SUM(U95,T96) -> 0 | W96: 4 | AA96: =SUM((SUM(X96:Z96))+(COUNTIF(X96:Z96,"X")*10)) -> 0 | AB96: =SUM(AB95,AA96) -> 0 | AD96: 4 | AH96: =SUM((SUM(AE96:AG96))+(COUNTIF(AE96:AG96,"X")*10)) -> 0 | AI96: =SUM(AI95,AH96) -> 0
B97: 5 | F97: =SUM((SUM(C97:E97))+(COUNTIF(C97:E97,"X")*10)) -> 0 | G97: =SUM(G96,F97) -> 0 | I97: 5 | M97: =SUM((SUM(J97:L97))+(COUNTIF(J97:L97,"X")*10)) -> 0 | N97: =SUM(N96,M97) -> 0 | P97: 5 | T97: =SUM((SUM(Q97:S97))+(COUNTIF(Q97:S97,"X")*10)) -> 0 | U97: =SUM(U96,T97) -> 0 | W97: 5 | AA97: =SUM((SUM(X97:Z97))+(COUNTIF(X97:Z97,"X")*10)) -> 0 | AB97: =SUM(AB96,AA97) -> 0 | AD97: 5 | AH97: =SUM((SUM(AE97:AG97))+(COUNTIF(AE97:AG97,"X")*10)) -> 0 | AI97: =SUM(AI96,AH97) -> 0
B98: 6 | F98: =SUM((SUM(C98:E98))+(COUNTIF(C98:E98,"X")*10)) -> 0 | G98: =SUM(G97,F98) -> 0 | I98: 6 | M98: =SUM((SUM(J98:L98))+(COUNTIF(J98:L98,"X")*10)) -> 0 | N98: =SUM(N97,M98) -> 0 | P98: 6 | T98: =SUM((SUM(Q98:S98))+(COUNTIF(Q98:S98,"X")*10)) -> 0 | U98: =SUM(U97,T98) -> 0 | W98: 6 | AA98: =SUM((SUM(X98:Z98))+(COUNTIF(X98:Z98,"X")*10)) -> 0 | AB98: =SUM(AB97,AA98) -> 0 | AD98: 6 | AH98: =SUM((SUM(AE98:AG98))+(COUNTIF(AE98:AG98,"X")*10)) -> 0 | AI98: =SUM(AI97,AH98) -> 0
B99: 7 | F99: =SUM((SUM(C99:E99))+(COUNTIF(C99:E99,"X")*10)) -> 0 | G99: =SUM(G98,F99) -> 0 | I99: 7 | M99: =SUM((SUM(J99:L99))+(COUNTIF(J99:L99,"X")*10)) -> 0 | N99: =SUM(N98,M99) -> 0 | P99: 7 | T99: =SUM((SUM(Q99:S99))+(COUNTIF(Q99:S99,"X")*10)) -> 0 | U99: =SUM(U98,T99) -> 0 | W99: 7 | AA99: =SUM((SUM(X99:Z99))+(COUNTIF(X99:Z99,"X")*10)) -> 0 | AB99: =SUM(AB98,AA99) -> 0 | AD99: 7 | AH99: =SUM((SUM(AE99:AG99))+(COUNTIF(AE99:AG99,"X")*10)) -> 0 | AI99: =SUM(AI98,AH99) -> 0
B100: 8 | F100: =SUM((SUM(C100:E100))+(COUNTIF(C100:E100,"X")*10)) -> 0 | G100: =SUM(G99,F100) -> 0 | I100: 8 | M100: =SUM((SUM(J100:L100))+(COUNTIF(J100:L100,"X")*10)) -> 0 | N100: =SUM(N99,M100) -> 0 | P100: 8 | T100: =SUM((SUM(Q100:S100))+(COUNTIF(Q100:S100,"X")*10)) -> 0 | U100: =SUM(U99,T100) -> 0 | W100: 8 | AA100: =SUM((SUM(X100:Z100))+(COUNTIF(X100:Z100,"X")*10)) -> 0 | AB100: =SUM(AB99,AA100) -> 0 | AD100: 8 | AH100: =SUM((SUM(AE100:AG100))+(COUNTIF(AE100:AG100,"X")*10)) -> 0 | AI100: =SUM(AI99,AH100) -> 0
B101: 9 | F101: =SUM((SUM(C101:E101))+(COUNTIF(C101:E101,"X")*10)) -> 0 | G101: =SUM(G100,F101) -> 0 | I101: 9 | M101: =SUM((SUM(J101:L101))+(COUNTIF(J101:L101,"X")*10)) -> 0 | N101: =SUM(N100,M101) -> 0 | P101: 9 | T101: =SUM((SUM(Q101:S101))+(COUNTIF(Q101:S101,"X")*10)) -> 0 | U101: =SUM(U100,T101) -> 0 | W101: 9 | AA101: =SUM((SUM(X101:Z101))+(COUNTIF(X101:Z101,"X")*10)) -> 0 | AB101: =SUM(AB100,AA101) -> 0 | AD101: 9 | AH101: =SUM((SUM(AE101:AG101))+(COUNTIF(AE101:AG101,"X")*10)) -> 0 | AI101: =SUM(AI100,AH101) -> 0
B102: 10 | F102: =SUM((SUM(C102:E102))+(COUNTIF(C102:E102,"X")*10)) -> 0 | G102: =SUM(G101,F102) -> 0 | I102: 10 | M102: =SUM((SUM(J102:L102))+(COUNTIF(J102:L102,"X")*10)) -> 0 | N102: =SUM(N101,M102) -> 0 | P102: 10 | T102: =SUM((SUM(Q102:S102))+(COUNTIF(Q102:S102,"X")*10)) -> 0 | U102: =SUM(U101,T102) -> 0 | W102: 10 | AA102: =SUM((SUM(X102:Z102))+(COUNTIF(X102:Z102,"X")*10)) -> 0 | AB102: =SUM(AB101,AA102) -> 0 | AD102: 10 | AH102: =SUM((SUM(AE102:AG102))+(COUNTIF(AE102:AG102,"X")*10)) -> 0 | AI102: =SUM(AI101,AH102) -> 0
B103: Totaal: | G103: =G102 -> 0 | I103: Totaal: | N103: =N102 -> 0 | P103: Totaal: | U103: =U102 -> 0 | W103: Totaal: | AB103: =AB102 -> 0 | AD103: Totaal: | AI103: =AI102 -> 0
B105: Aantal 10: | G105: =COUNTIF(C93:E102,10) -> 0 | I105: Aantal 10: | N105: =COUNTIF(J93:L102,10) -> 0 | P105: Aantal 10: | U105: =COUNTIF(Q93:S102,10) -> 0 | W105: Aantal 10: | AB105: =COUNTIF(X93:Z102,10) -> 0 | AD105: Aantal 10: | AI105: =COUNTIF(AE93:AG102,10) -> 0
B106: Aantal X: | G106: =COUNTIF(C93:E102,"x") -> 0 | I106: Aantal X: | N106: =COUNTIF(J93:L102,"x") -> 0 | P106: Aantal X: | U106: =COUNTIF(Q93:S102,"x") -> 0 | W106: Aantal X: | AB106: =COUNTIF(X93:Z102,"x") -> 0 | AD106: Aantal X: | AI106: =COUNTIF(AE93:AG102,"x") -> 0
B107: Pijl-gemiddelde: | G107: =G103/30 -> 0 | I107: Pijl-gemiddelde: | N107: =N103/30 -> 0 | P107: Pijl-gemiddelde: | U107: =U103/30 -> 0 | W107: Pijl-gemiddelde: | AB107: =AB103/30 -> 0 | AD107: Pijl-gemiddelde: | AI107: =AI103/30 -> 0
B108: Set-gemiddelde: | G108: =SUM(SUM(F93:F102)/10) -> 0 | I108: Set-gemiddelde: | N108: =SUM(SUM(M93:M102)/10) -> 0 | P108: Set-gemiddelde: | U108: =SUM(SUM(T93:T102)/10) -> 0 | W108: Set-gemiddelde: | AB108: =SUM(SUM(AA93:AA102)/10) -> 0 | AD108: Set-gemiddelde: | AI108: =SUM(SUM(AH93:AH102)/10) -> 0
B110: 21 | I110: 22 | P110: 23 | W110: 24 | AD110: 25
B111: Datum: | I111: Datum: | P111: Datum: | W111: Datum: | AD111: Datum:
B112: Naam: | I112: Naam: | P112: Naam: | W112: Naam: | AD112: Naam:
B113: Discipline: | I113: Discipline: | P113: Discipline: | W113: Discipline: | AD113: Discipline:
...

Sheet Berekeningen
A1: 0 | B1: =IF(Invullen!C12="","",COUNTIF(Invullen!C12:E21,0)) | C1: =IF(Invullen!J12="","",COUNTIF(Invullen!J12:L21,0)) | D1: =IF(Invullen!Q12="","",COUNTIF(Invullen!Q12:S21,0)) | E1: =IF(Invullen!X12="","",COUNTIF(Invullen!X12:Z21,0)) | F1: =IF(Invullen!AE12="","",COUNTIF(Invullen!AE12:AG21,0)) | G1: =IF(Invullen!C39="","",COUNTIF(Invullen!C39:E48,0)) | H1: =IF(Invullen!J39="","",COUNTIF(Invullen!J39:L48,0)) | I1: =IF(Invullen!Q39="","",COUNTIF(Invullen!Q39:S48,0)) | J1: =IF(Invullen!X39="","",COUNTIF(Invullen!X39:Z48,0)) | K1: =IF(Invullen!AE39="","",COUNTIF(Invullen!AE39:AG48,0)) | L1: =IF(Invullen!C66="","",COUNTIF(Invullen!C66:E75,0)) | M1: =IF(Invullen!J66="","",COUNTIF(Invullen!J66:L75,0)) | N1: =IF(Invullen!Q66="","",COUNTIF(Invullen!Q66:S75,0)) | O1: =IF(Invullen!X66="","",COUNTIF(Invullen!X66:Z75,0)) | P1: =IF(Invullen!AE66="","",COUNTIF(Invullen!AE66:AG75,0)) | Q1: =IF(Invullen!C93="","",COUNTIF(Invullen!C93:E102,0)) | R1: =IF(Invullen!J93="","",COUNTIF(Invullen!J93:L102,0)) | S1: =IF(Invullen!Q93="","",COUNTIF(Invullen!Q93:S102,0)) | T1: =IF(Invullen!X93="","",COUNTIF(Invullen!X93:Z102,0)) | U1: =IF(Invullen!AE93="","",COUNTIF(Invullen!AE93:AG102,0)) | V1: =IF(Invullen!C120="","",COUNTIF(Invullen!C120:E129,0)) | W1: =IF(Invullen!J120="","",COUNTIF(Invullen!J120:L129,0)) | X1: =IF(Invullen!Q120="","",COUNTIF(Invullen!Q120:S129,0)) | Y1: =IF(Invullen!X120="","",COUNTIF(Invullen!X120:Z129,0)) | Z1: =IF(Invullen!AE120="","",COUNTIF(Invullen!AE120:AG129,0)) | AA1: =IF(Invullen!C147="","",COUNTIF(Invullen!C147:E156,0)) | AB1: =IF(Invullen!J147="","",COUNTIF(Invullen!J147:L156,0)) | AC1: =IF(Invullen!Q147="","",COUNTIF(Invullen!Q147:S156,0)) | AD1: =IF(Invullen!X147="","",COUNTIF(Invullen!X147:Z156,0)) | AE1: =IF(Invullen!X174="","",COUNTIF(Invullen!AE147:AG156,0)) | AF1: =IF(Invullen!C174="","",COUNTIF(Invullen!C174:E183,0)) | AG1: =IF(Invullen!J174="","",COUNTIF(Invullen!J174:L183,0)) | AH1: =IF(Invullen!Q174="","",COUNTIF(Invullen!Q174:S183,0)) | AI1: =IF(Invullen!X174="","",COUNTIF(Invullen!X174:Z183,0)) | AJ1: =IF(Invullen!AE174="","",COUNTIF(Invullen!AE174:AG183,0)) | AK1: =SUM(B1:K1)/AM2 -> #DIV/0! | AL1: =SUM(B1:AJ1) -> 0 | AN1: =AL1/AM3 -> #DIV/0!
A2: 1 | B2: =IF(Invullen!C12="","",COUNTIF(Invullen!C12:E21,1)) | C2: =IF(Invullen!J12="","",COUNTIF(Invullen!J12:L21,1)) | D2: =IF(Invullen!Q12="","",COUNTIF(Invullen!Q12:S21,1)) | E2: =IF(Invullen!X12="","",COUNTIF(Invullen!X12:Z21,1)) | F2: =IF(Invullen!AE12="","",COUNTIF(Invullen!AE12:AG21,1)) | G2: =IF(Invullen!C39="","",COUNTIF(Invullen!C39:E48,1)) | H2: =IF(Invullen!J39="","",COUNTIF(Invullen!J39:L48,1)) | I2: =IF(Invullen!Q39="","",COUNTIF(Invullen!Q39:S48,1)) | J2: =IF(Invullen!X39="","",COUNTIF(Invullen!X39:Z48,1)) | K2: =IF(Invullen!AE39="","",COUNTIF(Invullen!AE39:AG48,1)) | L2: =IF(Invullen!C66="","",COUNTIF(Invullen!C66:E75,1)) | M2: =IF(Invullen!J66="","",COUNTIF(Invullen!J66:L75,1)) | N2: =IF(Invullen!Q66="","",COUNTIF(Invullen!Q66:S75,1)) | O2: =IF(Invullen!X66="","",COUNTIF(Invullen!X66:Z75,1)) | P2: =IF(Invullen!AE66="","",COUNTIF(Invullen!AE66:AG75,1)) | Q2: =IF(Invullen!C93="","",COUNTIF(Invullen!C93:E102,1)) | R2: =IF(Invullen!J93="","",COUNTIF(Invullen!J93:L102,1)) | S2: =IF(Invullen!Q93="","",COUNTIF(Invullen!Q93:S102,1)) | T2: =IF(Invullen!X93="","",COUNTIF(Invullen!X93:Z102,1)) | U2: =IF(Invullen!AE93="","",COUNTIF(Invullen!AE93:AG102,1)) | V2: =IF(Invullen!C120="","",COUNTIF(Invullen!C120:E129,1)) | W2: =IF(Invullen!J120="","",COUNTIF(Invullen!J120:L129,1)) | X2: =IF(Invullen!Q120="","",COUNTIF(Invullen!Q120:S129,1)) | Y2: =IF(Invullen!X120="","",COUNTIF(Invullen!X120:Z129,1)) | Z2: =IF(Invullen!AE120="","",COUNTIF(Invullen!AE120:AG129,1)) | AA2: =IF(Invullen!C147="","",COUNTIF(Invullen!C147:E156,1)) | AB2: =IF(Invullen!J147="","",COUNTIF(Invullen!J147:L156,1)) | AC2: =IF(Invullen!Q147="","",COUNTIF(Invullen!Q147:S156,1)) | AD2: =IF(Invullen!X147="","",COUNTIF(Invullen!X147:Z156,1)) | AF2: =IF(Invullen!C174="","",COUNTIF(Invullen!C174:E183,10)) | AG2: =IF(Invullen!J174="","",COUNTIF(Invullen!J174:L183,1)) | AH2: =IF(Invullen!Q174="","",COUNTIF(Invullen!Q174:S183,1)) | AI2: =IF(Invullen!X174="","",COUNTIF(Invullen!X174:Z183,1)) | AJ2: =IF(Invullen!AE174="","",COUNTIF(Invullen!AE174:AG183,1)) | AK2: =SUM(B2:K2)/AM2 -> #DIV/0! | AL2: =SUM(B2:AJ2) -> 0 | AM2: =SUM(35-COUNTBLANK(B1:AJ1)) -> 0 | AN2: =AL2/$AM3 -> #DIV/0!
A3: 2 | B3: =IF(Invullen!C12="","",COUNTIF(Invullen!C12:E21,2)) | C3: =IF(Invullen!J12="","",COUNTIF(Invullen!J12:L21,2)) | D3: =IF(Invullen!Q12="","",COUNTIF(Invullen!Q12:S21,2)) | E3: =IF(Invullen!X12="","",COUNTIF(Invullen!X12:Z21,2)) | F3: =IF(Invullen!AE12="","",COUNTIF(Invullen!AE12:AG21,2)) | G3: =IF(Invullen!C39="","",COUNTIF(Invullen!C39:E48,2)) | H3: =IF(Invullen!J39="","",COUNTIF(Invullen!J39:L48,2)) | I3: =IF(Invullen!Q39="","",COUNTIF(Invullen!Q39:S48,2)) | J3: =IF(Invullen!X39="","",COUNTIF(Invullen!X39:Z48,2)) | K3: =IF(Invullen!AE39="","",COUNTIF(Invullen!AE39:AG48,2)) | L3: =IF(Invullen!C66="","",COUNTIF(Invullen!C66:E75,2)) | M3: =IF(Invullen!J66="","",COUNTIF(Invullen!J66:L75,2)) | N3: =IF(Invullen!Q66="","",COUNTIF(Invullen!Q66:S75,2)) | O3: =IF(Invullen!X66="","",COUNTIF(Invullen!X66:Z75,2)) | P3: =IF(Invullen!AE66="","",COUNTIF(Invullen!AE66:AG75,2)) | Q3: =IF(Invullen!C93="","",COUNTIF(Invullen!C93:E102,2)) | R3: =IF(Invullen!J93="","",COUNTIF(Invullen!J93:L102,2)) | S3: =IF(Invullen!Q93="","",COUNTIF(Invullen!Q93:S102,2)) | T3: =IF(Invullen!X93="","",COUNTIF(Invullen!X93:Z102,2)) | U3: =IF(Invullen!AE93="","",COUNTIF(Invullen!AE93:AG102,2)) | V3: =IF(Invullen!C120="","",COUNTIF(Invullen!C120:E129,2)) | W3: =IF(Invullen!J120="","",COUNTIF(Invullen!J120:L129,2)) | X3: =IF(Invullen!Q120="","",COUNTIF(Invullen!Q120:S129,2)) | Y3: =IF(Invullen!X120="","",COUNTIF(Invullen!X120:Z129,2)) | Z3: =IF(Invullen!AE120="","",COUNTIF(Invullen!AE120:AG129,2)) | AA3: =IF(Invullen!C147="","",COUNTIF(Invullen!C147:E156,2)) | AB3: =IF(Invullen!J147="","",COUNTIF(Invullen!J147:L156,2)) | AC3: =IF(Invullen!Q147="","",COUNTIF(Invullen!Q147:S156,2)) | AD3: =IF(Invullen!X147="","",COUNTIF(Invullen!X147:Z156,2)) | AE3: =IF(Invullen!X174="","",COUNTIF(Invullen!AE147:AG156,2)) | AF3: =IF(Invullen!C174="","",COUNTIF(Invullen!C174:E183,2)) | AG3: =IF(Invullen!J174="","",COUNTIF(Invullen!J174:L183,2)) | AH3: =IF(Invullen!Q174="","",COUNTIF(Invullen!Q174:S183,2)) | AI3: =IF(Invullen!X174="","",COUNTIF(Invullen!X174:Z183,2)) | AJ3: =IF(Invullen!AE174="","",COUNTIF(Invullen!AE174:AG183,2)) | AK3: =SUM(B3:K3)/AM2 -> #DIV/0! | AL3: =SUM(B3:AJ3) -> 0 | AM3: =SUM(B1:AJ12) -> 0 | AN3: =AL3/$AM3 -> #DIV/0!
A4: 3 | B4: =IF(Invullen!C12="","",COUNTIF(Invullen!C12:E21,3)) | C4: =IF(Invullen!J12="","",COUNTIF(Invullen!J12:L21,3)) | D4: =IF(Invullen!Q12="","",COUNTIF(Invullen!Q12:S21,3)) | E4: =IF(Invullen!X12="","",COUNTIF(Invullen!X12:Z21,3)) | F4: =IF(Invullen!AE12="","",COUNTIF(Invullen!AE12:AG21,3)) | G4: =IF(Invullen!C39="","",COUNTIF(Invullen!C39:E48,3)) | H4: =IF(Invullen!J39="","",COUNTIF(Invullen!J39:L48,3)) | I4: =IF(Invullen!Q39="","",COUNTIF(Invullen!Q39:S48,3)) | J4: =IF(Invullen!X39="","",COUNTIF(Invullen!X39:Z48,3)) | K4: =IF(Invullen!AE39="","",COUNTIF(Invullen!AE39:AG48,3)) | L4: =IF(Invullen!C66="","",COUNTIF(Invullen!C66:E75,3)) | M4: =IF(Invullen!J66="","",COUNTIF(Invullen!J66:L75,3)) | N4: =IF(Invullen!Q66="","",COUNTIF(Invullen!Q66:S75,3)) | O4: =IF(Invullen!X66="","",COUNTIF(Invullen!X66:Z75,3)) | P4: =IF(Invullen!AE66="","",COUNTIF(Invullen!AE66:AG75,3)) | Q4: =IF(Invullen!C93="","",COUNTIF(Invullen!C93:E102,3)) | R4: =IF(Invullen!J93="","",COUNTIF(Invullen!J93:L102,3)) | S4: =IF(Invullen!Q93="","",COUNTIF(Invullen!Q93:S102,3)) | T4: =IF(Invullen!X93="","",COUNTIF(Invullen!X93:Z102,3)) | U4: =IF(Invullen!AE93="","",COUNTIF(Invullen!AE93:AG102,3)) | V4: =IF(Invullen!C120="","",COUNTIF(Invullen!C120:E129,3)) | W4: =IF(Invullen!J120="","",COUNTIF(Invullen!J120:L129,3)) | X4: =IF(Invullen!Q120="","",COUNTIF(Invullen!Q120:S129,3)) | Y4: =IF(Invullen!X120="","",COUNTIF(Invullen!X120:Z129,3)) | Z4: =IF(Invullen!AE120="","",COUNTIF(Invullen!AE120:AG129,3)) | AA4: =IF(Invullen!C147="","",COUNTIF(Invullen!C147:E156,3)) | AB4: =IF(Invullen!J147="","",COUNTIF(Invullen!J147:L156,3)) | AC4: =IF(Invullen!Q147="","",COUNTIF(Invullen!Q147:S156,3)) | AD4: =IF(Invullen!X147="","",COUNTIF(Invullen!X147:Z156,3)) | AE4: =IF(Invullen!X174="","",COUNTIF(Invullen!AE147:AG156,3)) | AF4: =IF(Invullen!C174="","",COUNTIF(Invullen!C174:E183,3)) | AG4: =IF(Invullen!J174="","",COUNTIF(Invullen!J174:L183,3)) | AH4: =IF(Invullen!Q174="","",COUNTIF(Invullen!Q174:S183,3)) | AI4: =IF(Invullen!X174="","",COUNTIF(Invullen!X174:Z183,3)) | AJ4: =IF(Invullen!AE174="","",COUNTIF(Invullen!AE174:AG183,3)) | AK4: =SUM(B4:K4)/AM2 -> #DIV/0! | AL4: =SUM(B4:AJ4) -> 0 | AN4: =AL4/$AM3 -> #DIV/0!
A5: 4 | B5: =IF(Invullen!C12="","",COUNTIF(Invullen!C12:E21,4)) | C5: =IF(Invullen!J12="","",COUNTIF(Invullen!J12:L21,4)) | D5: =IF(Invullen!Q12="","",COUNTIF(Invullen!Q12:S21,4)) | E5: =IF(Invullen!X12="","",COUNTIF(Invullen!X12:Z21,4)) | F5: =IF(Invullen!AE12="","",COUNTIF(Invullen!AE12:AG21,4)) | G5: =IF(Invullen!C39="","",COUNTIF(Invullen!C39:E48,4)) | H5: =IF(Invullen!J39="","",COUNTIF(Invullen!J39:L48,4)) | I5: =IF(Invullen!Q39="","",COUNTIF(Invullen!Q39:S48,4)) | J5: =IF(Invullen!X39="","",COUNTIF(Invullen!X39:Z48,4)) | K5: =IF(Invullen!AE39="","",COUNTIF(Invullen!AE39:AG48,4)) | L5: =IF(Invullen!C66="","",COUNTIF(Invullen!C66:E75,4)) | M5: =IF(Invullen!J66="","",COUNTIF(Invullen!J66:L75,4)) | N5: =IF(Invullen!Q66="","",COUNTIF(Invullen!Q66:S75,4)) | O5: =IF(Invullen!X66="","",COUNTIF(Invullen!X66:Z75,4)) | P5: =IF(Invullen!AE66="","",COUNTIF(Invullen!AE66:AG75,4)) | Q5: =IF(Invullen!C93="","",COUNTIF(Invullen!C93:E102,4)) | R5: =IF(Invullen!J93="","",COUNTIF(Invullen!J93:L102,4)) | S5: =IF(Invullen!Q93="","",COUNTIF(Invullen!Q93:S102,4)) | T5: =IF(Invullen!X93="","",COUNTIF(Invullen!X93:Z102,4)) | U5: =IF(Invullen!AE93="","",COUNTIF(Invullen!AE93:AG102,4)) | V5: =IF(Invullen!C120="","",COUNTIF(Invullen!C120:E129,4)) | W5: =IF(Invullen!J120="","",COUNTIF(Invullen!J120:L129,4)) | X5: =IF(Invullen!Q120="","",COUNTIF(Invullen!Q120:S129,4)) | Y5: =IF(Invullen!X120="","",COUNTIF(Invullen!X120:Z129,4)) | Z5: =IF(Invullen!AE120="","",COUNTIF(Invullen!AE120:AG129,4)) | AA5: =IF(Invullen!C147="","",COUNTIF(Invullen!C147:E156,4)) | AB5: =IF(Invullen!J147="","",COUNTIF(Invullen!J147:L156,4)) | AC5: =IF(Invullen!Q147="","",COUNTIF(Invullen!Q147:S156,4)) | AD5: =IF(Invullen!X147="","",COUNTIF(Invullen!X147:Z156,4)) | AE5: =IF(Invullen!X174="","",COUNTIF(Invullen!AE147:AG156,4)) | AF5: =IF(Invullen!C174="","",COUNTIF(Invullen!C174:E183,4)) | AG5: =IF(Invullen!J174="","",COUNTIF(Invullen!J174:L183,4)) | AH5: =IF(Invullen!Q174="","",COUNTIF(Invullen!Q174:S183,4)) | AI5: =IF(Invullen!X174="","",COUNTIF(Invullen!X174:Z183,4)) | AJ5: =IF(Invullen!AE174="","",COUNTIF(Invullen!AE174:AG183,4)) | AK5: =SUM(B5:K5)/AM2 -> #DIV/0! | AL5: =SUM(B5:AJ5) -> 0 | AN5: =AL5/$AM3 -> #DIV/0!
A6: 5 | B6: =IF(Invullen!C12="","",COUNTIF(Invullen!C12:E21,5)) | C6: =IF(Invullen!J12="","",COUNTIF(Invullen!J12:L21,5)) | D6: =IF(Invullen!Q12="","",COUNTIF(Invullen!Q12:S21,5)) | E6: =IF(Invullen!X12="","",COUNTIF(Invullen!X12:Z21,5)) | F6: =IF(Invullen!AE12="","",COUNTIF(Invullen!AE12:AG21,5)) | G6: =IF(Invullen!C39="","",COUNTIF(Invullen!C39:E48,5)) | H6: =IF(Invullen!J39="","",COUNTIF(Invullen!J39:L48,5)) | I6: =IF(Invullen!Q39="","",COUNTIF(Invullen!Q39:S48,5)) | J6: =IF(Invullen!X39="","",COUNTIF(Invullen!X39:Z48,5)) | K6: =IF(Invullen!AE39="","",COUNTIF(Invullen!AE39:AG48,5)) | L6: =IF(Invullen!C66="","",COUNTIF(Invullen!C66:E75,5)) | M6: =IF(Invullen!J66="","",COUNTIF(Invullen!J66:L75,5)) | N6: =IF(Invullen!Q66="","",COUNTIF(Invullen!Q66:S75,5)) | O6: =IF(Invullen!X66="","",COUNTIF(Invullen!X66:Z75,5)) | P6: =IF(Invullen!AE66="","",COUNTIF(Invullen!AE66:AG75,5)) | Q6: =IF(Invullen!C93="","",COUNTIF(Invullen!C93:E102,5)) | R6: =IF(Invullen!J93="","",COUNTIF(Invullen!J93:L102,5)) | S6: =IF(Invullen!Q93="","",COUNTIF(Invullen!Q93:S102,5)) | T6: =IF(Invullen!X93="","",COUNTIF(Invullen!X93:Z102,5)) | U6: =IF(Invullen!AE93="","",COUNTIF(Invullen!AE93:AG102,5)) | V6: =IF(Invullen!C120="","",COUNTIF(Invullen!C120:E129,5)) | W6: =IF(Invullen!J120="","",COUNTIF(Invullen!J120:L129,5)) | X6: =IF(Invullen!Q120="","",COUNTIF(Invullen!Q120:S129,5)) | Y6: =IF(Invullen!X120="","",COUNTIF(Invullen!X120:Z129,5)) | Z6: =IF(Invullen!AE120="","",COUNTIF(Invullen!AE120:AG129,5)) | AA6: =IF(Invullen!C147="","",COUNTIF(Invullen!C147:E156,5)) | AB6: =IF(Invullen!J147="","",COUNTIF(Invullen!J147:L156,5)) | AC6: =IF(Invullen!Q147="","",COUNTIF(Invullen!Q147:S156,5)) | AD6: =IF(Invullen!X147="","",COUNTIF(Invullen!X147:Z156,5)) | AE6: =IF(Invullen!X174="","",COUNTIF(Invullen!AE147:AG156,5)) | AF6: =IF(Invullen!C174="","",COUNTIF(Invullen!C174:E183,5)) | AG6: =IF(Invullen!J174="","",COUNTIF(Invullen!J174:L183,5)) | AH6: =IF(Invullen!Q174="","",COUNTIF(Invullen!Q174:S183,5)) | AI6: =IF(Invullen!X174="","",COUNTIF(Invullen!X174:Z183,5)) | AJ6: =IF(Invullen!AE174="","",COUNTIF(Invullen!AE174:AG183,5)) | AK6: =SUM(B6:K6)/AM2 -> #DIV/0! | AL6: =SUM(B6:AJ6) -> 0 | AN6: =AL6/$AM3 -> #DIV/0!
A7: 6 | B7: =IF(Invullen!C12="","",COUNTIF(Invullen!C12:E21,6)) | C7: =IF(Invullen!J12="","",COUNTIF(Invullen!J12:L21,6)) | D7: =IF(Invullen!Q12="","",COUNTIF(Invullen!Q12:S21,6)) | E7: =IF(Invullen!X12="","",COUNTIF(Invullen!X12:Z21,6)) | F7: =IF(Invullen!AE12="","",COUNTIF(Invullen!AE12:AG21,6)) | G7: =IF(Invullen!C39="","",COUNTIF(Invullen!C39:E48,6)) | H7: =IF(Invullen!J39="","",COUNTIF(Invullen!J39:L48,6)) | I7: =IF(Invullen!Q39="","",COUNTIF(Invullen!Q39:S48,6)) | J7: =IF(Invullen!X39="","",COUNTIF(Invullen!X39:Z48,6)) | K7: =IF(Invullen!AE39="","",COUNTIF(Invullen!AE39:AG48,6)) | L7: =IF(Invullen!C66="","",COUNTIF(Invullen!C66:E75,6)) | M7: =IF(Invullen!J66="","",COUNTIF(Invullen!J66:L75,6)) | N7: =IF(Invullen!Q66="","",COUNTIF(Invullen!Q66:S75,6)) | O7: =IF(Invullen!X66="","",COUNTIF(Invullen!X66:Z75,6)) | P7: =IF(Invullen!AE66="","",COUNTIF(Invullen!AE66:AG75,6)) | Q7: =IF(Invullen!C93="","",COUNTIF(Invullen!C93:E102,6)) | R7: =IF(Invullen!J93="","",COUNTIF(Invullen!J93:L102,6)) | S7: =IF(Invullen!Q93="","",COUNTIF(Invullen!Q93:S102,6)) | T7: =IF(Invullen!X93="","",COUNTIF(Invullen!X93:Z102,6)) | U7: =IF(Invullen!AE93="","",COUNTIF(Invullen!AE93:AG102,6)) | V7: =IF(Invullen!C120="","",COUNTIF(Invullen!C120:E129,6)) | W7: =IF(Invullen!J120="","",COUNTIF(Invullen!J120:L129,6)) | X7: =IF(Invullen!Q120="","",COUNTIF(Invullen!Q120:S129,6)) | Y7: =IF(Invullen!X120="","",COUNTIF(Invullen!X120:Z129,6)) | Z7: =IF(Invullen!AE120="","",COUNTIF(Invullen!AE120:AG129,6)) | AA7: =IF(Invullen!C147="","",COUNTIF(Invullen!C147:E156,6)) | AB7: =IF(Invullen!J147="","",COUNTIF(Invullen!J147:L156,6)) | AC7: =IF(Invullen!Q147="","",COUNTIF(Invullen!Q147:S156,6)) | AD7: =IF(Invullen!X147="","",COUNTIF(Invullen!X147:Z156,6)) | AE7: =IF(Invullen!X174="","",COUNTIF(Invullen!AE147:AG156,6)) | AF7: =IF(Invullen!C174="","",COUNTIF(Invullen!C174:E183,6)) | AG7: =IF(Invullen!J174="","",COUNTIF(Invullen!J174:L183,6)) | AH7: =IF(Invullen!Q174="","",COUNTIF(Invullen!Q174:S183,6)) | AI7: =IF(Invullen!X174="","",COUNTIF(Invullen!X174:Z183,6)) | AJ7: =IF(Invullen!AE174="","",COUNTIF(Invullen!AE174:AG183,6)) | AK7: =SUM(B7:K7)/AM2 -> #DIV/0! | AL7: =SUM(B7:AJ7) -> 0 | AN7: =AL7/$AM3 -> #DIV/0!
A8: 7 | B8: =IF(Invullen!C12="","",COUNTIF(Invullen!C12:E21,7)) | C8: =IF(Invullen!J12="","",COUNTIF(Invullen!J12:L21,7)) | D8: =IF(Invullen!Q12="","",COUNTIF(Invullen!Q12:S21,7)) | E8: =IF(Invullen!X12="","",COUNTIF(Invullen!X12:Z21,7)) | F8: =IF(Invullen!AE12="","",COUNTIF(Invullen!AE12:AG21,7)) | G8: =IF(Invullen!C39="","",COUNTIF(Invullen!C39:E48,7)) | H8: =IF(Invullen!J39="","",COUNTIF(Invullen!J39:L48,7)) | I8: =IF(Invullen!Q39="","",COUNTIF(Invullen!Q39:S48,7)) | J8: =IF(Invullen!X39="","",COUNTIF(Invullen!X39:Z48,7)) | K8: =IF(Invullen!AE39="","",COUNTIF(Invullen!AE39:AG48,7)) | L8: =IF(Invullen!C66="","",COUNTIF(Invullen!C66:E75,7)) | M8: =IF(Invullen!J66="","",COUNTIF(Invullen!J66:L75,7)) | N8: =IF(Invullen!Q66="","",COUNTIF(Invullen!Q66:S75,7)) | O8: =IF(Invullen!X66="","",COUNTIF(Invullen!X66:Z75,7)) | P8: =IF(Invullen!AE66="","",COUNTIF(Invullen!AE66:AG75,7)) | Q8: =IF(Invullen!C93="","",COUNTIF(Invullen!C93:E102,7)) | R8: =IF(Invullen!J93="","",COUNTIF(Invullen!J93:L102,7)) | S8: =IF(Invullen!Q93="","",COUNTIF(Invullen!Q93:S102,7)) | T8: =IF(Invullen!X93="","",COUNTIF(Invullen!X93:Z102,7)) | U8: =IF(Invullen!AE93="","",COUNTIF(Invullen!AE93:AG102,7)) | V8: =IF(Invullen!C120="","",COUNTIF(Invullen!C120:E129,7)) | W8: =IF(Invullen!J120="","",COUNTIF(Invullen!J120:L129,7)) | X8: =IF(Invullen!Q120="","",COUNTIF(Invullen!Q120:S129,7)) | Y8: =IF(Invullen!X120="","",COUNTIF(Invullen!X120:Z129,7)) | Z8: =IF(Invullen!AE120="","",COUNTIF(Invullen!AE120:AG129,7)) | AA8: =IF(Invullen!C147="","",COUNTIF(Invullen!C147:E156,7)) | AB8: =IF(Invullen!J147="","",COUNTIF(Invullen!J147:L156,7)) | AC8: =IF(Invullen!Q147="","",COUNTIF(Invullen!Q147:S156,7)) | AD8: =IF(Invullen!X147="","",COUNTIF(Invullen!X147:Z156,7)) | AE8: =IF(Invullen!X174="","",COUNTIF(Invullen!AE147:AG156,7)) | AF8: =IF(Invullen!C174="","",COUNTIF(Invullen!C174:E183,7)) | AG8: =IF(Invullen!J174="","",COUNTIF(Invullen!J174:L183,7)) | AH8: =IF(Invullen!Q174="","",COUNTIF(Invullen!Q174:S183,7)) | AI8: =IF(Invullen!X174="","",COUNTIF(Invullen!X174:Z183,7)) | AJ8: =IF(Invullen!AE174="","",COUNTIF(Invullen!AE174:AG183,7)) | AK8: =SUM(B8:K8)/AM2 -> #DIV/0! | AL8: =SUM(B8:AJ8) -> 0 | AN8: =AL8/$AM3 -> #DIV/0!
A9: 8 | B9: =IF(Invullen!C12="","",COUNTIF(Invullen!C12:E21,8)) | C9: =IF(Invullen!J12="","",COUNTIF(Invullen!J12:L21,8)) | D9: =IF(Invullen!Q12="","",COUNTIF(Invullen!Q12:S21,8)) | E9: =IF(Invullen!X12="","",COUNTIF(Invullen!X12:Z21,8)) | F9: =IF(Invullen!AE12="","",COUNTIF(Invullen!AE12:AG21,8)) | G9: =IF(Invullen!C39="","",COUNTIF(Invullen!C39:E48,8)) | H9: =IF(Invullen!J39="","",COUNTIF(Invullen!J39:L48,8)) | I9: =IF(Invullen!Q39="","",COUNTIF(Invullen!Q39:S48,8)) | J9: =IF(Invullen!X39="","",COUNTIF(Invullen!X39:Z48,8)) | K9: =IF(Invullen!AE39="","",COUNTIF(Invullen!AE39:AG48,8)) | L9: =IF(Invullen!C66="","",COUNTIF(Invullen!C66:E75,8)) | M9: =IF(Invullen!J66="","",COUNTIF(Invullen!J66:L75,8)) | N9: =IF(Invullen!Q66="","",COUNTIF(Invullen!Q66:S75,8)) | O9: =IF(Invullen!X66="","",COUNTIF(Invullen!X66:Z75,8)) | P9: =IF(Invullen!AE66="","",COUNTIF(Invullen!AE66:AG75,8)) | Q9: =IF(Invullen!C93="","",COUNTIF(Invullen!C93:E102,8)) | R9: =IF(Invullen!J93="","",COUNTIF(Invullen!J93:L102,8)) | S9: =IF(Invullen!Q93="","",COUNTIF(Invullen!Q93:S102,8)) | T9: =IF(Invullen!X93="","",COUNTIF(Invullen!X93:Z102,8)) | U9: =IF(Invullen!AE93="","",COUNTIF(Invullen!AE93:AG102,8)) | V9: =IF(Invullen!C120="","",COUNTIF(Invullen!C120:E129,8)) | W9: =IF(Invullen!J120="","",COUNTIF(Invullen!J120:L129,8)) | X9: =IF(Invullen!Q120="","",COUNTIF(Invullen!Q120:S129,8)) | Y9: =IF(Invullen!X120="","",COUNTIF(Invullen!X120:Z129,8)) | Z9: =IF(Invullen!AE120="","",COUNTIF(Invullen!AE120:AG129,8)) | AA9: =IF(Invullen!C147="","",COUNTIF(Invullen!C147:E156,8)) | AB9: =IF(Invullen!J147="","",COUNTIF(Invullen!J147:L156,8)) | AC9: =IF(Invullen!Q147="","",COUNTIF(Invullen!Q147:S156,8)) | AD9: =IF(Invullen!X147="","",COUNTIF(Invullen!X147:Z156,8)) | AE9: =IF(Invullen!X174="","",COUNTIF(Invullen!AE147:AG156,8)) | AF9: =IF(Invullen!C174="","",COUNTIF(Invullen!C174:E183,8)) | AG9: =IF(Invullen!J174="","",COUNTIF(Invullen!J174:L183,8)) | AH9: =IF(Invullen!Q174="","",COUNTIF(Invullen!Q174:S183,8)) | AI9: =IF(Invullen!X174="","",COUNTIF(Invullen!X174:Z183,8)) | AJ9: =IF(Invullen!AE174="","",COUNTIF(Invullen!AE174:AG183,8)) | AK9: =SUM(B9:K9)/AM2 -> #DIV/0! | AL9: =SUM(B9:AJ9) -> 0 | AN9: =AL9/$AM3 -> #DIV/0!
A10: 9 | B10: =IF(Invullen!C12="","",COUNTIF(Invullen!C12:E21,9)) | C10: =IF(Invullen!J12="","",COUNTIF(Invullen!J12:L21,9)) | D10: =IF(Invullen!Q12="","",COUNTIF(Invullen!Q12:S21,9)) | E10: =IF(Invullen!X12="","",COUNTIF(Invullen!X12:Z21,9)) | F10: =IF(Invullen!AE12="","",COUNTIF(Invullen!AE12:AG21,9)) | G10: =IF(Invullen!C39="","",COUNTIF(Invullen!C39:E48,9)) | H10: =IF(Invullen!J39="","",COUNTIF(Invullen!J39:L48,9)) | I10: =IF(Invullen!Q39="","",COUNTIF(Invullen!Q39:S48,9)) | J10: =IF(Invullen!X39="","",COUNTIF(Invullen!X39:Z48,9)) | K10: =IF(Invullen!AE39="","",COUNTIF(Invullen!AE39:AG48,9)) | L10: =IF(Invullen!C66="","",COUNTIF(Invullen!C66:E75,9)) | M10: =IF(Invullen!J66="","",COUNTIF(Invullen!J66:L75,9)) | N10: =IF(Invullen!Q66="","",COUNTIF(Invullen!Q66:S75,9)) | O10: =IF(Invullen!X66="","",COUNTIF(Invullen!X66:Z75,9)) | P10: =IF(Invullen!AE66="","",COUNTIF(Invullen!AE66:AG75,9)) | Q10: =IF(Invullen!C93="","",COUNTIF(Invullen!C93:E102,9)) | R10: =IF(Invullen!J93="","",COUNTIF(Invullen!J93:L102,9)) | S10: =IF(Invullen!Q93="","",COUNTIF(Invullen!Q93:S102,9)) | T10: =IF(Invullen!X93="","",COUNTIF(Invullen!X93:Z102,9)) | U10: =IF(Invullen!AE93="","",COUNTIF(Invullen!AE93:AG102,9)) | V10: =IF(Invullen!C120="","",COUNTIF(Invullen!C120:E129,9)) | W10: =IF(Invullen!J120="","",COUNTIF(Invullen!J120:L129,9)) | X10: =IF(Invullen!Q120="","",COUNTIF(Invullen!Q120:S129,9)) | Y10: =IF(Invullen!X120="","",COUNTIF(Invullen!X120:Z129,9)) | Z10: =IF(Invullen!AE120="","",COUNTIF(Invullen!AE120:AG129,9)) | AA10: =IF(Invullen!C147="","",COUNTIF(Invullen!C147:E156,9)) | AB10: =IF(Invullen!J147="","",COUNTIF(Invullen!J147:L156,9)) | AC10: =IF(Invullen!Q147="","",COUNTIF(Invullen!Q147:S156,9)) | AD10: =IF(Invullen!X147="","",COUNTIF(Invullen!X147:Z156,9)) | AE10: =IF(Invullen!X174="","",COUNTIF(Invullen!AE147:AG156,9)) | AF10: =IF(Invullen!C174="","",COUNTIF(Invullen!C174:E183,9)) | AG10: =IF(Invullen!J174="","",COUNTIF(Invullen!J174:L183,9)) | AH10: =IF(Invullen!Q174="","",COUNTIF(Invullen!Q174:S183,9)) | AI10: =IF(Invullen!X174="","",COUNTIF(Invullen!X174:Z183,9)) | AJ10: =IF(Invullen!AE174="","",COUNTIF(Invullen!AE174:AG183,9)) | AK10: =SUM(B10:K10)/AM2 -> #DIV/0! | AL10: =SUM(B10:AJ10) -> 0 | AN10: =AL10/$AM3 -> #DIV/0!
A11: 10 | B11: =IF(Invullen!C12="","",SUM((COUNTIF(Invullen!C12:E21,10)))) | C11: =IF(Invullen!J12="","",COUNTIF(Invullen!J12:L21,10)) | D11: =IF(Invullen!Q12="","",COUNTIF(Invullen!Q12:S21,10)) | E11: =IF(Invullen!X12="","",COUNTIF(Invullen!X12:Z21,10)) | F11: =IF(Invullen!AE12="","",COUNTIF(Invullen!AE12:AG21,10)) | G11: =IF(Invullen!C39="","",COUNTIF(Invullen!C39:E48,10)) | H11: =IF(Invullen!J39="","",COUNTIF(Invullen!J39:L48,10)) | I11: =IF(Invullen!Q39="","",COUNTIF(Invullen!Q39:S48,10)) | J11: =IF(Invullen!X39="","",COUNTIF(Invullen!X39:Z48,10)) | K11: =IF(Invullen!AE39="","",COUNTIF(Invullen!AE39:AG48,10)) | L11: =IF(Invullen!C66="","",COUNTIF(Invullen!C66:E75,10)) | M11: =IF(Invullen!J66="","",COUNTIF(Invullen!J66:L75,10)) | N11: =IF(Invullen!Q66="","",COUNTIF(Invullen!Q66:S75,10)) | O11: =IF(Invullen!X66="","",COUNTIF(Invullen!X66:Z75,10)) | P11: =IF(Invullen!AE66="","",COUNTIF(Invullen!AE66:AG75,10)) | Q11: =IF(Invullen!C93="","",COUNTIF(Invullen!C93:E102,10)) | R11: =IF(Invullen!J93="","",COUNTIF(Invullen!J93:L102,10)) | S11: =IF(Invullen!Q93="","",COUNTIF(Invullen!Q93:S102,10)) | T11: =IF(Invullen!X93="","",COUNTIF(Invullen!X93:Z102,10)) | U11: =IF(Invullen!AE93="","",COUNTIF(Invullen!AE93:AG102,10)) | V11: =IF(Invullen!C120="","",COUNTIF(Invullen!C120:E129,10)) | W11: =IF(Invullen!J120="","",COUNTIF(Invullen!J120:L129,10)) | X11: =IF(Invullen!Q120="","",COUNTIF(Invullen!Q120:S129,10)) | Y11: =IF(Invullen!X120="","",COUNTIF(Invullen!X120:Z129,10)) | Z11: =IF(Invullen!AE120="","",COUNTIF(Invullen!AE120:AG129,10)) | AA11: =IF(Invullen!C147="","",COUNTIF(Invullen!C147:E156,10)) | AB11: =IF(Invullen!J147="","",COUNTIF(Invullen!J147:L156,10)) | AC11: =IF(Invullen!Q147="","",COUNTIF(Invullen!Q147:S156,10)) | AD11: =IF(Invullen!X147="","",COUNTIF(Invullen!X147:Z156,10)) | AE11: =IF(Invullen!X174="","",COUNTIF(Invullen!AE147:AG156,10)) | AF11: =IF(Invullen!C174="","",COUNTIF(Invullen!C174:E183,10)) | AG11: =IF(Invullen!J174="","",COUNTIF(Invullen!J174:L183,10)) | AH11: =IF(Invullen!Q174="","",COUNTIF(Invullen!Q174:S183,10)) | AI11: =IF(Invullen!X174="","",COUNTIF(Invullen!X174:Z183,10)) | AJ11: =IF(Invullen!AE174="","",COUNTIF(Invullen!AE174:AG183,10)) | AK11: =SUM(B11:K11)/AM2 -> #DIV/0! | AL11: =SUM(B11:AJ11) -> 0 | AN11: =AL11/$AM3 -> #DIV/0!
A12: X | B12: =IF(Invullen!C12="","",COUNTIF(Invullen!C12:E21,"X")) | C12: =IF(Invullen!J12="","",COUNTIF(Invullen!J12:L21,"X")) | D12: =IF(Invullen!Q12="","",COUNTIF(Invullen!Q12:S21,"X")) | E12: =IF(Invullen!X12="","",COUNTIF(Invullen!X12:Z21,"X")) | F12: =IF(Invullen!AE12="","",COUNTIF(Invullen!AE12:AG21,"X")) | G12: =IF(Invullen!C39="","",COUNTIF(Invullen!C39:E48,"X")) | H12: =IF(Invullen!J39="","",COUNTIF(Invullen!J39:L48,"X")) | I12: =IF(Invullen!Q39="","",COUNTIF(Invullen!Q39:S48,"X")) | J12: =IF(Invullen!X39="","",COUNTIF(Invullen!X39:Z48,"X")) | K12: =IF(Invullen!AE39="","",COUNTIF(Invullen!AE39:AG48,"X")) | L12: =IF(Invullen!C66="","",COUNTIF(Invullen!C66:E75,"X")) | M12: =IF(Invullen!J66="","",COUNTIF(Invullen!J66:L75,"x")) | N12: =IF(Invullen!Q66="","",COUNTIF(Invullen!Q66:S75,"x")) | O12: =IF(Invullen!X66="","",COUNTIF(Invullen!X66:Z75,"x")) | P12: =IF(Invullen!AE66="","",COUNTIF(Invullen!AE66:AG75,"x")) | S12: =IF(Invullen!Q93="","",COUNTIF(Invullen!Q93:S102,"X")) | T12: =IF(Invullen!X93="","",COUNTIF(Invullen!X93:Z102,"X")) | U12: =IF(Invullen!AE93="","",COUNTIF(Invullen!AE93:AG102,"x")) | V12: =IF(Invullen!C120="","",COUNTIF(Invullen!C120:E129,"x")) | W12: =IF(Invullen!J120="","",COUNTIF(Invullen!J120:L129,"x")) | X12: =IF(Invullen!Q120="","",COUNTIF(Invullen!Q120:S129,"x")) | Y12: =IF(Invullen!X120="","",COUNTIF(Invullen!X120:Z129,"x")) | Z12: =IF(Invullen!AE120="","",COUNTIF(Invullen!AE120:AG129,"x")) | AA12: =IF(Invullen!C147="","",COUNTIF(Invullen!C147:E156,"x")) | AB12: =IF(Invullen!J147="","",COUNTIF(Invullen!J147:L156,"x")) | AC12: =IF(Invullen!Q147="","",COUNTIF(Invullen!Q147:S156,"x")) | AD12: =IF(Invullen!X147="","",COUNTIF(Invullen!X147:Z156,"x")) | AE12: =IF(Invullen!X174="","",COUNTIF(Invullen!AE147:AG156,"x")) | AF12: =IF(Invullen!C174="","",COUNTIF(Invullen!C174:E183,"x")) | AG12: =IF(Invullen!J174="","",COUNTIF(Invullen!J174:L183,"x")) | AH12: =IF(Invullen!Q174="","",COUNTIF(Invullen!Q174:S183,"x")) | AI12: =IF(Invullen!X174="","",COUNTIF(Invullen!X174:Z183,"x")) | AJ12: =IF(Invullen!AE174="","",COUNTIF(Invullen!AE174:AG183,"x")) | AK12: =SUM(B12:K12)/AM2 -> #DIV/0! | AL12: =SUM(B12:AJ12) -> 0 | AN12: =AL12/$AM3 -> #DIV/0!
AN13: =SUM(AN1:AN12) -> #DIV/0!
A14: 3 | B14: =IF(Invullen!C12="","",Invullen!F12) | C14: =IF(Invullen!J12="","",Invullen!M12) | D14: =IF(Invullen!Q12="","",Invullen!T12) | E14: =IF(Invullen!X12="","",Invullen!AA12) | F14: =IF(Invullen!AE12="","",Invullen!AH12) | G14: =IF(Invullen!C39="","",Invullen!F39) | H14: =IF(Invullen!J39="","",Invullen!M39) | I14: =IF(Invullen!Q39="","",Invullen!T39) | J14: =IF(Invullen!X39="","",Invullen!AA39) | K14: =IF(Invullen!AE39="","",Invullen!AH39) | L14: =IF(Invullen!C66="","",Invullen!F66) | M14: =IF(Invullen!J66="","",Invullen!M66) | N14: =IF(Invullen!Q66="","",Invullen!T66) | O14: =IF(Invullen!X66="","",Invullen!AA66) | P14: =IF(Invullen!AE66="","",Invullen!AH66) | Q14: =IF(Invullen!C93="","",Invullen!F93) | R14: =IF(Invullen!J93="","",Invullen!M93) | S14: =IF(Invullen!Q93="","",Invullen!T93) | T14: =IF(Invullen!X93="","",Invullen!AA93) | U14: =IF(Invullen!AE93="","",Invullen!AH93) | V14: =IF(Invullen!C120="","",Invullen!F120) | W14: =IF(Invullen!J120="","",Invullen!M120) | X14: =IF(Invullen!Q120="","",Invullen!T120) | Y14: =IF(Invullen!X120="","",Invullen!AA120) | Z14: =IF(Invullen!AE120="","",Invullen!AH120) | AA14: =IF(Invullen!C147="","",Invullen!F147) | AB14: =IF(Invullen!J147="","",Invullen!M147) | AC14: =IF(Invullen!Q147="","",Invullen!T147) | AD14: =IF(Invullen!X147="","",Invullen!AA147) | AE14: =IF(Invullen!AE147="","",Invullen!AH147) | AF14: =IF(Invullen!C174="","",Invullen!F174) | AG14: =IF(Invullen!J174="","",Invullen!M174) | AH14: =IF(Invullen!Q174="","",Invullen!T174) | AI14: =IF(Invullen!X174="","",Invullen!AA174) | AJ14: =IF(Invullen!AE174="","",Invullen!AH174)
A15: 6 | B15: =IF(Invullen!C12="","",Invullen!F13) | C15: =IF(Invullen!J13="","",Invullen!M13) | D15: =IF(Invullen!Q13="","",Invullen!T13) | E15: =IF(Invullen!X13="","",Invullen!AA13) | F15: =IF(Invullen!AE13="","",Invullen!AH13) | G15: =IF(Invullen!C40="","",Invullen!F40) | H15: =IF(Invullen!J40="","",Invullen!M40) | I15: =IF(Invullen!Q40="","",Invullen!T40) | J15: =IF(Invullen!X40="","",Invullen!AA40) | K15: =IF(Invullen!AE40="","",Invullen!AH40) | L15: =IF(Invullen!C67="","",Invullen!F67) | M15: =IF(Invullen!J67="","",Invullen!M67) | N15: =IF(Invullen!Q67="","",Invullen!T67) | O15: =IF(Invullen!X67="","",Invullen!AA67) | P15: =IF(Invullen!AE67="","",Invullen!AH67) | Q15: =IF(Invullen!C94="","",Invullen!F94) | R15: =IF(Invullen!J94="","",Invullen!M94) | S15: =IF(Invullen!Q94="","",Invullen!T94) | T15: =IF(Invullen!X94="","",Invullen!AA94) | U15: =IF(Invullen!AE94="","",Invullen!AH94) | V15: =IF(Invullen!C121="","",Invullen!F121) | W15: =IF(Invullen!J121="","",Invullen!M121) | X15: =IF(Invullen!Q121="","",Invullen!T121) | Y15: =IF(Invullen!X121="","",Invullen!AA121) | Z15: =IF(Invullen!AE121="","",Invullen!AH121) | AA15: =IF(Invullen!C148="","",Invullen!F148) | AB15: =IF(Invullen!J148="","",Invullen!M148) | AC15: =IF(Invullen!Q148="","",Invullen!T148) | AD15: =IF(Invullen!X148="","",Invullen!AA148) | AE15: =IF(Invullen!AE148="","",Invullen!AH148) | AF15: =IF(Invullen!C175="","",Invullen!F175) | AG15: =IF(Invullen!J175="","",Invullen!M175) | AH15: =IF(Invullen!Q175="","",Invullen!T175) | AI15: =IF(Invullen!X175="","",Invullen!AA175) | AJ15: =IF(Invullen!AE175="","",Invullen!AH175)
A16: 9 | B16: =IF(Invullen!C12="","",Invullen!F14) | C16: =IF(Invullen!J14="","",Invullen!M14) | D16: =IF(Invullen!Q14="","",Invullen!T14) | E16: =IF(Invullen!X14="","",Invullen!AA14) | F16: =IF(Invullen!AE14="","",Invullen!AH14) | G16: =IF(Invullen!C41="","",Invullen!F41) | H16: =IF(Invullen!J41="","",Invullen!M41) | I16: =IF(Invullen!Q41="","",Invullen!T41) | J16: =IF(Invullen!X41="","",Invullen!AA41) | K16: =IF(Invullen!AE41="","",Invullen!AH41) | L16: =IF(Invullen!C68="","",Invullen!F68) | M16: =IF(Invullen!J68="","",Invullen!M68) | N16: =IF(Invullen!Q68="","",Invullen!T68) | O16: =IF(Invullen!X68="","",Invullen!AA68) | P16: =IF(Invullen!AE68="","",Invullen!AH68) | Q16: =IF(Invullen!C95="","",Invullen!F95) | R16: =IF(Invullen!J95="","",Invullen!M95) | S16: =IF(Invullen!Q95="","",Invullen!T95) | T16: =IF(Invullen!X95="","",Invullen!AA95) | U16: =IF(Invullen!AE95="","",Invullen!AH95) | V16: =IF(Invullen!C122="","",Invullen!F122) | W16: =IF(Invullen!J122="","",Invullen!M122) | X16: =IF(Invullen!Q122="","",Invullen!T122) | Y16: =IF(Invullen!X122="","",Invullen!AA122) | Z16: =IF(Invullen!AE122="","",Invullen!AH122) | AA16: =IF(Invullen!C149="","",Invullen!F149) | AB16: =IF(Invullen!J149="","",Invullen!M149) | AC16: =IF(Invullen!Q149="","",Invullen!T149) | AD16: =IF(Invullen!X149="","",Invullen!AA149) | AE16: =IF(Invullen!AE149="","",Invullen!AH149) | AF16: =IF(Invullen!C176="","",Invullen!F176) | AG16: =IF(Invullen!J176="","",Invullen!M176) | AH16: =IF(Invullen!Q176="","",Invullen!T176) | AI16: =IF(Invullen!X176="","",Invullen!AA176) | AJ16: =IF(Invullen!AE176="","",Invullen!AH176)
A17: 12 | B17: =IF(Invullen!C12="","",Invullen!F15) | C17: =IF(Invullen!J15="","",Invullen!M15) | D17: =IF(Invullen!Q15="","",Invullen!T15) | E17: =IF(Invullen!X15="","",Invullen!AA15) | F17: =IF(Invullen!AE15="","",Invullen!AH15) | G17: =IF(Invullen!C42="","",Invullen!F42) | H17: =IF(Invullen!J42="","",Invullen!M42) | I17: =IF(Invullen!Q42="","",Invullen!T42) | J17: =IF(Invullen!X42="","",Invullen!AA42) | K17: =IF(Invullen!AE42="","",Invullen!AH42) | L17: =IF(Invullen!C69="","",Invullen!F69) | M17: =IF(Invullen!J69="","",Invullen!M69) | N17: =IF(Invullen!Q69="","",Invullen!T69) | O17: =IF(Invullen!X69="","",Invullen!AA69) | P17: =IF(Invullen!AE69="","",Invullen!AH69) | Q17: =IF(Invullen!C96="","",Invullen!F96) | R17: =IF(Invullen!J96="","",Invullen!M96) | S17: =IF(Invullen!Q96="","",Invullen!T96) | T17: =IF(Invullen!X96="","",Invullen!AA96) | U17: =IF(Invullen!AE96="","",Invullen!AH96) | V17: =IF(Invullen!C123="","",Invullen!F123) | W17: =IF(Invullen!J123="","",Invullen!M123) | X17: =IF(Invullen!Q123="","",Invullen!T123) | Y17: =IF(Invullen!X123="","",Invullen!AA123) | Z17: =IF(Invullen!AE123="","",Invullen!AH123) | AA17: =IF(Invullen!C150="","",Invullen!F150) | AB17: =IF(Invullen!J150="","",Invullen!M150) | AC17: =IF(Invullen!Q150="","",Invullen!T150) | AD17: =IF(Invullen!X150="","",Invullen!AA150) | AE17: =IF(Invullen!AE150="","",Invullen!AH150) | AF17: =IF(Invullen!C177="","",Invullen!F177) | AG17: =IF(Invullen!J177="","",Invullen!M177) | AH17: =IF(Invullen!Q177="","",Invullen!T177) | AI17: =IF(Invullen!X177="","",Invullen!AA177) | AJ17: =IF(Invullen!AE177="","",Invullen!AH177)
A18: 15 | B18: =IF(Invullen!C12="","",Invullen!F16) | C18: =IF(Invullen!J16="","",Invullen!M16) | D18: =IF(Invullen!Q16="","",Invullen!T16) | E18: =IF(Invullen!X16="","",Invullen!AA16) | F18: =IF(Invullen!AE16="","",Invullen!AH16) | G18: =IF(Invullen!C43="","",Invullen!F43) | H18: =IF(Invullen!J43="","",Invullen!M43) | I18: =IF(Invullen!Q43="","",Invullen!T43) | J18: =IF(Invullen!X43="","",Invullen!AA43) | K18: =IF(Invullen!AE43="","",Invullen!AH43) | L18: =IF(Invullen!C70="","",Invullen!F70) | M18: =IF(Invullen!J70="","",Invullen!M70) | N18: =IF(Invullen!Q70="","",Invullen!T70) | O18: =IF(Invullen!X70="","",Invullen!AA70) | P18: =IF(Invullen!AE70="","",Invullen!AH70) | Q18: =IF(Invullen!C97="","",Invullen!F97) | R18: =IF(Invullen!J97="","",Invullen!M97) | S18: =IF(Invullen!Q97="","",Invullen!T97) | T18: =IF(Invullen!X97="","",Invullen!AA97) | U18: =IF(Invullen!AE97="","",Invullen!AH97) | V18: =IF(Invullen!C124="","",Invullen!F124) | W18: =IF(Invullen!J124="","",Invullen!M124) | X18: =IF(Invullen!Q124="","",Invullen!T124) | Y18: =IF(Invullen!X124="","",Invullen!AA124) | Z18: =IF(Invullen!AE124="","",Invullen!AH124) | AA18: =IF(Invullen!C151="","",Invullen!F151) | AB18: =IF(Invullen!J151="","",Invullen!M151) | AC18: =IF(Invullen!Q151="","",Invullen!T151) | AD18: =IF(Invullen!X151="","",Invullen!AA151) | AE18: =IF(Invullen!AE151="","",Invullen!AH151) | AF18: =IF(Invullen!C178="","",Invullen!F178) | AG18: =IF(Invullen!J178="","",Invullen!M178) | AH18: =IF(Invullen!Q178="","",Invullen!T178) | AI18: =IF(Invullen!X178="","",Invullen!AA178) | AJ18: =IF(Invullen!AE178="","",Invullen!AH178)
A19: 18 | B19: =IF(Invullen!C12="","",Invullen!F17) | C19: =IF(Invullen!J17="","",Invullen!M17) | D19: =IF(Invullen!Q17="","",Invullen!T17) | E19: =IF(Invullen!X17="","",Invullen!AA17) | F19: =IF(Invullen!AE17="","",Invullen!AH17) | G19: =IF(Invullen!C44="","",Invullen!F44) | H19: =IF(Invullen!J44="","",Invullen!M44) | I19: =IF(Invullen!Q44="","",Invullen!T44) | J19: =IF(Invullen!X44="","",Invullen!AA44) | K19: =IF(Invullen!AE44="","",Invullen!AH44) | L19: =IF(Invullen!C71="","",Invullen!F71) | M19: =IF(Invullen!J71="","",Invullen!M71) | N19: =IF(Invullen!Q71="","",Invullen!T71) | O19: =IF(Invullen!X71="","",Invullen!AA71) | P19: =IF(Invullen!AE71="","",Invullen!AH71) | Q19: =IF(Invullen!C98="","",Invullen!F98) | R19: =IF(Invullen!J98="","",Invullen!M98) | S19: =IF(Invullen!Q98="","",Invullen!T98) | T19: =IF(Invullen!X98="","",Invullen!AA98) | U19: =IF(Invullen!AE98="","",Invullen!AH98) | V19: =IF(Invullen!C125="","",Invullen!F125) | W19: =IF(Invullen!J125="","",Invullen!M125) | X19: =IF(Invullen!Q125="","",Invullen!T125) | Y19: =IF(Invullen!X125="","",Invullen!AA125) | Z19: =IF(Invullen!AE125="","",Invullen!AH125) | AA19: =IF(Invullen!C152="","",Invullen!F152) | AB19: =IF(Invullen!J152="","",Invullen!M152) | AC19: =IF(Invullen!Q152="","",Invullen!T152) | AD19: =IF(Invullen!X152="","",Invullen!AA152) | AE19: =IF(Invullen!AE152="","",Invullen!AH152) | AF19: =IF(Invullen!C179="","",Invullen!F179) | AG19: =IF(Invullen!J179="","",Invullen!M179) | AH19: =IF(Invullen!Q179="","",Invullen!T179) | AI19: =IF(Invullen!X179="","",Invullen!AA179) | AJ19: =IF(Invullen!AE179="","",Invullen!AH179)
A20: 21 | B20: =IF(Invullen!C12="","",Invullen!F18) | C20: =IF(Invullen!J18="","",Invullen!M18) | D20: =IF(Invullen!Q18="","",Invullen!T18) | E20: =IF(Invullen!X18="","",Invullen!AA18) | F20: =IF(Invullen!AE18="","",Invullen!AH18) | G20: =IF(Invullen!C45="","",Invullen!F45) | H20: =IF(Invullen!J45="","",Invullen!M45) | I20: =IF(Invullen!Q45="","",Invullen!T45) | J20: =IF(Invullen!X45="","",Invullen!AA45) | K20: =IF(Invullen!AE45="","",Invullen!AH45) | L20: =IF(Invullen!C72="","",Invullen!F72) | M20: =IF(Invullen!J72="","",Invullen!M72) | N20: =IF(Invullen!Q72="","",Invullen!T72) | O20: =IF(Invullen!X72="","",Invullen!AA72) | P20: =IF(Invullen!AE72="","",Invullen!AH72) | Q20: =IF(Invullen!C99="","",Invullen!F99) | R20: =IF(Invullen!J99="","",Invullen!M99) | S20: =IF(Invullen!Q99="","",Invullen!T99) | T20: =IF(Invullen!X99="","",Invullen!AA99) | U20: =IF(Invullen!AE99="","",Invullen!AH99) | V20: =IF(Invullen!C126="","",Invullen!F126) | W20: =IF(Invullen!J126="","",Invullen!M126) | X20: =IF(Invullen!Q126="","",Invullen!T126) | Y20: =IF(Invullen!X126="","",Invullen!AA126) | Z20: =IF(Invullen!AE126="","",Invullen!AH126) | AA20: =IF(Invullen!C153="","",Invullen!F153) | AB20: =IF(Invullen!J153="","",Invullen!M153) | AC20: =IF(Invullen!Q153="","",Invullen!T153) | AD20: =IF(Invullen!X153="","",Invullen!AA153) | AE20: =IF(Invullen!AE153="","",Invullen!AH153) | AF20: =IF(Invullen!C180="","",Invullen!F180) | AG20: =IF(Invullen!J180="","",Invullen!M180) | AH20: =IF(Invullen!Q180="","",Invullen!T180) | AI20: =IF(Invullen!X180="","",Invullen!AA180) | AJ20: =IF(Invullen!AE180="","",Invullen!AH180)
A21: 24 | B21: =IF(Invullen!C12="","",Invullen!F19) | C21: =IF(Invullen!J19="","",Invullen!M19) | D21: =IF(Invullen!Q19="","",Invullen!T19) | E21: =IF(Invullen!X19="","",Invullen!AA19) | F21: =IF(Invullen!AE19="","",Invullen!AH19) | G21: =IF(Invullen!C46="","",Invullen!F46) | H21: =IF(Invullen!J46="","",Invullen!M46) | I21: =IF(Invullen!Q46="","",Invullen!T46) | J21: =IF(Invullen!X46="","",Invullen!AA46) | K21: =IF(Invullen!AE46="","",Invullen!AH46) | L21: =IF(Invullen!C73="","",Invullen!F73) | M21: =IF(Invullen!J73="","",Invullen!M73) | N21: =IF(Invullen!Q73="","",Invullen!T73) | O21: =IF(Invullen!X73="","",Invullen!AA73) | P21: =IF(Invullen!AE73="","",Invullen!AH73) | Q21: =IF(Invullen!C100="","",Invullen!F100) | R21: =IF(Invullen!J100="","",Invullen!M100) | S21: =IF(Invullen!Q100="","",Invullen!T100) | T21: =IF(Invullen!X100="","",Invullen!AA100) | U21: =IF(Invullen!AE100="","",Invullen!AH100) | V21: =IF(Invullen!C127="","",Invullen!F127) | W21: =IF(Invullen!J127="","",Invullen!M127) | X21: =IF(Invullen!Q127="","",Invullen!T127) | Y21: =IF(Invullen!X127="","",Invullen!AA127) | Z21: =IF(Invullen!AE127="","",Invullen!AH127) | AA21: =IF(Invullen!C154="","",Invullen!F154) | AB21: =IF(Invullen!J154="","",Invullen!M154) | AC21: =IF(Invullen!Q154="","",Invullen!T154) | AD21: =IF(Invullen!X154="","",Invullen!AA154) | AE21: =IF(Invullen!AE154="","",Invullen!AH154) | AF21: =IF(Invullen!C181="","",Invullen!F181) | AG21: =IF(Invullen!J181="","",Invullen!M181) | AH21: =IF(Invullen!Q181="","",Invullen!T181) | AI21: =IF(Invullen!X181="","",Invullen!AA181) | AJ21: =IF(Invullen!AE181="","",Invullen!AH181)
A22: 27 | B22: =IF(Invullen!C12="","",Invullen!F20) | C22: =IF(Invullen!J20="","",Invullen!M20) | D22: =IF(Invullen!Q20="","",Invullen!T20) | E22: =IF(Invullen!X20="","",Invullen!AA20) | F22: =IF(Invullen!AE20="","",Invullen!AH20) | G22: =IF(Invullen!C47="","",Invullen!F47) | H22: =IF(Invullen!J47="","",Invullen!M47) | I22: =IF(Invullen!Q47="","",Invullen!T47) | J22: =IF(Invullen!X47="","",Invullen!AA47) | K22: =IF(Invullen!AE47="","",Invullen!AH47) | L22: =IF(Invullen!C74="","",Invullen!F74) | M22: =IF(Invullen!J74="","",Invullen!M74) | N22: =IF(Invullen!Q74="","",Invullen!T74) | O22: =IF(Invullen!X74="","",Invullen!AA74) | P22: =IF(Invullen!AE74="","",Invullen!AH74) | Q22: =IF(Invullen!C101="","",Invullen!F101) | R22: =IF(Invullen!J101="","",Invullen!M101) | S22: =IF(Invullen!Q101="","",Invullen!T101) | T22: =IF(Invullen!X101="","",Invullen!AA101) | U22: =IF(Invullen!AE101="","",Invullen!AH101) | V22: =IF(Invullen!C128="","",Invullen!F128) | W22: =IF(Invullen!J128="","",Invullen!M128) | X22: =IF(Invullen!Q128="","",Invullen!T128) | Y22: =IF(Invullen!X128="","",Invullen!AA128) | Z22: =IF(Invullen!AE128="","",Invullen!AH128) | AA22: =IF(Invullen!C155="","",Invullen!F155) | AB22: =IF(Invullen!J155="","",Invullen!M155) | AC22: =IF(Invullen!Q155="","",Invullen!T155) | AD22: =IF(Invullen!X155="","",Invullen!AA155) | AE22: =IF(Invullen!AE155="","",Invullen!AH155) | AF22: =IF(Invullen!C182="","",Invullen!F182) | AG22: =IF(Invullen!J182="","",Invullen!M182) | AH22: =IF(Invullen!Q182="","",Invullen!T182) | AI22: =IF(Invullen!X182="","",Invullen!AA182) | AJ22: =IF(Invullen!AE182="","",Invullen!AH182)
A23: 30 | B23: =IF(Invullen!C12="","",Invullen!F21) | C23: =IF(Invullen!J21="","",Invullen!M21) | D23: =IF(Invullen!Q21="","",Invullen!T21) | E23: =IF(Invullen!X21="","",Invullen!AA21) | F23: =IF(Invullen!AE21="","",Invullen!AH21) | G23: =IF(Invullen!C48="","",Invullen!F48) | H23: =IF(Invullen!J48="","",Invullen!M48) | I23: =IF(Invullen!Q48="","",Invullen!T48) | J23: =IF(Invullen!X48="","",Invullen!AA48) | K23: =IF(Invullen!AE48="","",Invullen!AH48) | L23: =IF(Invullen!C75="","",Invullen!F75) | M23: =IF(Invullen!J75="","",Invullen!M75) | N23: =IF(Invullen!Q75="","",Invullen!T75) | O23: =IF(Invullen!X75="","",Invullen!AA75) | P23: =IF(Invullen!AE75="","",Invullen!AH75) | Q23: =IF(Invullen!C102="","",Invullen!F102) | R23: =IF(Invullen!J102="","",Invullen!M102) | S23: =IF(Invullen!Q102="","",Invullen!T102) | T23: =IF(Invullen!X102="","",Invullen!AA102) | U23: =IF(Invullen!AE102="","",Invullen!AH102) | V23: =IF(Invullen!C129="","",Invullen!F129) | W23: =IF(Invullen!J129="","",Invullen!M129) | X23: =IF(Invullen!Q129="","",Invullen!T129) | Y23: =IF(Invullen!X129="","",Invullen!AA129) | Z23: =IF(Invullen!AE129="","",Invullen!AH129) | AA23: =IF(Invullen!C156="","",Invullen!F156) | AB23: =IF(Invullen!J156="","",Invullen!M156) | AC23: =IF(Invullen!Q156="","",Invullen!T156) | AD23: =IF(Invullen!X156="","",Invullen!AA156) | AE23: =IF(Invullen!AE156="","",Invullen!AH156) | AF23: =IF(Invullen!C183="","",Invullen!F183) | AG23: =IF(Invullen!J183="","",Invullen!M183) | AH23: =IF(Invullen!Q183="","",Invullen!T183) | AI23: =IF(Invullen!X183="","",Invullen!AA183) | AJ23: =IF(Invullen!AE183="","",Invullen!AH183)
A24: Tot | B24: =IF(B14="","",SUM(B14:B23)) | C24: =IF(C14="","",SUM(C14:C23)) | D24: =IF(D14="","",SUM(D14:D23)) | E24: =IF(E14="","",SUM(E14:E23)) | F24: =IF(F14="","",SUM(F14:F23)) | G24: =IF(G14="","",SUM(G14:G23)) | H24: =IF(H14="","",SUM(H14:H23)) | I24: =IF(I14="","",SUM(I14:I23)) | ... AJ24: =IF(AJ14="","",SUM(AJ14:AJ23)) | AK24: =SUM(B24:AJ24) -> 0
B25: =Summary!$L3 -> #DIV/0! | C25: =Summary!$L3 -> #DIV/0! | D25: =Summary!$L3 -> #DIV/0! | E25: =Summary!$L3 -> #DIV/0! | F25: =Summary!$L3 -> #DIV/0! | G25: =Summary!$L3 -> #DIV/0! | H25: =Summary!$L3 -> #DIV/0! | I25: =Summary!$L3 -> #DIV/0! | ... AJ25: =Summary!$L3 -> #DIV/0!

Sheet Summary
G2: Aantal verschietingen: | L2: =SUM(35-COUNTBLANK(Berekeningen!B1:AJ1)) -> 0
G3: Gemiddelde: | L3: =ROUND(SUM(Berekeningen!AK24/L2),0) -> #DIV/0! | N3: 1 | P3: =LARGE(Berekeningen!B24:AJ24,1) -> #NUM!
G4: Pijl-gemiddelde: | L4: =L3/30 -> #DIV/0! | N4: 2 | P4: =LARGE(Berekeningen!B24:AJ24,2) -> #NUM!
G5: Set-gemiddelde: | L5: =ROUND(SUM(L3/10),0) -> #DIV/0! | N5: 3 | P5: =LARGE(Berekeningen!B24:AJ24,3) -> #NUM!
G6: Beste Score: | L6: =MAX(Berekeningen!B24:K24) -> 0 | N6: 4 | P6: =LARGE(Berekeningen!B24:AJ24,4) -> #NUM!
G7: Beste Set: | L7: =MATCH(L6,Totaal,0) -> #N/A | N7: 5 | P7: =LARGE(Berekeningen!B24:AJ24,5) -> #NUM!
G8: Aantal keer: | L8: =COUNTIF(Berekeningen!B24:AJ24,L6) -> 0 | N8: 6 | P8: =LARGE(Berekeningen!B24:AJ24,6) -> #NUM!
G9: Aantal sets onder gem: | L9: =COUNTIF(Totaal,">"&L3) -> 0 | N9: 7 | P9: =LARGE(Berekeningen!B24:AJ24,7) -> #NUM!
G10: Aantal sets gem | L10: =COUNTIF(Totaal,"="&L3) -> 0 | N10: 8 | P10: =LARGE(Berekeningen!B24:AJ24,8) -> #NUM!
G11: Aantal sets boven gem: | L11: =COUNTIF(Totaal,">"&L3) -> 0 | N11: GEM | P11: =SUM(SUM(P3:P10)/240) -> #NUM!
