Workbook
Name Totaal: Berekeningen!$B$24:$AJ$24

Sheet Invullen
B2: 1 | I2: 2 | P2: 3 | W2: 4 | AD2: 5
B3: Datum: | I3: Datum: | P3: Datum: | W3: Datum: | AD3: Datum:
B4: Naam: | I4: Naam: | P4: Naam: | W4: Naam: | AD4: Naam:
B5: Discipline: | I5: Discipline: | P5: Discipline: | W5: Discipline: | AD5: Discipline:
B6: Plaats: | I6: Plaats: | P6: Plaats: | W6: Plaats: | AD6: Plaats:
B7: Locatie: | I7: Locatie: | P7: Locatie: | W7: Locatie: | AD7: Locatie:
B8: Afstand: | I8: Afstand: | P8: Afstand: | W8: Afstand: | AD8: Afstand:
B9: Blazoen: | I9: Blazoen: | P9: Blazoen: | W9: Blazoen: | AD9: Blazoen:
B10: Tegenstander: | I10: Tegenstander: | P10: Tegenstander: | W10: Tegenstander: | AD10: Tegenstander:
B12: 1 | F12: =SUM((SUM(C12:E12))+(COUNTIF(C12:E12,"X")*10)) -> 0 | G12: =F12 -> 0 | I12: 1 | M12: =SUM((SUM(J12:L12))+(COUNTIF(J12:L12,"X")*10)) -> 0 | N12: =M12 -> 0 | P12: 1 | T12: =SUM((SUM(Q12:S12))+(COUNTIF(Q12:S12,"X")*10)) -> 0 | U12: =T12 -> 0 | W12: 1 | AA12: =SUM((SUM(X12:Z12))+(COUNTIF(X12:Z12,"X")*10)) -> 0 | AB12: =AA12 -> 0 | AD12: 1 | AH12: =SUM((SUM(AE12:AG12))+(COUNTIF(AE12:AG12,"X")*10)) -> 0 | AI12: =AH12 -> 0
B13: 2 | F13: =SUM((SUM(C13:E13))+(COUNTIF(C13:E13,"X")*10)) -> 0 | G13: =SUM(G12,F13) -> 0 | I13: 2 | M13: =SUM((SUM(J13:L13))+(COUNTIF(J13:L13,"X")*10)) -> 0 | N13: =SUM(N12,M13) -> 0 | P13: 2 | T13: =SUM((SUM(Q13:S13))+(COUNTIF(Q13:S13,"X")*10)) -> 0 | U13: =SUM(U12,T13) -> 0 | W13: 2 | AA13: =SUM((SUM(X13:Z13))+(COUNTIF(X13:Z13,"X")*10)) -> 0 | AB13: =SUM(AB12,AA13) -> 0 | AD13: 2 | AH13: =SUM((SUM(AE13:AG13))+(COUNTIF(AE13:AG13,"X")*10)) -> 0 | AI13: =SUM(AI12,AH13) -> 0
B14: 3 | F14: =SUM((SUM(C14:E14))+(COUNTIF(C14:E14,"X")*10)) -> 0 | G14: =SUM(G13,F14) -> 0 | I14: 3 | M14: =SUM((SUM(J14:L14))+(COUNTIF(J14:L14,"X")*10)) -> 0 | N14: =SUM(N13,M14) -> 0 | P14: 3 | T14: =SUM((SUM(Q14:S14))+(COUNTIF(Q14:S14,"X")*10)) -> 0 | U14: =SUM(U13,T14) -> 0 | W14: 3 | AA14: =SUM((SUM(X14:Z14))+(COUNTIF(X14:Z14,"X")*10)) -> 0 | AB14: =SUM(AB13,AA14) -> 0 | AD14: 3 | AH14: =SUM((SUM(AE14:AG14))+(COUNTIF(AE14:AG14,"X")*10)) -> 0 | AI14: =SUM(AI13,AH14) -> 0
B15: 4 | F15: =SUM((SUM(C15:E15))+(COUNTIF(C15:E15,"X")*10)) -> 0 | G15: =SUM(G14,F15) -> 0 | I15: 4 | M15: =SUM((SUM(J15:L15))+(COUNTIF(J15:L15,"X")*10)) -> 0 | N15: =SUM(N14,M15) -> 0 | P15: 4 | T15: =SUM((SUM(Q15:S15))+(COUNTIF(Q15:S15,"X")*10)) -> 0 | U15: =SUM(U14,T15) -> 0 | W15: 4 | AA15: =SUM((SUM(X15:Z15))+(COUNTIF(X15:Z15,"X")*10)) -> 0 | AB15: =SUM(AB14,AA15) -> 0 | AD15: 4 | AH15: =SUM((SUM(AE15:AG15))+(COUNTIF(AE15:AG15,"X")*10)) -> 0 | AI15: =SUM(AI14,AH15) -> 0
B16: 5 | F16: =SUM((SUM(C16:E16))+(COUNTIF(C16:E16,"X")*10)) -> 0 | G16: =SUM(G15,F16) -> 0 | I16: 5 | M16: =SUM((SUM(J16:L16))+(COUNTIF(J16:L16,"X")*10)) -> 0 | N16: =SUM(N15,M16) -> 0 | P16: 5 | T16: =SUM((SUM(Q16:S16))+(COUNTIF(Q16:S16,"X")*10)) -> 0 | U16: =SUM(U15,T16) -> 0 | W16: 5 | AA16: =SUM((SUM(X16:Z16))+(COUNTIF(X16:Z16,"X")*10)) -> 0 | AB16: =SUM(AB15,AA16) -> 0 | AD16: 5 | AH16: =SUM((SUM(AE16:AG16))+(COUNTIF(AE16:AG16,"X")*10)) -> 0 | AI16: =SUM(AI15,AH16) -> 0
B17: 6 | F17: =SUM((SUM(C17:E17))+(COUNTIF(C17:E17,"X")*10)) -> 0 | G17: =SUM(G16,F17) -> 0 | I17: 6 | M17: =SUM((SUM(J17:L17))+(COUNTIF(J17:L17,"X")*10)) -> 0 | N17: =SUM(N16,M17) -> 0 | P17: 6 | T17: =SUM((SUM(Q17:S17))+(COUNTIF(Q17:S17,"X")*10)) -> 0 | U17: =SUM(U16,T17) -> 0 | W17: 6 | AA17: =SUM((SUM(X17:Z17))+(COUNTIF(X17:Z17,"X")*10)) -> 0 | AB17: =SUM(AB16,AA17) -> 0 | AD17: 6 | AH17: =SUM((SUM(AE17:AG17))+(COUNTIF(AE17:AG17,"X")*10)) -> 0 | AI17: =SUM(AI16,AH17) -> 0
B18: 7 | F18: =SUM((SUM(C18:E18))+(COUNTIF(C18:E18,"X")*10)) -> 0 | G18: =SUM(G17,F18) -> 0 | I18: 7 | M18: =SUM((SUM(J18:L18))+(COUNTIF(J18:L18,"X")*10)) -> 0 | N18: =SUM(N17,M18) -> 0 | P18: 7 | T18: =SUM((SUM(Q18:S18))+(COUNTIF(Q18:S18,"X")*10)) -> 0 | U18: =SUM(U17,T18) -> 0 | W18: 7 | AA18: =SUM((SUM(X18:Z18))+(COUNTIF(X18:Z18,"X")*10)) -> 0 | AB18: =SUM(AB17,AA18) -> 0 | AD18: 7 | AH18: =SUM((SUM(AE18:AG18))+(COUNTIF(AE18:AG18,"X")*10)) -> 0 | AI18: =SUM(AI17,AH18) -> 0
B19: 8 | F19: =SUM((SUM(C19:E19))+(COUNTIF(C19:E19,"X")*10)) -> 0 | G19: =SUM(G18,F19) -> 0 | I19: 8 | M19: =SUM((SUM(J19:L19))+(COUNTIF(J19:L19,"X")*10)) -> 0 | N19: =SUM(N18,M19) -> 0 | P19: 8 | T19: =SUM((SUM(Q19:S19))+(COUNTIF(Q19:S19,"X")*10)) -> 0 | U19: =SUM(U18,T19) -> 0 | W19: 8 | AA19: =SUM((SUM(X19:Z19))+(COUNTIF(X19:Z19,"X")*10)) -> 0 | AB19: =SUM(AB18,AA19) -> 0 | AD19: 8 | AH19: =SUM((SUM(AE19:AG19))+(COUNTIF(AE19:AG19,"X")*10)) -> 0 | AI19: =SUM(AI18,AH19) -> 0
B20: 9 | F20: =SUM((SUM(C20:E20))+(COUNTIF(C20:E20,"X")*10)) -> 0 | G20: =SUM(G19,F20) -> 0 | I20: 9 | M20: =SUM((SUM(J20:L20))+(COUNTIF(J20:L20,"X")*10)) -> 0 | N20: =SUM(N19,M20) -> 0 | P20: 9 | T20: =SUM((SUM(Q20:S20))+(COUNTIF(Q20:S20,"X")*10)) -> 0 | U20: =SUM(U19,T20) -> 0 | W20: 9 | AA20: =SUM((SUM(X20:Z20))+(COUNTIF(X20:Z20,"X")*10)) -> 0 | AB20: =SUM(AB19,AA20) -> 0 | AD20: 9 | AH20: =SUM((SUM(AE20:AG20))+(COUNTIF(AE20:AG20,"X")*10)) -> 0 | AI20: =SUM(AI19,AH20) -> 0
B21: 10 | F21: =SUM(SUM(C21:E21))+(COUNTIF(C21:E21,"X")*10) -> 0 | G21: =SUM(G20,F21) -> 0 | I21: 10 | M21: =SUM((SUM(J21:L21))+(COUNTIF(J21:L21,"X")*10)) -> 0 | N21: =SUM(N20,M21) -> 0 | P21: 10 | T21: =SUM((SUM(Q21:S21))+(COUNTIF(Q21:S21,"X")*10)) -> 0 | U21: =SUM(U20,T21) -> 0 | W21: 10 | AA21: =SUM((SUM(X21:Z21))+(COUNTIF(X21:Z21,"X")*10)) -> 0 | AB21: =SUM(AB20,AA21) -> 0 | AD21: 10 | AH21: =SUM((SUM(AE21:AG21))+(COUNTIF(AE21:AG21,"X")*10)) -> 0 | AI21: =SUM(AI20,AH21) -> 0
B22: Totaal: | G22: =G21 -> 0 | I22: Totaal: | N22: =N21 -> 0 | P22: Totaal: | U22: =U21 -> 0 | W22: Totaal: | AB22: =AB21 -> 0 | AD22: Totaal: | AI22: =AI21 -> 0
B24: Aantal 10: | G24: =COUNTIF(C12:E21,10) -> 0 | I24: Aantal 10: | N24: =COUNTIF(J12:L21,10) -> 0 | P24: Aantal 10: | U24: =COUNTIF(Q12:S21,10) -> 0 | W24: Aantal 10: | AB24: =COUNTIF(X12:Z21,10) -> 0 | AD24: Aantal 10: | AI24: =COUNTIF(AE12:AG21,10) -> 0
B25: Aantal X: | G25: =COUNTIF(C12:E21,"x") -> 0 | I25: Aantal X: | N25: =COUNTIF(J12:L21,"x") -> 0 | P25: Aantal X: | U25: =COUNTIF(Q12:S21,"x") -> 0 | W25: Aantal X: | AB25: =COUNTIF(X12:Z21,"x") -> 0 | AD25: Aantal X: | AI25: =COUNTIF(AE12:AG21,"x") -> 0
B26: Pijl-gemiddelde: | G26: =G22/30 -> 0 | I26: Pijl-gemiddelde: | N26: =N22/30 -> 0 | P26: Pijl-gemiddelde: | U26: =U22/30 -> 0 | W26: Pijl-gemiddelde: | AB26: =AB22/30 -> 0 | AD26: Pijl-gemiddelde: | AI26: =AI22/30 -> 0
B27: Set-gemiddelde: | G27: =SUM(SUM(F12:F21)/10) -> 0 | I27: Set-gemiddelde: | N27: =SUM(SUM(M12:M21)/10) -> 0 | P27: Set-gemiddelde: | U27: =SUM(SUM(T12:T21)/10) -> 0 | W27: Set-gemiddelde: | AB27: =SUM(SUM(AA12:AA21)/10) -> 0 | AD27: Set-gemiddelde: | AI27: =SUM(SUM(AH12:AH21)/10) -> 0
B29: 6 | I29: 7 | P29: 8 | W29: 9 | AD29: 10
B30: Datum: | I30: Datum: | P30: Datum: | W30: Datum: | AD30: Datum:
B31: Naam: | I31: Naam: | P31: Naam: | W31: Naam: | AD31: Naam:
B32: Discipline: | I32: Discipline: | P32: Discipline: | W32: Discipline: | AD32: Discipline:
B33: Plaats: | I33: Plaats: | P33: Plaats: | W33: Plaats: | AD33: Plaats:
B34: Locatie: | I34: Locatie: | P34: Locatie: | W34: Locatie: | AD34: Locatie:
B35: Afstand: | I35: Afstand: | P35: Afstand: | W35: Afstand: | AD35: Afstand:
B36: Blazoen: | I36: Blazoen: | P36: Blazoen: | W36: Blazoen: | AD36: Blazoen:
B37: Tegenstander: | I37: Tegenstander: | P37: Tegenstander: | W37: Tegenstander: | AD37: Tegenstander:
B39: 1 | F39: =SUM((SUM(C39:E39))+(COUNTIF(C39:E39,"X")*10)) -> 0 | G39: =F39 -> 0 | I39: 1 | M39: =SUM((SUM(J39:L39))+(COUNTIF(J39:L39,"X")*10)) -> 0 | N39: =M39 -> 0 | P39: 1 | T39: =SUM((SUM(Q39:S39))+(COUNTIF(Q39:S39,"X")*10)) -> 0 | U39: =T39 -> 0 | W39: 1 | AA39: =SUM((SUM(X39:Z39))+(COUNTIF(X39:Z39,"X")*10)) -> 0 | AB39: =AA39 -> 0 | AD39: 1 | AH39: =SUM((SUM(AE39:AG39))+(COUNTIF(AE39:AG39,"X")*10)) -> 0 | AI39: =AH39 -> 0
B40: 2 | F40: =SUM((SUM(C40:E40))+(COUNTIF(C40:E40,"X")*10)) -> 0 | G40: =SUM(G39,F40) -> 0 | I40: 2 | M40: =SUM((SUM(J40:L40))+(COUNTIF(J40:L40,"X")*10)) -> 0 | N40: =SUM(N39,M40) -> 0 | P40: 2 | T40: =SUM((SUM(Q40:S40))+(COUNTIF(Q40:S40,"X")*10)) -> 0 | U40: =SUM(U39,T40) -> 0 | W40: 2 | AA40: =SUM((SUM(X40:Z40))+(COUNTIF(X40:Z40,"X")*10)) -> 0 | AB40: =SUM(AB39,AA40) -> 0 | AD40: 2 | AH40: =SUM((SUM(AE40:AG40))+(COUNTIF(AE40:AG40,"X")*10)) -> 0 | AI40: =SUM(AI39,AH40) -> 0
B41: 3 | F41: =SUM((SUM(C41:E41))+(COUNTIF(C41:E41,"X")*10)) -> 0 | G41: =SUM(G40,F41) -> 0 | I41: 3 | M41: =SUM((SUM(J41:L41))+(COUNTIF(J41:L41,"X")*10)) -> 0 | N41: =SUM(N40,M41) -> 0 | P41: 3 | T41: =SUM((SUM(Q41:S41))+(COUNTIF(Q41:S41,"X")*10)) -> 0 | U41: =SUM(U40,T41) -> 0 | W41: 3 | AA41: =SUM((SUM(X41:Z41))+(COUNTIF(X41:Z41,"X")*10)) -> 0 | AB41: =SUM(AB40,AA41) -> 0 | AD41: 3 | AH41: =SUM((SUM(AE41:AG41))+(COUNTIF(AE41:AG41,"X")*10)) -> 0 | AI41: =SUM(AI40,AH41) -> 0
B42: 4 | F42: =SUM((SUM(C42:E42))+(COUNTIF(C42:E42,"X")*10)) -> 0 | G42: =SUM(G41,F42) -> 0 | I42: 4 | M42: =SUM((SUM(J42:L42))+(COUNTIF(J42:L42,"X")*10)) -> 0 | N42: =SUM(N41,M42) -> 0 | P42: 4 | T42: =SUM((SUM(Q42:S42))+(COUNTIF(Q42:S42,"X")*10)) -> 0 | U42: =SUM(U41,T42) -> 0 | W42: 4 | AA42: =SUM((SUM(X42:Z42))+(COUNTIF(X42:Z42,"X")*10)) -> 0 | AB42: =SUM(AB41,AA42) -> 0 | AD42: 4 | AH42: =SUM((SUM(AE42:AG42))+(COUNTIF(AE42:AG42,"X")*10)) -> 0 | AI42: =SUM(AI41,AH42) -> 0
B43: 5 | F43: =SUM((SUM(C43:E43))+(COUNTIF(C43:E43,"X")*10)) -> 0 | G43: =SUM(G42,F43) -> 0 | I43: 5 | M43: =SUM((SUM(J43:L43))+(COUNTIF(J43:L43,"X")*10)) -> 0 | N43: =SUM(N42,M43) -> 0 | P43: 5 | T43: =SUM((SUM(Q43:S43))+(COUNTIF(Q43:S43,"X")*10)) -> 0 | U43: =SUM(U42,T43) -> 0 | W43: 5 | AA43: =SUM((SUM(X43:Z43))+(COUNTIF(X43:Z43,"X")*10)) -> 0 | AB43: =SUM(AB42,AA43) -> 0 | AD43: 5 | AH43: =SUM((SUM(AE43:AG43))+(COUNTIF(AE43:AG43,"X")*10)) -> 0 | AI43: =SUM(AI42,AH43) -> 0
B44: 6 | F44: =SUM((SUM(C44:E44))+(COUNTIF(C44:E44,"X")*10)) -> 0 | G44: =SUM(G43,F44) -> 0 | I44: 6 | M44: =SUM((SUM(J44:L44))+(COUNTIF(J44:L44,"X")*10)) -> 0 | N44: =SUM(N43,M44) -> 0 | P44: 6 | T44: =SUM((SUM(Q44:S44))+(COUNTIF(Q44:S44,"X")*10)) -> 0 | U44: =SUM(U43,T44) -> 0 | W44: 6 | AA44: =SUM((SUM(X44:Z44))+(COUNTIF(X44:Z44,"X")*10)) -> 0 | AB44: =SUM(AB43,AA44) -> 0 | AD44: 6 | AH44: =SUM((SUM(AE44:AG44))+(COUNTIF(AE44:AG44,"X")*10)) -> 0 | AI44: =SUM(AI43,AH44) -> 0
B45: 7 | F45: =SUM((SUM(C45:E45))+(COUNTIF(C45:E45,"X")*10)) -> 0 | G45: =SUM(G44,F45) -> 0 | I45: 7 | M45: =SUM((SUM(J45:L45))+(COUNTIF(J45:L45,"X")*10)) -> 0 | N45: =SUM(N44,M45) -> 0 | P45: 7 | T45: =SUM((SUM(Q45:S45))+(COUNTIF(Q45:S45,"X")*10)) -> 0 | U45: =SUM(U44,T45) -> 0 | W45: 7 | AA45: =SUM((SUM(X45:Z45))+(COUNTIF(X45:Z45,"X")*10)) -> 0 | AB45: =SUM(AB44,AA45) -> 0 | AD45: 7 | AH45: =SUM((SUM(AE45:AG45))+(COUNTIF(AE45:AG45,"X")*10)) -> 0 | AI45: =SUM(AI44,AH45) -> 0
...

Sheet Berekeningen
A1: 0 | B1: =IF(Invullen!C12="","",COUNTIF(Invullen!C12:E21,0)) | C1: =IF(Invullen!J12="","",COUNTIF(Invullen!J12:L21,0)) | D1: =IF(Invullen!Q12="","",COUNTIF(Invullen!Q12:S21,0)) | E1: =IF(Invullen!X12="","",COUNTIF(Invullen!X12:Z21,0)) | F1: =IF(Invullen!AE12="","",COUNTIF(Invullen!AE12:AG21,0)) | G1: =IF(Invullen!C39="","",COUNTIF(Invullen!C39:E48,0)) | H1: =IF(Invullen!J39="","",COUNTIF(Invullen!J39:L48,0)) | I1: =IF(Invullen!Q39="","",COUNTIF(Invullen!Q39:S48,0)) | J1: =IF(Invullen!X39="","",COUNTIF(Invullen!X39:Z48,0)) | K1: =IF(Invullen!AE39="","",COUNTIF(Invullen!AE39:AG48,0)) | L1: =IF(Invullen!C66="","",COUNTIF(Invullen!C66:E75,0)) | M1: =IF(Invullen!J66="","",COUNTIF(Invullen!J66:L75,0)) | N1: =IF(Invullen!Q66="","",COUNTIF(Invullen!Q66:S75,0)) | O1: =IF(Invullen!X66="","",COUNTIF(Invullen!X66:Z75,0)) | P1: =IF(Invullen!AE66="","",COUNTIF(Invullen!AE66:AG75,0)) | Q1: =IF(Invullen!C93="","",COUNTIF(Invullen!C93:E102,0)) | R1: =IF(Invullen!J93="","",COUNTIF(Invullen!J93:L102,0)) | S1: =IF(Invullen!Q93="","",COUNTIF(Invullen!Q93:S102,0)) | T1: =IF(Invullen!X93="","",COUNTIF(Invullen!X93:Z102,0)) | U1: =IF(Invullen!AE93="","",COUNTIF(Invullen!AE93:AG102,0)) | V1: =IF(Invullen!C120="","",COUNTIF(Invullen!C120:E129,0)) | W1: =IF(Invullen!J120="","",COUNTIF(Invullen!J120:L129,0)) | X1: =IF(Invullen!Q120="","",COUNTIF(Invullen!Q120:S129,0)) | Y1: =IF(Invullen!X120="","",COUNTIF(Invullen!X120:Z129,0)) | Z1: =IF(Invullen!AE120="","",COUNTIF(Invullen!AE120:AG129,0)) | AA1: =IF(Invullen!C147="","",COUNTIF(Invullen!C147:E156,0)) | AB1: =IF(Invullen!J147="","",COUNTIF(Invullen!J147:L156,0)) | AC1: =IF(Invullen!Q147="","",COUNTIF(Invullen!Q147:S156,0)) | AD1: =IF(Invullen!X147="","",COUNTIF(Invullen!X147:Z156,0)) | AE1: =IF(Invullen!X174="","",COUNTIF(Invullen!AE147:AG156,0)) | AF1: =IF(Invullen!C174="","",COUNTIF(Invullen!C174:E183,0)) | AG1: =IF(Invullen!J174="","",COUNTIF(Invullen!J174:L183,0)) | AH1: =IF(Invullen!Q174="","",COUNTIF(Invullen!Q174:S183,0)) | AI1: =IF(Invullen!X174="","",COUNTIF(Invullen!X174:Z183,0)) | AJ1: =IF(Invullen!AE174="","",COUNTIF(Invullen!AE174:AG183,0)) | AK1: =SUM(B1:K1)/AM2 -> #DIV/0! | AL1: =SUM(B1:AJ1) -> 0 | AN1: =AL1/AM3 -> #DIV/0!
A2: 1 | B2: =IF(Invullen!C12="","",COUNTIF(Invullen!C12:E21,1)) | C2: =IF(Invullen!J12="","",COUNTIF(Invullen!J12:L21,1)) | D2: =IF(Invullen!Q12="","",COUNTIF(Invullen!Q12:S21,1)) | E2: =IF(Invullen!X12="","",COUNTIF(Invullen!X12:Z21,1)) | F2: =IF(Invullen!AE12="","",COUNTIF(Invullen!AE12:AG21,1)) | G2: =IF(Invullen!C39="","",COUNTIF(Invullen!C39:E48,1)) | H2: =IF(Invullen!J39="","",COUNTIF(Invullen!J39:L48,1)) | I2: =IF(Invullen!Q39="","",COUNTIF(Invullen!Q39:S48,1)) | J2: =IF(Invullen!X39="","",COUNTIF(Invullen!X39:Z48,1)) | K2: =IF(Invullen!AE39="","",COUNTIF(Invullen!AE39:AG48,1)) | L2: =IF(Invullen!C66="","",COUNTIF(Invullen!C66:E75,1)) | M2: =IF(Invullen!J66="","",COUNTIF(Invullen!J66:L75,1)) | N2: =IF(Invullen!Q66="","",COUNTIF(Invullen!Q66:S75,1)) | O2: =IF(Invullen!X66="","",COUNTIF(Invullen!X66:Z75,1)) | P2: =IF(Invullen!AE66="","",COUNTIF(Invullen!AE66:AG75,1)) | Q2: =IF(Invullen!C93="","",COUNTIF(Invullen!C93:E102,1)) | R2: =IF(Invullen!J93="","",COUNTIF(Invullen!J93:L102,1)) | S2: =IF(Invullen!Q93="","",COUNTIF(Invullen!Q93:S102,1)) | T2: =IF(Invullen!X93="","",COUNTIF(Invullen!X93:Z102,1)) | U2: =IF(Invullen!AE93="","",COUNTIF(Invullen!AE93:AG102,1)) | V2: =IF(Invullen!C120="","",COUNTIF(Invullen!C120:E129,1)) | W2: =IF(Invullen!J120="","",COUNTIF(Invullen!J120:L129,1)) | X2: =IF(Invullen!Q120="","",COUNTIF(Invullen!Q120:S129,1)) | Y2: =IF(Invullen!X120="","",COUNTIF(Invullen!X120:Z129,1)) | Z2: =IF(Invullen!AE120="","",COUNTIF(Invullen!AE120:AG129,1)) | AA2: =IF(Invullen!C147="","",COUNTIF(Invullen!C147:E156,1)) | AB2: =IF(Invullen!J147="","",COUNTIF(Invullen!J147:L156,1)) | AC2: =IF(Invullen!Q147="","",COUNTIF(Invullen!Q147:S156,1)) | AD2: =IF(Invullen!X147="","",COUNTIF(Invullen!X147:Z156,1)) | AF2: =IF(Invullen!C174="","",COUNTIF(Invullen!C174:E183,10)) | AG2: =IF(Invullen!J174="","",COUNTIF(Invullen!J174:L183,1)) | AH2: =IF(Invullen!Q174="","",COUNTIF(Invullen!Q174:S183,1)) | AI2: =IF(Invullen!X174="","",COUNTIF(Invullen!X174:Z183,1)) | AJ2: =IF(Invullen!AE174="","",COUNTIF(Invullen!AE174:AG183,1)) | AK2: =SUM(B2:K2)/AM2 -> #DIV/0! | AL2: =SUM(B2:AJ2) -> 0 | AM2: =SUM(35-COUNTBLANK(B1:AJ1)) -> 0 | AN2: =AL2/$AM3 -> #DIV/0!
A3: 2 | B3: =IF(Invullen!C12="","",COUNTIF(Invullen!C12:E21,2)) | C3: =IF(Invullen!J12="","",COUNTIF(Invullen!J12:L21,2)) | D3: =IF(Invullen!Q12="","",COUNTIF(Invullen!Q12:S21,2)) | E3: =IF(Invullen!X12="","",COUNTIF(Invullen!X12:Z21,2)) | F3: =IF(Invullen!AE12="","",COUNTIF(Invullen!AE12:AG21,2)) | G3: =IF(Invullen!C39="","",COUNTIF(Invullen!C39:E48,2)) | H3: =IF(Invullen!J39="","",COUNTIF(Invullen!J39:L48,2)) | I3: =IF(Invullen!Q39="","",COUNTIF(Invullen!Q39:S48,2)) | J3: =IF(Invullen!X39="","",COUNTIF(Invullen!X39:Z48,2)) | K3: =IF(Invullen!AE39="","",COUNTIF(Invullen!AE39:AG48,2)) | L3: =IF(Invullen!C66="","",COUNTIF(Invullen!C66:E75,2)) | M3: =IF(Invullen!J66="","",COUNTIF(Invullen!J66:L75,2)) | N3: =IF(Invullen!Q66="","",COUNTIF(Invullen!Q66:S75,2)) | O3: =IF(Invullen!X66="","",COUNTIF(Invullen!X66:Z75,2)) | P3: =IF(Invullen!AE66="","",COUNTIF(Invullen!AE66:AG75,2)) | Q3: =IF(Invullen!C93="","",COUNTIF(Invullen!C93:E102,2)) | R3: =IF(Invullen!J93="","",COUNTIF(Invullen!J93:L102,2)) | S3: =IF(Invullen!Q93="","",COUNTIF(Invullen!Q93:S102,2)) | T3: =IF(Invullen!X93="","",COUNTIF(Invullen!X93:Z102,2)) | U3: =IF(Invullen!AE93="","",COUNTIF(Invullen!AE93:AG102,2)) | V3: =IF(Invullen!C120="","",COUNTIF(Invullen!C120:E129,2)) | W3: =IF(Invullen!J120="","",COUNTIF(Invullen!J120:L129,2)) | X3: =IF(Invullen!Q120="","",COUNTIF(Invullen!Q120:S129,2)) | Y3: =IF(Invullen!X120="","",COUNTIF(Invullen!X120:Z129,2)) | Z3: =IF(Invullen!AE120="","",COUNTIF(Invullen!AE120:AG129,2)) | AA3: =IF(Invullen!C147="","",COUNTIF(Invullen!C147:E156,2)) | AB3: =IF(Invullen!J147="","",COUNTIF(Invullen!J147:L156,2)) | AC3: =IF(Invullen!Q147="","",COUNTIF(Invullen!Q147:S156,2)) | AD3: =IF(Invullen!X147="","",COUNTIF(Invullen!X147:Z156,2)) | AE3: =IF(Invullen!X174="","",COUNTIF(Invullen!AE147:AG156,2)) | AF3: =IF(Invullen!C174="","",COUNTIF(Invullen!C174:E183,2)) | AG3: =IF(Invullen!J174="","",COUNTIF(Invullen!J174:L183,2)) | AH3: =IF(Invullen!Q174="","",COUNTIF(Invullen!Q174:S183,2)) | AI3: =IF(Invullen!X174="","",COUNTIF(Invullen!X174:Z183,2)) | AJ3: =IF(Invullen!AE174="","",COUNTIF(Invullen!AE174:AG183,2)) | AK3: =SUM(B3:K3)/AM2 -> #DIV/0! | AL3: =SUM(B3:AJ3) -> 0 | AM3: =SUM(B1:AJ12) -> 0 | AN3: =AL3/$AM3 -> #DIV/0!
A4: 3 | B4: =IF(Invullen!C12="","",COUNTIF(Invullen!C12:E21,3)) | C4: =IF(Invullen!J12="","",COUNTIF(Invullen!J12:L21,3)) | D4: =IF(Invullen!Q12="","",COUNTIF(Invullen!Q12:S21,3)) | E4: =IF(Invullen!X12="","",COUNTIF(Invullen!X12:Z21,3)) | F4: =IF(Invullen!AE12="","",COUNTIF(Invullen!AE12:AG21,3)) | G4: =IF(Invullen!C39="","",COUNTIF(Invullen!C39:E48,3)) | H4: =IF(Invullen!J39="","",COUNTIF(Invullen!J39:L48,3)) | I4: =IF(Invullen!Q39="","",COUNTIF(Invullen!Q39:S48,3)) | J4: =IF(Invullen!X39="","",COUNTIF(Invullen!X39:Z48,3)) | K4: =IF(Invullen!AE39="","",COUNTIF(Invullen!AE39:AG48,3)) | L4: =IF(Invullen!C66="","",COUNTIF(Invullen!C66:E75,3)) | M4: =IF(Invullen!J66="","",COUNTIF(Invullen!J66:L75,3)) | N4: =IF(Invullen!Q66="","",COUNTIF(Invullen!Q66:S75,3)) | O4: =IF(Invullen!X66="","",COUNTIF(Invullen!X66:Z75,3)) | P4: =IF(Invullen!AE66="","",COUNTIF(Invullen!AE66:AG75,3)) | Q4: =IF(Invullen!C93="","",COUNTIF(Invullen!C93:E102,3)) | R4: =IF(Invullen!J93="","",COUNTIF(Invullen!J93:L102,3)) | S4: =IF(Invullen!Q93="","",COUNTIF(Invullen!Q93:S102,3)) | T4: =IF(Invullen!X93="","",COUNTIF(Invullen!X93:Z102,3)) | U4: =IF(Invullen!AE93="","",COUNTIF(Invullen!AE93:AG102,3)) | V4: =IF(Invullen!C120="","",COUNTIF(Invullen!C120:E129,3)) | W4: =IF(Invullen!J120="","",COUNTIF(Invullen!J120:L129,3)) | X4: =IF(Invullen!Q120="","",COUNTIF(Invullen!Q120:S129,3)) | Y4: =IF(Invullen!X120="","",COUNTIF(Invullen!X120:Z129,3)) | Z4: =IF(Invullen!AE120="","",COUNTIF(Invullen!AE120:AG129,3)) | AA4: =IF(Invullen!C147="","",COUNTIF(Invullen!C147:E156,3)) | AB4: =IF(Invullen!J147="","",COUNTIF(Invullen!J147:L156,3)) | AC4: =IF(Invullen!Q147="","",COUNTIF(Invullen!Q147:S156,3)) | AD4: =IF(Invullen!X147="","",COUNTIF(Invullen!X147:Z156,3)) | AE4: =IF(Invullen!X174="","",COUNTIF(Invullen!AE147:AG156,3)) | AF4: =IF(Invullen!C174="","",COUNTIF(Invullen!C174:E183,3)) | AG4: =IF(Invullen!J174="","",COUNTIF(Invullen!J174:L183,3)) | AH4: =IF(Invullen!Q174="","",COUNTIF(Invullen!Q174:S183,3)) | AI4: =IF(Invullen!X174="","",COUNTIF(Invullen!X174:Z183,3)) | AJ4: =IF(Invullen!AE174="","",COUNTIF(Invullen!AE174:AG183,3)) | AK4: =SUM(B4:K4)/AM2 -> #DIV/0! | AL4: =SUM(B4:AJ4) -> 0 | AN4: =AL4/$AM3 -> #DIV/0!
A5: 4 | B5: =IF(Invullen!C12="","",COUNTIF(Invullen!C12:E21,4)) | C5: =IF(Invullen!J12="","",COUNTIF(Invullen!J12:L21,4)) | D5: =IF(Invullen!Q12="","",COUNTIF(Invullen!Q12:S21,4)) | E5: =IF(Invullen!X12="","",COUNTIF(Invullen!X12:Z21,4)) | F5: =IF(Invullen!AE12="","",COUNTIF(Invullen!AE12:AG21,4)) | G5: =IF(Invullen!C39="","",COUNTIF(Invullen!C39:E48,4)) | H5: =IF(Invullen!J39="","",COUNTIF(Invullen!J39:L48,4)) | I5: =IF(Invullen!Q39="","",COUNTIF(Invullen!Q39:S48,4)) | J5: =IF(Invullen!X39="","",COUNTIF(Invullen!X39:Z48,4)) | K5: =IF(Invullen!AE39="","",COUNTIF(Invullen!AE39:AG48,4)) | L5: =IF(Invullen!C66="","",COUNTIF(Invullen!C66:E75,4)) | M5: =IF(Invullen!J66="","",COUNTIF(Invullen!J66:L75,4)) | N5: =IF(Invullen!Q66="","",COUNTIF(Invullen!Q66:S75,4)) | O5: =IF(Invullen!X66="","",COUNTIF(Invullen!X66:Z75,4)) | P5: =IF(Invullen!AE66="","",COUNTIF(Invullen!AE66:AG75,4)) | Q5: =IF(Invullen!C93="","",COUNTIF(Invullen!C93:E102,4)) | R5: =IF(Invullen!J93="","",COUNTIF(Invullen!J93:L102,4)) | S5: =IF(Invullen!Q93="","",COUNTIF(Invullen!Q93:S102,4)) | T5: =IF(Invullen!X93="","",COUNTIF(Invullen!X93:Z102,4)) | U5: =IF(Invullen!AE93="","",COUNTIF(Invullen!AE93:AG102,4)) | V5: =IF(Invullen!C120="","",COUNTIF(Invullen!C120:E129,4)) | W5: =IF(Invullen!J120="","",COUNTIF(Invullen!J120:L129,4)) | X5: =IF(Invullen!Q120="","",COUNTIF(Invullen!Q120:S129,4)) | Y5: =IF(Invullen!X120="","",COUNTIF(Invullen!X120:Z129,4)) | Z5: =IF(Invullen!AE120="","",COUNTIF(Invullen!AE120:AG129,4)) | AA5: =IF(Invullen!C147="","",COUNTIF(Invullen!C147:E156,4)) | AB5: =IF(Invullen!J147="","",COUNTIF(Invullen!J147:L156,4)) | AC5: =IF(Invullen!Q147="","",COUNTIF(Invullen!Q147:S156,4)) | AD5: =IF(Invullen!X147="","",COUNTIF(Invullen!X147:Z156,4)) | AE5: =IF(Invullen!X174="","",COUNTIF(Invullen!AE147:AG156,4)) | AF5: =IF(Invullen!C174="","",COUNTIF(Invullen!C174:E183,4)) | AG5: =IF(Invullen!J174="","",COUNTIF(Invullen!J174:L183,4)) | AH5: =IF(Invullen!Q174="","",COUNTIF(Invullen!Q174:S183,4)) | AI5: =IF(Invullen!X174="","",COUNTIF(Invullen!X174:Z183,4)) | AJ5: =IF(Invullen!AE174="","",COUNTIF(Invullen!AE174:AG183,4)) | AK5: =SUM(B5:K5)/AM2 -> #DIV/0! | AL5: =SUM(B5:AJ5) -> 0 | AN5: =AL5/$AM3 -> #DIV/0!
A6: 5 | B6: =IF(Invullen!C12="","",COUNTIF(Invullen!C12:E21,5)) | C6: =IF(Invullen!J12="","",COUNTIF(Invullen!J12:L21,5)) | D6: =IF(Invullen!Q12="","",COUNTIF(Invullen!Q12:S21,5)) | E6: =IF(Invullen!X12="","",COUNTIF(Invullen!X12:Z21,5)) | F6: =IF(Invullen!AE12="","",COUNTIF(Invullen!AE12:AG21,5)) | G6: =IF(Invullen!C39="","",COUNTIF(Invullen!C39:E48,5)) | H6: =IF(Invullen!J39="","",COUNTIF(Invullen!J39:L48,5)) | I6: =IF(Invullen!Q39="","",COUNTIF(Invullen!Q39:S48,5)) | J6: =IF(Invullen!X39="","",COUNTIF(Invullen!X39:Z48,5)) | K6: =IF(Invullen!AE39="","",COUNTIF(Invullen!AE39:AG48,5)) | L6: =IF(Invullen!C66="","",COUNTIF(Invullen!C66:E75,5)) | M6: =IF(Invullen!J66="","",COUNTIF(Invullen!J66:L75,5)) | N6: =IF(Invullen!Q66="","",COUNTIF(Invullen!Q66:S75,5)) | O6: =IF(Invullen!X66="","",COUNTIF(Invullen!X66:Z75,5)) | P6: =IF(Invullen!AE66="","",COUNTIF(Invullen!AE66:AG75,5)) | Q6: =IF(Invullen!C93="","",COUNTIF(Invullen!C93:E102,5)) | R6: =IF(Invullen!J93="","",COUNTIF(Invullen!J93:L102,5)) | S6: =IF(Invullen!Q93="","",COUNTIF(Invullen!Q93:S102,5)) | T6: =IF(Invullen!X93="","",COUNTIF(Invullen!X93:Z102,5)) | U6: =IF(Invullen!AE93="","",COUNTIF(Invullen!AE93:AG102,5)) | V6: =IF(Invullen!C120="","",COUNTIF(Invullen!C120:E129,5)) | W6: =IF(Invullen!J120="","",COUNTIF(Invullen!J120:L129,5)) | X6: =IF(Invullen!Q120="","",COUNTIF(Invullen!Q120:S129,5)) | Y6: =IF(Invullen!X120="","",COUNTIF(Invullen!X120:Z129,5)) | Z6: =IF(Invullen!AE120="","",COUNTIF(Invullen!AE120:AG129,5)) | AA6: =IF(Invullen!C147="","",COUNTIF(Invullen!C147:E156,5)) | AB6: =IF(Invullen!J147="","",COUNTIF(Invullen!J147:L156,5)) | AC6: =IF(Invullen!Q147="","",COUNTIF(Invullen!Q147:S156,5)) | AD6: =IF(Invullen!X147="","",COUNTIF(Invullen!X147:Z156,5)) | AE6: =IF(Invullen!X174="","",COUNTIF(Invullen!AE147:AG156,5)) | AF6: =IF(Invullen!C174="","",COUNTIF(Invullen!C174:E183,5)) | AG6: =IF(Invullen!J174="","",COUNTIF(Invullen!J174:L183,5)) | AH6: =IF(Invullen!Q174="","",COUNTIF(Invullen!Q174:S183,5)) | AI6: =IF(Invullen!X174="","",COUNTIF(Invullen!X174:Z183,5)) | AJ6: =IF(Invullen!AE174="","",COUNTIF(Invullen!AE174:AG183,5)) | AK6: =SUM(B6:K6)/AM2 -> #DIV/0! | AL6: =SUM(B6:AJ6) -> 0 | AN6: =AL6/$AM3 -> #DIV/0!
A7: 6 | B7: =IF(Invullen!C12="","",COUNTIF(Invullen!C12:E21,6)) | C7: =IF(Invullen!J12="","",COUNTIF(Invullen!J12:L21,6)) | D7: =IF(Invullen!Q12="","",COUNTIF(Invullen!Q12:S21,6)) | E7: =IF(Invullen!X12="","",COUNTIF(Invullen!X12:Z21,6)) | F7: =IF(Invullen!AE12="","",COUNTIF(Invullen!AE12:AG21,6)) | G7: =IF(Invullen!C39="","",COUNTIF(Invullen!C39:E48,6)) | H7: =IF(Invullen!J39="","",COUNTIF(Invullen!J39:L48,6)) | I7: =IF(Invullen!Q39="","",COUNTIF(Invullen!Q39:S48,6)) | J7: =IF(Invullen!X39="","",COUNTIF(Invullen!X39:Z48,6)) | K7: =IF(Invullen!AE39="","",COUNTIF(Invullen!AE39:AG48,6)) | L7: =IF(Invullen!C66="","",COUNTIF(Invullen!C66:E75,6)) | M7: =IF(Invullen!J66="","",COUNTIF(Invullen!J66:L75,6)) | N7: =IF(Invullen!Q66="","",COUNTIF(Invullen!Q66:S75,6)) | O7: =IF(Invullen!X66="","",COUNTIF(Invullen!X66:Z75,6)) | P7: =IF(Invullen!AE66="","",COUNTIF(Invullen!AE66:AG75,6)) | Q7: =IF(Invullen!C93="","",COUNTIF(Invullen!C93:E102,6)) | R7: =IF(Invullen!J93="","",COUNTIF(Invullen!J93:L102,6)) | S7: =IF(Invullen!Q93="","",COUNTIF(Invullen!Q93:S102,6)) | T7: =IF(Invullen!X93="","",COUNTIF(Invullen!X93:Z102,6)) | U7: =IF(Invullen!AE93="","",COUNTIF(Invullen!AE93:AG102,6)) | V7: =IF(Invullen!C120="","",COUNTIF(Invullen!C120:E129,6)) | W7: =IF(Invullen!J120="","",COUNTIF(Invullen!J120:L129,6)) | X7: =IF(Invullen!Q120="","",COUNTIF(Invullen!Q120:S129,6)) | Y7: =IF(Invullen!X120="","",COUNTIF(Invullen!X120:Z129,6)) | Z7: =IF(Invullen!AE120="","",COUNTIF(Invullen!AE120:AG129,6)) | AA7: =IF(Invullen!C147="","",COUNTIF(Invullen!C147:E156,6)) | AB7: =IF(Invullen!J147="","",COUNTIF(Invullen!J147:L156,6)) | AC7: =IF(Invullen!Q147="","",COUNTIF(Invullen!Q147:S156,6)) | AD7: =IF(Invullen!X147="","",COUNTIF(Invullen!X147:Z156,6)) | AE7: =IF(Invullen!X174="","",COUNTIF(Invullen!AE147:AG156,6)) | AF7: =IF(Invullen!C174="","",COUNTIF(Invullen!C174:E183,6)) | AG7: =IF(Invullen!J174="","",COUNTIF(Invullen!J174:L183,6)) | AH7: =IF(Invullen!Q174="","",COUNTIF(Invullen!Q174:S183,6)) | AI7: =IF(Invullen!X174="","",COUNTIF(Invullen!X174:Z183,6)) | AJ7: =IF(Invullen!AE174="","",COUNTIF(Invullen!AE174:AG183,6)) | AK7: =SUM(B7:K7)/AM2 -> #DIV/0! | AL7: =SUM(B7:AJ7) -> 0 | AN7: =AL7/$AM3 -> #DIV/0!
A8: 7 | B8: =IF(Invullen!C12="","",COUNTIF(Invullen!C12:E21,7)) | C8: =IF(Invullen!J12="","",COUNTIF(Invullen!J12:L21,7)) | D8: =IF(Invullen!Q12="","",COUNTIF(Invullen!Q12:S21,7)) | E8: =IF(Invullen!X12="","",COUNTIF(Invullen!X12:Z21,7)) | F8: =IF(Invullen!AE12="","",COUNTIF(Invullen!AE12:AG21,7)) | G8: =IF(Invullen!C39="","",COUNTIF(Invullen!C39:E48,7)) | H8: =IF(Invullen!J39="","",COUNTIF(Invullen!J39:L48,7)) | I8: =IF(Invullen!Q39="","",COUNTIF(Invullen!Q39:S48,7)) | J8: =IF(Invullen!X39="","",COUNTIF(Invullen!X39:Z48,7)) | K8: =IF(Invullen!AE39="","",COUNTIF(Invullen!AE39:AG48,7)) | L8: =IF(Invullen!C66="","",COUNTIF(Invullen!C66:E75,7)) | M8: =IF(Invullen!J66="","",COUNTIF(Invullen!J66:L75,7)) | N8: =IF(Invullen!Q66="","",COUNTIF(Invullen!Q66:S75,7)) | O8: =IF(Invullen!X66="","",COUNTIF(Invullen!X66:Z75,7)) | P8: =IF(Invullen!AE66="","",COUNTIF(Invullen!AE66:AG75,7)) | Q8: =IF(Invullen!C93="","",COUNTIF(Invullen!C93:E102,7)) | R8: =IF(Invullen!J93="","",COUNTIF(Invullen!J93:L102,7)) | S8: =IF(Invullen!Q93="","",COUNTIF(Invullen!Q93:S102,7)) | T8: =IF(Invullen!X93="","",COUNTIF(Invullen!X93:Z102,7)) | U8: =IF(Invullen!AE93="","",COUNTIF(Invullen!AE93:AG102,7)) | V8: =IF(Invullen!C120="","",COUNTIF(Invullen!C120:E129,7)) | W8: =IF(Invullen!J120="","",COUNTIF(Invullen!J120:L129,7)) | X8: =IF(Invullen!Q120="","",COUNTIF(Invullen!Q120:S129,7)) | Y8: =IF(Invullen!X120="","",COUNTIF(Invullen!X120:Z129,7)) | Z8: =IF(Invullen!AE120="","",COUNTIF(Invullen!AE120:AG129,7)) | AA8: =IF(Invullen!C147="","",COUNTIF(Invullen!C147:E156,7)) | AB8: =IF(Invullen!J147="","",COUNTIF(Invullen!J147:L156,7)) | AC8: =IF(Invullen!Q147="","",COUNTIF(Invullen!Q147:S156,7)) | AD8: =IF(Invullen!X147="","",COUNTIF(Invullen!X147:Z156,7)) | AE8: =IF(Invullen!X174="","",COUNTIF(Invullen!AE147:AG156,7)) | AF8: =IF(Invullen!C174="","",COUNTIF(Invullen!C174:E183,7)) | AG8: =IF(Invullen!J174="","",COUNTIF(Invullen!J174:L183,7)) | AH8: =IF(Invullen!Q174="","",COUNTIF(Invullen!Q174:S183,7)) | AI8: =IF(Invullen!X174="","",COUNTIF(Invullen!X174:Z183,7)) | AJ8: =IF(Invullen!AE174="","",COUNTIF(Invullen!AE174:AG183,7)) | AK8: =SUM(B8:K8)/AM2 -> #DIV/0! | AL8: =SUM(B8:AJ8) -> 0 | AN8: =AL8/$AM3 -> #DIV/0!
A9: 8 | B9: =IF(Invullen!C12="","",COUNTIF(Invullen!C12:E21,8)) | C9: =IF(Invullen!J12="","",COUNTIF(Invullen!J12:L21,8)) | D9: =IF(Invullen!Q12="","",COUNTIF(Invullen!Q12:S21,8)) | E9: =IF(Invullen!X12="","",COUNTIF(Invullen!X12:Z21,8)) | F9: =IF(Invullen!AE12="","",COUNTIF(Invullen!AE12:AG21,8)) | G9: =IF(Invullen!C39="","",COUNTIF(Invullen!C39:E48,8)) | H9: =IF(Invullen!J39="","",COUNTIF(Invullen!J39:L48,8)) | I9: =IF(Invullen!Q39="","",COUNTIF(Invullen!Q39:S48,8)) | J9: =IF(Invullen!X39="","",COUNTIF(Invullen!X39:Z48,8)) | K9: =IF(Invullen!AE39="","",COUNTIF(Invullen!AE39:AG48,8)) | L9: =IF(Invullen!C66="","",COUNTIF(Invullen!C66:E75,8)) | M9: =IF(Invullen!J66="","",COUNTIF(Invullen!J66:L75,8)) | N9: =IF(Invullen!Q66="","",COUNTIF(Invullen!Q66:S75,8)) | O9: =IF(Invullen!X66="","",COUNTIF(Invullen!X66:Z75,8)) | P9: =IF(Invullen!AE66="","",COUNTIF(Invullen!AE66:AG75,8)) | Q9: =IF(Invullen!C93="","",COUNTIF(Invullen!C93:E102,8)) | R9: =IF(Invullen!J93="","",COUNTIF(Invullen!J93:L102,8)) | S9: =IF(Invullen!Q93="","",COUNTIF(Invullen!Q93:S102,8)) | T9: =IF(Invullen!X93="","",COUNTIF(Invullen!X93:Z102,8)) | U9: =IF(Invullen!AE93="","",COUNTIF(Invullen!AE93:AG102,8)) | V9: =IF(Invullen!C120="","",COUNTIF(Invullen!C120:E129,8)) | W9: =IF(Invullen!J120="","",COUNTIF(Invullen!J120:L129,8)) | X9: =IF(Invullen!Q120="","",COUNTIF(Invullen!Q120:S129,8)) | Y9: =IF(Invullen!X120="","",COUNTIF(Invullen!X120:Z129,8)) | Z9: =IF(Invullen!AE120="","",COUNTIF(Invullen!AE120:AG129,8)) | AA9: =IF(Invullen!C147="","",COUNTIF(Invullen!C147:E156,8)) | AB9: =IF(Invullen!J147="","",COUNTIF(Invullen!J147:L156,8)) | AC9: =IF(Invullen!Q147="","",COUNTIF(Invullen!Q147:S156,8)) | AD9: =IF(Invullen!X147="","",COUNTIF(Invullen!X147:Z156,8)) | AE9: =IF(Invullen!X174="","",COUNTIF(Invullen!AE147:AG156,8)) | AF9: =IF(Invullen!C174="","",COUNTIF(Invullen!C174:E183,8)) | AG9: =IF(Invullen!J174="","",COUNTIF(Invullen!J174:L183,8)) | AH9: =IF(Invullen!Q174="","",COUNTIF(Invullen!Q174:S183,8)) | AI9: =IF(Invullen!X174="","",COUNTIF(Invullen!X174:Z183,8)) | AJ9: =IF(Invullen!AE174="","",COUNTIF(Invullen!AE174:AG183,8)) | AK9: =SUM(B9:K9)/AM2 -> #DIV/0! | AL9: =SUM(B9:AJ9) -> 0 | AN9: =AL9/$AM3 -> #DIV/0!
A10: 9 | B10: =IF(Invullen!C12="","",COUNTIF(Invullen!C12:E21,9)) | C10: =IF(Invullen!J12="","",COUNTIF(Invullen!J12:L21,9)) | D10: =IF(Invullen!Q12="","",COUNTIF(Invullen!Q12:S21,9)) | E10: =IF(Invullen!X12="","",COUNTIF(Invullen!X12:Z21,9)) | F10: =IF(Invullen!AE12="","",COUNTIF(Invullen!AE12:AG21,9)) | G10: =IF(Invullen!C39="","",COUNTIF(Invullen!C39:E48,9)) | H10: =IF(Invullen!J39="","",COUNTIF(Invullen!J39:L48,9)) | I10: =IF(Invullen!Q39="","",COUNTIF(Invullen!Q39:S48,9)) | J10: =IF(Invullen!X39="","",COUNTIF(Invullen!X39:Z48,9)) | K10: =IF(Invullen!AE39="","",COUNTIF(Invullen!AE39:AG48,9)) | L10: =IF(Invullen!C66="","",COUNTIF(Invullen!C66:E75,9)) | M10: =IF(Invullen!J66="","",COUNTIF(Invullen!J66:L75,9)) | N10: =IF(Invullen!Q66="","",COUNTIF(Invullen!Q66:S75,9)) | O10: =IF(Invullen!X66="","",COUNTIF(Invullen!X66:Z75,9)) | P10: =IF(Invullen!AE66="","",COUNTIF(Invullen!AE66:AG75,9)) | Q10: =IF(Invullen!C93="","",COUNTIF(Invullen!C93:E102,9)) | R10: =IF(Invullen!J93="","",COUNTIF(Invullen!J93:L102,9)) | S10: =IF(Invullen!Q93="","",COUNTIF(Invullen!Q93:S102,9)) | T10: =IF(Invullen!X93="","",COUNTIF(Invullen!X93:Z102,9)) | U10: =IF(Invullen!AE93="","",COUNTIF(Invullen!AE93:AG102,9)) | V10: =IF(Invullen!C120="","",COUNTIF(Invullen!C120:E129,9)) | W10: =IF(Invullen!J120="","",COUNTIF(Invullen!J120:L129,9)) | X10: =IF(Invullen!Q120="","",COUNTIF(Invullen!Q120:S129,9)) | Y10: =IF(Invullen!X120="","",COUNTIF(Invullen!X120:Z129,9)) | Z10: =IF(Invullen!AE120="","",COUNTIF(Invullen!AE120:AG129,9)) | AA10: =IF(Invullen!C147="","",COUNTIF(Invullen!C147:E156,9)) | AB10: =IF(Invullen!J147="","",COUNTIF(Invullen!J147:L156,9)) | AC10: =IF(Invullen!Q147="","",COUNTIF(Invullen!Q147:S156,9)) | AD10: =IF(Invullen!X147="","",COUNTIF(Invullen!X147:Z156,9)) | AE10: =IF(Invullen!X174="","",COUNTIF(Invullen!AE147:AG156,9)) | AF10: =IF(Invullen!C174="","",COUNTIF(Invullen!C174:E183,9)) | AG10: =IF(Invullen!J174="","",COUNTIF(Invullen!J174:L183,9)) | AH10: =IF(Invullen!Q174="","",COUNTIF(Invullen!Q174:S183,9)) | AI10: =IF(Invullen!X174="","",COUNTIF(Invullen!X174:Z183,9)) | AJ10: =IF(Invullen!AE174="","",COUNTIF(Invullen!AE174:AG183,9)) | AK10: =SUM(B10:K10)/AM2 -> #DIV/0! | AL10: =SUM(B10:AJ10) -> 0 | AN10: =AL10/$AM3 -> #DIV/0!
A11: 10 | B11: =IF(Invullen!C12="","",SUM((COUNTIF(Invullen!C12:E21,10)))) | C11: =IF(Invullen!J12="","",COUNTIF(Invullen!J12:L21,10)) | D11: =IF(Invullen!Q12="","",COUNTIF(Invullen!Q12:S21,10)) | E11: =IF(Invullen!X12="","",COUNTIF(Invullen!X12:Z21,10)) | F11: =IF(Invullen!AE12="","",COUNTIF(Invullen!AE12:AG21,10)) | G11: =IF(Invullen!C39="","",COUNTIF(Invullen!C39:E48,10)) | H11: =IF(Invullen!J39="","",COUNTIF(Invullen!J39:L48,10)) | I11: =IF(Invullen!Q39="","",COUNTIF(Invullen!Q39:S48,10)) | J11: =IF(Invullen!X39="","",COUNTIF(Invullen!X39:Z48,10)) | K11: =IF(Invullen!AE39="","",COUNTIF(Invullen!AE39:AG48,10)) | L11: =IF(Invullen!C66="","",COUNTIF(Invullen!C66:E75,10)) | M11: =IF(Invullen!J66="","",COUNTIF(Invullen!J66:L75,10)) | N11: =IF(Invullen!Q66="","",COUNTIF(Invullen!Q66:S75,10)) | O11: =IF(Invullen!X66="","",COUNTIF(Invullen!X66:Z75,10)) | P11: =IF(Invullen!AE66="","",COUNTIF(Invullen!AE66:AG75,10)) | Q11: =IF(Invullen!C93="","",COUNTIF(Invullen!C93:E102,10)) | R11: =IF(Invullen!J93="","",COUNTIF(Invullen!J93:L102,10)) | S11: =IF(Invullen!Q93="","",COUNTIF(Invullen!Q93:S102,10)) | T11: =IF(Invullen!X93="","",COUNTIF(Invullen!X93:Z102,10)) | U11: =IF(Invullen!AE93="","",COUNTIF(Invullen!AE93:AG102,10)) | V11: =IF(Invullen!C120="","",COUNTIF(Invullen!C120:E129,10)) | W11: =IF(Invullen!J120="","",COUNTIF(Invullen!J120:L129,10)) | X11: =IF(Invullen!Q120="","",COUNTIF(Invullen!Q120:S129,10)) | Y11: =IF(Invullen!X120="","",COUNTIF(Invullen!X120:Z129,10)) | Z11: =IF(Invullen!AE120="","",COUNTIF(Invullen!AE120:AG129,10)) | AA11: =IF(Invullen!C147="","",COUNTIF(Invullen!C147:E156,10)) | AB11: =IF(Invullen!J147="","",COUNTIF(Invullen!J147:L156,10)) | AC11: =IF(Invullen!Q147="","",COUNTIF(Invullen!Q147:S156,10)) | AD11: =IF(Invullen!X147="","",COUNTIF(Invullen!X147:Z156,10)) | AE11: =IF(Invullen!X174="","",COUNTIF(Invullen!AE147:AG156,10)) | AF11: =IF(Invullen!C174="","",COUNTIF(Invullen!C174:E183,10)) | AG11: =IF(Invullen!J174="","",COUNTIF(Invullen!J174:L183,10)) | AH11: =IF(Invullen!Q174="","",COUNTIF(Invullen!Q174:S183,10)) | AI11: =IF(Invullen!X174="","",COUNTIF(Invullen!X174:Z183,10)) | AJ11: =IF(Invullen!AE174="","",COUNTIF(Invullen!AE174:AG183,10)) | AK11: =SUM(B11:K11)/AM2 -> #DIV/0! | AL11: =SUM(B11:AJ11) -> 0 | AN11: =AL11/$AM3 -> #DIV/0!
A12: X | B12: =IF(Invullen!C12="","",COUNTIF(Invullen!C12:E21,"X")) | C12: =IF(Invullen!J12="","",COUNTIF(Invullen!J12:L21,"X")) | D12: =IF(Invullen!Q12="","",COUNTIF(Invullen!Q12:S21,"X")) | E12: =IF(Invullen!X12="","",COUNTIF(Invullen!X12:Z21,"X")) | F12: =IF(Invullen!AE12="","",COUNTIF(Invullen!AE12:AG21,"X")) | G12: =IF(Invullen!C39="","",COUNTIF(Invullen!C39:E48,"X")) | H12: =IF(Invullen!J39="","",COUNTIF(Invullen!J39:L48,"X")) | I12: =IF(Invullen!Q39="","",COUNTIF(Invullen!Q39:S48,"X")) | J12: =IF(Invullen!X39="","",COUNTIF(Invullen!X39:Z48,"X")) | K12: =IF(Invullen!AE39="","",COUNTIF(Invullen!AE39:AG48,"X")) | L12: =IF(Invullen!C66="","",COUNTIF(Invullen!C66:E75,"X")) | M12: =IF(Invullen!J66="","",COUNTIF(Invullen!J66:L75,"x")) | N12: =IF(Invullen!Q66="","",COUNTIF(Invullen!Q66:S75,"x")) | O12: =IF(Invullen!X66="","",COUNTIF(Invullen!X66:Z75,"x")) | P12: =IF(Invullen!AE66="","",COUNTIF(Invullen!AE66:AG75,"x")) | S12: =IF(Invullen!Q93="","",COUNTIF(Invullen!Q93:S102,"X")) | T12: =IF(Invullen!X93="","",COUNTIF(Invullen!X93:Z102,"X")) | U12: =IF(Invullen!AE93="","",COUNTIF(Invullen!AE93:AG102,"x")) | V12: =IF(Invullen!C120="","",COUNTIF(Invullen!C120:E129,"x")) | W12: =IF(Invullen!J120="","",COUNTIF(Invullen!J120:L129,"x")) | X12: =IF(Invullen!Q120="","",COUNTIF(Invullen!Q120:S129,"x")) | Y12: =IF(Invullen!X120="","",COUNTIF(Invullen!X120:Z129,"x")) | Z12: =IF(Invullen!AE120="","",COUNTIF(Invullen!AE120:AG129,"x")) | AA12: =IF(Invullen!C147="","",COUNTIF(Invullen!C147:E156,"x")) | AB12: =IF(Invullen!J147="","",COUNTIF(Invullen!J147:L156,"x")) | AC12: =IF(Invullen!Q147="","",COUNTIF(Invullen!Q147:S156,"x")) | AD12: =IF(Invullen!X147="","",COUNTIF(Invullen!X147:Z156,"x")) | AE12: =IF(Invullen!X174="","",COUNTIF(Invullen!AE147:AG156,"x")) | AF12: =IF(Invullen!C174="","",COUNTIF(Invullen!C174:E183,"x")) | AG12: =IF(Invullen!J174="","",COUNTIF(Invullen!J174:L183,"x")) | AH12: =IF(Invullen!Q174="","",COUNTIF(Invullen!Q174:S183,"x")) | AI12: =IF(Invullen!X174="","",COUNTIF(Invullen!X174:Z183,"x")) | AJ12: =IF(Invullen!AE174="","",COUNTIF(Invullen!AE174:AG183,"x")) | AK12: =SUM(B12:K12)/AM2 -> #DIV/0! | AL12: =SUM(B12:AJ12) -> 0 | AN12: =AL12/$AM3 -> #DIV/0!
AN13: =SUM(AN1:AN12) -> #DIV/0!
A14: 3 | B14: =IF(Invullen!C12="","",Invullen!F12) | C14: =IF(Invullen!J12="","",Invullen!M12) | D14: =IF(Invullen!Q12="","",Invullen!T12) | E14: =IF(Invullen!X12="","",Invullen!AA12) | F14: =IF(Invullen!AE12="","",Invullen!AH12) | G14: =IF(Invullen!C39="","",Invullen!F39) | H14: =IF(Invullen!J39="","",Invullen!M39) | I14: =IF(Invullen!Q39="","",Invullen!T39) | J14: =IF(Invullen!X39="","",Invullen!AA39) | K14: =IF(Invullen!AE39="","",Invullen!AH39) | L14: =IF(Invullen!C66="","",Invullen!F66) | M14: =IF(Invullen!J66="","",Invullen!M66) | N14: =IF(Invullen!Q66="","",Invullen!T66) | O14: =IF(Invullen!X66="","",Invullen!AA66) | P14: =IF(Invullen!AE66="","",Invullen!AH66) | Q14: =IF(Invullen!C93="","",Invullen!F93) | R14: =IF(Invullen!J93="","",Invullen!M93) | S14: =IF(Invullen!Q93="","",Invullen!T93) | T14: =IF(Invullen!X93="","",Invullen!AA93) | U14: =IF(Invullen!AE93="","",Invullen!AH93) | V14: =IF(Invullen!C120="","",Invullen!F120) | W14: =IF(Invullen!J120="","",Invullen!M120) | X14: =IF(Invullen!Q120="","",Invullen!T120) | Y14: =IF(Invullen!X120="","",Invullen!AA120) | Z14: =IF(Invullen!AE120="","",Invullen!AH120) | AA14: =IF(Invullen!C147="","",Invullen!F147) | AB14: =IF(Invullen!J147="","",Invullen!M147) | AC14: =IF(Invullen!Q147="","",Invullen!T147) | AD14: =IF(Invullen!X147="","",Invullen!AA147) | AE14: =IF(Invullen!AE147="","",Invullen!AH147) | AF14: =IF(Invullen!C174="","",Invullen!F174) | AG14: =IF(Invullen!J174="","",Invullen!M174) | AH14: =IF(Invullen!Q174="","",Invullen!T174) | AI14: =IF(Invullen!X174="","",Invullen!AA174) | AJ14: =IF(Invullen!AE174="","",Invullen!AH174)
A15: 6 | B15: =IF(Invullen!C12="","",Invullen!F13) | C15: =IF(Invullen!J13="","",Invullen!M13) | D15: =IF(Invullen!Q13="","",Invullen!T13) | E15: =IF(Invullen!X13="","",Invullen!AA13) | F15: =IF(Invullen!AE13="","",Invullen!AH13) | G15: =IF(Invullen!C40="","",Invullen!F40) | H15: =IF(Invullen!J40="","",Invullen!M40) | I15: =IF(Invullen!Q40="","",Invullen!T40) | J15: =IF(Invullen!X40="","",Invullen!AA40) | K15: =IF(Invullen!AE40="","",Invullen!AH40) | L15: =IF(Invullen!C67="","",Invullen!F67) | M15: =IF(Invullen!J67="","",Invullen!M67) | N15: =IF(Invullen!Q67="","",Invullen!T67) | O15: =IF(Invullen!X67="","",Invullen!AA67) | P15: =IF(Invullen!AE67="","",Invullen!AH67) | Q15: =IF(Invullen!C94="","",Invullen!F94) | R15: =IF(Invullen!J94="","",Invullen!M94) | S15: =IF(Invullen!Q94="","",Invullen!T94) | T15: =IF(Invullen!X94="","",Invullen!AA94) | U15: =IF(Invullen!AE94="","",Invullen!AH94) | V15: =IF(Invullen!C121="","",Invullen!F121) | W15: =IF(Invullen!J121="","",Invullen!M121) | X15: =IF(Invullen!Q121="","",Invullen!T121) | Y15: =IF(Invullen!X121="","",Invullen!AA121) | Z15: =IF(Invullen!AE121="","",Invullen!AH121) | AA15: =IF(Invullen!C148="","",Invullen!F148) | AB15: =IF(Invullen!J148="","",Invullen!M148) | AC15: =IF(Invullen!Q148="","",Invullen!T148) | AD15: =IF(Invullen!X148="","",Invullen!AA148) | AE15: =IF(Invullen!AE148="","",Invullen!AH148) | AF15: =IF(Invullen!C175="","",Invullen!F175) | AG15: =IF(Invullen!J175="","",Invullen!M175) | AH15: =IF(Invullen!Q175="","",Invullen!T175) | AI15: =IF(Invullen!X175="","",Invullen!AA175) | AJ15: =IF(Invullen!AE175="","",Invullen!AH175)
A16: 9 | B16: =IF(Invullen!C12="","",Invullen!F14) | C16: =IF(Invullen!J14="","",Invullen!M14) | D16: =IF(Invullen!Q14="","",Invullen!T14) | E16: =IF(Invullen!X14="","",Invullen!AA14) | F16: =IF(Invullen!AE14="","",Invullen!AH14) | G16: =IF(Invullen!C41="","",Invullen!F41) | H16: =IF(Invullen!J41="","",Invullen!M41) | I16: =IF(Invullen!Q41="","",Invullen!T41) | J16: =IF(Invullen!X41="","",Invullen!AA41) | K16: =IF(Invullen!AE41="","",Invullen!AH41) | L16: =IF(Invullen!C68="","",Invullen!F68) | M16: =IF(Invullen!J68="","",Invullen!M68) | N16: =IF(Invullen!Q68="","",Invullen!T68) | O16: =IF(Invullen!X68="","",Invullen!AA68) | P16: =IF(Invullen!AE68="","",Invullen!AH68) | Q16: =IF(Invullen!C95="","",Invullen!F95) | R16: =IF(Invullen!J95="","",Invullen!M95) | S16: =IF(Invullen!Q95="","",Invullen!T95) | T16: =IF(Invullen!X95="","",Invullen!AA95) | U16: =IF(Invullen!AE95="","",Invullen!AH95) | V16: =IF(Invullen!C122="","",Invullen!F122) | W16: =IF(Invullen!J122="","",Invullen!M122) | X16: =IF(Invullen!Q122="","",Invullen!T122) | Y16: =IF(Invullen!X122="","",Invullen!AA122) | Z16: =IF(Invullen!AE122="","",Invullen!AH122) | AA16: =IF(Invullen!C149="","",Invullen!F149) | AB16: =IF(Invullen!J149="","",Invullen!M149) | AC16: =IF(Invullen!Q149="","",Invullen!T149) | AD16: =IF(Invullen!X149="","",Invullen!AA149) | AE16: =IF(Invullen!AE149="","",Invullen!AH149) | AF16: =IF(Invullen!C176="","",Invullen!F176) | AG16: =IF(Invullen!J176="","",Invullen!M176) | AH16: =IF(Invullen!Q176="","",Invullen!T176) | AI16: =IF(Invullen!X176="","",Invullen!AA176) | AJ16: =IF(Invullen!AE176="","",Invullen!AH176)
A17: 12 | B17: =IF(Invullen!C12="","",Invullen!F15) | C17: =IF(Invullen!J15="","",Invullen!M15) | D17: =IF(Invullen!Q15="","",Invullen!T15) | E17: =IF(Invullen!X15="","",Invullen!AA15) | F17: =IF(Invullen!AE15="","",Invullen!AH15) | G17: =IF(Invullen!C42="","",Invullen!F42) | H17: =IF(Invullen!J42="","",Invullen!M42) | I17: =IF(Invullen!Q42="","",Invullen!T42) | J17: =IF(Invullen!X42="","",Invullen!AA42) | K17: =IF(Invullen!AE42="","",Invullen!AH42) | L17: =IF(Invullen!C69="","",Invullen!F69) | M17: =IF(Invullen!J69="","",Invullen!M69) | N17: =IF(Invullen!Q69="","",Invullen!T69) | O17: =IF(Invullen!X69="","",Invullen!AA69) | P17: =IF(Invullen!AE69="","",Invullen!AH69) | Q17: =IF(Invullen!C96="","",Invullen!F96) | R17: =IF(Invullen!J96="","",Invullen!M96) | S17: =IF(Invullen!Q96="","",Invullen!T96) | T17: =IF(Invullen!X96="","",Invullen!AA96) | U17: =IF(Invullen!AE96="","",Invullen!AH96) | V17: =IF(Invullen!C123="","",Invullen!F123) | W17: =IF(Invullen!J123="","",Invullen!M123) | X17: =IF(Invullen!Q123="","",Invullen!T123) | Y17: =IF(Invullen!X123="","",Invullen!AA123) | Z17: =IF(Invullen!AE123="","",Invullen!AH123) | AA17: =IF(Invullen!C150="","",Invullen!F150) | AB17: =IF(Invullen!J150="","",Invullen!M150) | AC17: =IF(Invullen!Q150="","",Invullen!T150) | AD17: =IF(Invullen!X150="","",Invullen!AA150) | AE17: =IF(Invullen!AE150="","",Invullen!AH150) | AF17: =IF(Invullen!C177="","",Invullen!F177) | AG17: =IF(Invullen!J177="","",Invullen!M177) | AH17: =IF(Invullen!Q177="","",Invullen!T177) | AI17: =IF(Invullen!X177="","",Invullen!AA177) | AJ17: =IF(Invullen!AE177="","",Invullen!AH177)
A18: 15 | B18: =IF(Invullen!C12="","",Invullen!F16) | C18: =IF(Invullen!J16="","",Invullen!M16) | D18: =IF(Invullen!Q16="","",Invullen!T16) | E18: =IF(Invullen!X16="","",Invullen!AA16) | F18: =IF(Invullen!AE16="","",Invullen!AH16) | G18: =IF(Invullen!C43="","",Invullen!F43) | H18: =IF(Invullen!J43="","",Invullen!M43) | I18: =IF(Invullen!Q43="","",Invullen!T43) | J18: =IF(Invullen!X43="","",Invullen!AA43) | K18: =IF(Invullen!AE43="","",Invullen!AH43) | L18: =IF(Invullen!C70="","",Invullen!F70) | M18: =IF(Invullen!J70="","",Invullen!M70) | N18: =IF(Invullen!Q70="","",Invullen!T70) | O18: =IF(Invullen!X70="","",Invullen!AA70) | P18: =IF(Invullen!AE70="","",Invullen!AH70) | Q18: =IF(Invullen!C97="","",Invullen!F97) | R18: =IF(Invullen!J97="","",Invullen!M97) | S18: =IF(Invullen!Q97="","",Invullen!T97) | T18: =IF(Invullen!X97="","",Invullen!AA97) | U18: =IF(Invullen!AE97="","",Invullen!AH97) | V18: =IF(Invullen!C124="","",Invullen!F124) | W18: =IF(Invullen!J124="","",Invullen!M124) | X18: =IF(Invullen!Q124="","",Invullen!T124) | Y18: =IF(Invullen!X124="","",Invullen!AA124) | Z18: =IF(Invullen!AE124="","",Invullen!AH124) | AA18: =IF(Invullen!C151="","",Invullen!F151) | AB18: =IF(Invullen!J151="","",Invullen!M151) | AC18: =IF(Invullen!Q151="","",Invullen!T151) | AD18: =IF(Invullen!X151="","",Invullen!AA151) | AE18: =IF(Invullen!AE151="","",Invullen!AH151) | AF18: =IF(Invullen!C178="","",Invullen!F178) | AG18: =IF(Invullen!J178="","",Invullen!M178) | AH18: =IF(Invullen!Q178="","",Invullen!T178) | AI18: =IF(Invullen!X178="","",Invullen!AA178) | AJ18: =IF(Invullen!AE178="","",Invullen!AH178)
A19: 18 | B19: =IF(Invullen!C12="","",Invullen!F17) | C19: =IF(Invullen!J17="","",Invullen!M17) | D19: =IF(Invullen!Q17="","",Invullen!T17) | E19: =IF(Invullen!X17="","",Invullen!AA17) | F19: =IF(Invullen!AE17="","",Invullen!AH17) | G19: =IF(Invullen!C44="","",Invullen!F44) | H19: =IF(Invullen!J44="","",Invullen!M44) | I19: =IF(Invullen!Q44="","",Invullen!T44) | J19: =IF(Invullen!X44="","",Invullen!AA44) | K19: =IF(Invullen!AE44="","",Invullen!AH44) | L19: =IF(Invullen!C71="","",Invullen!F71) | M19: =IF(Invullen!J71="","",Invullen!M71) | N19: =IF(Invullen!Q71="","",Invullen!T71) | O19: =IF(Invullen!X71="","",Invullen!AA71) | P19: =IF(Invullen!AE71="","",Invullen!AH71) | Q19: =IF(Invullen!C98="","",Invullen!F98) | R19: =IF(Invullen!J98="","",Invullen!M98) | S19: =IF(Invullen!Q98="","",Invullen!T98) | T19: =IF(Invullen!X98="","",Invullen!AA98) | U19: =IF(Invullen!AE98="","",Invullen!AH98) | V19: =IF(Invullen!C125="","",Invullen!F125) | W19: =IF(Invullen!J125="","",Invullen!M125) | X19: =IF(Invullen!Q125="","",Invullen!T125) | Y19: =IF(Invullen!X125="","",Invullen!AA125) | Z19: =IF(Invullen!AE125="","",Invullen!AH125) | AA19: =IF(Invullen!C152="","",Invullen!F152) | AB19: =IF(Invullen!J152="","",Invullen!M152) | AC19: =IF(Invullen!Q152="","",Invullen!T152) | AD19: =IF(Invullen!X152="","",Invullen!AA152) | AE19: =IF(Invullen!AE152="","",Invullen!AH152) | AF19: =IF(Invullen!C179="","",Invullen!F179) | AG19: =IF(Invullen!J179="","",Invullen!M179) | AH19: =IF(Invullen!Q179="","",Invullen!T179) | AI19: =IF(Invullen!X179="","",Invullen!AA179) | AJ19: =IF(Invullen!AE179="","",Invullen!AH179)
A20: 21 | B20: =IF(Invullen!C12="","",Invullen!F18) | C20: =IF(Invullen!J18="","",Invullen!M18) | D20: =IF(Invullen!Q18="","",Invullen!T18) | E20: =IF(Invullen!X18="","",Invullen!AA18) | F20: =IF(Invullen!AE18="","",Invullen!AH18) | G20: =IF(Invullen!C45="","",Invullen!F45) | H20: =IF(Invullen!J45="","",Invullen!M45) | I20: =IF(Invullen!Q45="","",Invullen!T45) | J20: =IF(Invullen!X45="","",Invullen!AA45) | K20: =IF(Invullen!AE45="","",Invullen!AH45) | L20: =IF(Invullen!C72="","",Invullen!F72) | M20: =IF(Invullen!J72="","",Invullen!M72) | N20: =IF(Invullen!Q72="","",Invullen!T72) | O20: =IF(Invullen!X72="","",Invullen!AA72) | P20: =IF(Invullen!AE72="","",Invullen!AH72) | Q20: =IF(Invullen!C99="","",Invullen!F99) | R20: =IF(Invullen!J99="","",Invullen!M99) | S20: =IF(Invullen!Q99="","",Invullen!T99) | T20: =IF(Invullen!X99="","",Invullen!AA99) | U20: =IF(Invullen!AE99="","",Invullen!AH99) | V20: =IF(Invullen!C126="","",Invullen!F126) | W20: =IF(Invullen!J126="","",Invullen!M126) | X20: =IF(Invullen!Q126="","",Invullen!T126) | Y20: =IF(Invullen!X126="","",Invullen!AA126) | Z20: =IF(Invullen!AE126="","",Invullen!AH126) | AA20: =IF(Invullen!C153="","",Invullen!F153) | AB20: =IF(Invullen!J153="","",Invullen!M153) | AC20: =IF(Invullen!Q153="","",Invullen!T153) | AD20: =IF(Invullen!X153="","",Invullen!AA153) | AE20: =IF(Invullen!AE153="","",Invullen!AH153) | AF20: =IF(Invullen!C180="","",Invullen!F180) | AG20: =IF(Invullen!J180="","",Invullen!M180) | AH20: =IF(Invullen!Q180="","",Invullen!T180) | AI20: =IF(Invullen!X180="","",Invullen!AA180) | AJ20: =IF(Invullen!AE180="","",Invullen!AH180)
A21: 24 | B21: =IF(Invullen!C12="","",Invullen!F19) | C21: =IF(Invullen!J19="","",Invullen!M19) | D21: =IF(Invullen!Q19="","",Invullen!T19) | E21: =IF(Invullen!X19="","",Invullen!AA19) | F21: =IF(Invullen!AE19="","",Invullen!AH19) | G21: =IF(Invullen!C46="","",Invullen!F46) | H21: =IF(Invullen!J46="","",Invullen!M46) | I21: =IF(Invullen!Q46="","",Invullen!T46) | J21: =IF(Invullen!X46="","",Invullen!AA46) | K21: =IF(Invullen!AE46="","",Invullen!AH46) | L21: =IF(Invullen!C73="","",Invullen!F73) | M21: =IF(Invullen!J73="","",Invullen!M73) | N21: =IF(Invullen!Q73="","",Invullen!T73) | O21: =IF(Invullen!X73="","",Invullen!AA73) | P21: =IF(Invullen!AE73="","",Invullen!AH73) | Q21: =IF(Invullen!C100="","",Invullen!F100) | R21: =IF(Invullen!J100="","",Invullen!M100) | S21: =IF(Invullen!Q100="","",Invullen!T100) | T21: =IF(Invullen!X100="","",Invullen!AA100) | U21: =IF(Invullen!AE100="","",Invullen!AH100) | V21: =IF(Invullen!C127="","",Invullen!F127) | W21: =IF(Invullen!J127="","",Invullen!M127) | X21: =IF(Invullen!Q127="","",Invullen!T127) | Y21: =IF(Invullen!X127="","",Invullen!AA127) | Z21: =IF(Invullen!AE127="","",Invullen!AH127) | AA21: =IF(Invullen!C154="","",Invullen!F154) | AB21: =IF(Invullen!J154="","",Invullen!M154) | AC21: =IF(Invullen!Q154="","",Invullen!T154) | AD21: =IF(Invullen!X154="","",Invullen!AA154) | AE21: =IF(Invullen!AE154="","",Invullen!AH154) | AF21: =IF(Invullen!C181="","",Invullen!F181) | AG21: =IF(Invullen!J181="","",Invullen!M181) | AH21: =IF(Invullen!Q181="","",Invullen!T181) | AI21: =IF(Invullen!X181="","",Invullen!AA181) | AJ21: =IF(Invullen!AE181="","",Invullen!AH181)
A22: 27 | B22: =IF(Invullen!C12="","",Invullen!F20) | C22: =IF(Invullen!J20="","",Invullen!M20) | D22: =IF(Invullen!Q20="","",Invullen!T20) | E22: =IF(Invullen!X20="","",Invullen!AA20) | F22: =IF(Invullen!AE20="","",Invullen!AH20) | G22: =IF(Invullen!C47="","",Invullen!F47) | H22: =IF(Invullen!J47="","",Invullen!M47) | I22: =IF(Invullen!Q47="","",Invullen!T47) | J22: =IF(Invullen!X47="","",Invullen!AA47) | K22: =IF(Invullen!AE47="","",Invullen!AH47) | L22: =IF(Invullen!C74="","",Invullen!F74) | M22: =IF(Invullen!J74="","",Invullen!M74) | N22: =IF(Invullen!Q74="","",Invullen!T74) | O22: =IF(Invullen!X74="","",Invullen!AA74) | P22: =IF(Invullen!AE74="","",Invullen!AH74) | Q22: =IF(Invullen!C101="","",Invullen!F101) | R22: =IF(Invullen!J101="","",Invullen!M101) | S22: =IF(Invullen!Q101="","",Invullen!T101) | T22: =IF(Invullen!X101="","",Invullen!AA101) | U22: =IF(Invullen!AE101="","",Invullen!AH101) | V22: =IF(Invullen!C128="","",Invullen!F128) | W22: =IF(Invullen!J128="","",Invullen!M128) | X22: =IF(Invullen!Q128="","",Invullen!T128) | Y22: =IF(Invullen!X128="","",Invullen!AA128) | Z22: =IF(Invullen!AE128="","",Invullen!AH128) | AA22: =IF(Invullen!C155="","",Invullen!F155) | AB22: =IF(Invullen!J155="","",Invullen!M155) | AC22: =IF(Invullen!Q155="","",Invullen!T155) | AD22: =IF(Invullen!X155="","",Invullen!AA155) | AE22: =IF(Invullen!AE155="","",Invullen!AH155) | AF22: =IF(Invullen!C182="","",Invullen!F182) | AG22: =IF(Invullen!J182="","",Invullen!M182) | AH22: =IF(Invullen!Q182="","",Invullen!T182) | AI22: =IF(Invullen!X182="","",Invullen!AA182) | AJ22: =IF(Invullen!AE182="","",Invullen!AH182)
A23: 30 | B23: =IF(Invullen!C12="","",Invullen!F21) | C23: =IF(Invullen!J21="","",Invullen!M21) | D23: =IF(Invullen!Q21="","",Invullen!T21) | E23: =IF(Invullen!X21="","",Invullen!AA21) | F23: =IF(Invullen!AE21="","",Invullen!AH21) | G23: =IF(Invullen!C48="","",Invullen!F48) | H23: =IF(Invullen!J48="","",Invullen!M48) | I23: =IF(Invullen!Q48="","",Invullen!T48) | J23: =IF(Invullen!X48="","",Invullen!AA48) | K23: =IF(Invullen!AE48="","",Invullen!AH48) | L23: =IF(Invullen!C75="","",Invullen!F75) | M23: =IF(Invullen!J75="","",Invullen!M75) | N23: =IF(Invullen!Q75="","",Invullen!T75) | O23: =IF(Invullen!X75="","",Invullen!AA75) | P23: =IF(Invullen!AE75="","",Invullen!AH75) | Q23: =IF(Invullen!C102="","",Invullen!F102) | R23: =IF(Invullen!J102="","",Invullen!M102) | S23: =IF(Invullen!Q102="","",Invullen!T102) | T23: =IF(Invullen!X102="","",Invullen!AA102) | U23: =IF(Invullen!AE102="","",Invullen!AH102) | V23: =IF(Invullen!C129="","",Invullen!F129) | W23: =IF(Invullen!J129="","",Invullen!M129) | X23: =IF(Invullen!Q129="","",Invullen!T129) | Y23: =IF(Invullen!X129="","",Invullen!AA129) | Z23: =IF(Invullen!AE129="","",Invullen!AH129) | AA23: =IF(Invullen!C156="","",Invullen!F156) | AB23: =IF(Invullen!J156="","",Invullen!M156) | AC23: =IF(Invullen!Q156="","",Invullen!T156) | AD23: =IF(Invullen!X156="","",Invullen!AA156) | AE23: =IF(Invullen!AE156="","",Invullen!AH156) | AF23: =IF(Invullen!C183="","",Invullen!F183) | AG23: =IF(Invullen!J183="","",Invullen!M183) | AH23: =IF(Invullen!Q183="","",Invullen!T183) | AI23: =IF(Invullen!X183="","",Invullen!AA183) | AJ23: =IF(Invullen!AE183="","",Invullen!AH183)
A24: Tot | B24: =IF(B14="","",SUM(B14:B23)) | C24: =IF(C14="","",SUM(C14:C23)) | D24: =IF(D14="","",SUM(D14:D23)) | E24: =IF(E14="","",SUM(E14:E23)) | F24: =IF(F14="","",SUM(F14:F23)) | G24: =IF(G14="","",SUM(G14:G23)) | H24: =IF(H14="","",SUM(H14:H23)) | I24: =IF(I14="","",SUM(I14:I23)) | ... AJ24: =IF(AJ14="","",SUM(AJ14:AJ23)) | AK24: =SUM(B24:AJ24) -> 0
B25: =Summary!$L3 -> #DIV/0! | C25: =Summary!$L3 -> #DIV/0! | D25: =Summary!$L3 -> #DIV/0! | E25: =Summary!$L3 -> #DIV/0! | F25: =Summary!$L3 -> #DIV/0! | G25: =Summary!$L3 -> #DIV/0! | H25: =Summary!$L3 -> #DIV/0! | I25: =Summary!$L3 -> #DIV/0! | ... AJ25: =Summary!$L3 -> #DIV/0!

Sheet Summary
G2: Aantal verschietingen: | L2: =SUM(35-COUNTBLANK(Berekeningen!B1:AJ1)) -> 0
G3: Gemiddelde: | L3: =ROUND(SUM(Berekeningen!AK24/L2),0) -> #DIV/0! | N3: 1 | P3: =LARGE(Berekeningen!B24:AJ24,1) -> #NUM!
G4: Pijl-gemiddelde: | L4: =L3/30 -> #DIV/0! | N4: 2 | P4: =LARGE(Berekeningen!B24:AJ24,2) -> #NUM!
G5: Set-gemiddelde: | L5: =ROUND(SUM(L3/10),0) -> #DIV/0! | N5: 3 | P5: =LARGE(Berekeningen!B24:AJ24,3) -> #NUM!
G6: Beste Score: | L6: =MAX(Berekeningen!B24:K24) -> 0 | N6: 4 | P6: =LARGE(Berekeningen!B24:AJ24,4) -> #NUM!
G7: Beste Set: | L7: =MATCH(L6,Totaal,0) -> #N/A | N7: 5 | P7: =LARGE(Berekeningen!B24:AJ24,5) -> #NUM!
G8: Aantal keer: | L8: =COUNTIF(Berekeningen!B24:AJ24,L6) -> 0 | N8: 6 | P8: =LARGE(Berekeningen!B24:AJ24,6) -> #NUM!
G9: Aantal sets onder gem: | L9: =COUNTIF(Totaal,">"&L3) -> 0 | N9: 7 | P9: =LARGE(Berekeningen!B24:AJ24,7) -> #NUM!
G10: Aantal sets gem | L10: =COUNTIF(Totaal,"="&L3) -> 0 | N10: 8 | P10: =LARGE(Berekeningen!B24:AJ24,8) -> #NUM!
G11: Aantal sets boven gem: | L11: =COUNTIF(Totaal,">"&L3) -> 0 | N11: GEM | P11: =SUM(SUM(P3:P10)/240) -> #NUM!
