BEGIN:VCALENDAR
VERSION:2.0
PRODID:-//Amstelschutters - ECPv6.15.20//NONSGML v1.0//EN
CALSCALE:GREGORIAN
METHOD:PUBLISH
X-WR-CALNAME:Amstelschutters
X-ORIGINAL-URL:https://www.amstelschutters.nl
X-WR-CALDESC:Evenementen voor Amstelschutters
REFRESH-INTERVAL;VALUE=DURATION:PT1H
X-Robots-Tag:noindex
X-PUBLISHED-TTL:PT1H
BEGIN:VTIMEZONE
TZID:Europe/Amsterdam
BEGIN:DAYLIGHT
TZOFFSETFROM:+0100
TZOFFSETTO:+0200
TZNAME:CEST
DTSTART:20220327T010000
END:DAYLIGHT
BEGIN:STANDARD
TZOFFSETFROM:+0200
TZOFFSETTO:+0100
TZNAME:CET
DTSTART:20221030T010000
END:STANDARD
BEGIN:DAYLIGHT
TZOFFSETFROM:+0100
TZOFFSETTO:+0200
TZNAME:CEST
DTSTART:20230326T010000
END:DAYLIGHT
BEGIN:STANDARD
TZOFFSETFROM:+0200
TZOFFSETTO:+0100
TZNAME:CET
DTSTART:20231029T010000
END:STANDARD
BEGIN:DAYLIGHT
TZOFFSETFROM:+0100
TZOFFSETTO:+0200
TZNAME:CEST
DTSTART:20240331T010000
END:DAYLIGHT
BEGIN:STANDARD
TZOFFSETFROM:+0200
TZOFFSETTO:+0100
TZNAME:CET
DTSTART:20241027T010000
END:STANDARD
BEGIN:DAYLIGHT
TZOFFSETFROM:+0100
TZOFFSETTO:+0200
TZNAME:CEST
DTSTART:20250330T010000
END:DAYLIGHT
BEGIN:STANDARD
TZOFFSETFROM:+0200
TZOFFSETTO:+0100
TZNAME:CET
DTSTART:20251026T010000
END:STANDARD
BEGIN:DAYLIGHT
TZOFFSETFROM:+0100
TZOFFSETTO:+0200
TZNAME:CEST
DTSTART:20260329T010000
END:DAYLIGHT
BEGIN:STANDARD
TZOFFSETFROM:+0200
TZOFFSETTO:+0100
TZNAME:CET
DTSTART:20261025T010000
END:STANDARD
BEGIN:DAYLIGHT
TZOFFSETFROM:+0100
TZOFFSETTO:+0200
TZNAME:CEST
DTSTART:20270328T010000
END:DAYLIGHT
BEGIN:STANDARD
TZOFFSETFROM:+0200
TZOFFSETTO:+0100
TZNAME:CET
DTSTART:20271031T010000
END:STANDARD
END:VTIMEZONE
BEGIN:VEVENT
DTSTART;TZID=Europe/Amsterdam:20260228T120000
DTEND;TZID=Europe/Amsterdam:20260228T170000
DTSTAMP:20260422T140400
CREATED:20260217T131237Z
LAST-MODIFIED:20260217T131613Z
UID:8641-1772280000-1772298000@www.amstelschutters.nl
SUMMARY:SW13 schoonmaken
DESCRIPTION:SW13 Laatste stukje mosvrij maken en vangnet ophangen
URL:https://www.amstelschutters.nl/activiteit/sw13-schoonmaken-2/
CATEGORIES:Algemeen
ATTACH;FMTTYPE=image/jpeg:https://www.amstelschutters.nl/wp-content/uploads/2026/02/Vangnet.jpg
END:VEVENT
BEGIN:VEVENT
DTSTART;TZID=Europe/Amsterdam:20260214T120000
DTEND;TZID=Europe/Amsterdam:20260214T170000
DTSTAMP:20260422T140400
CREATED:20260204T162942Z
LAST-MODIFIED:20260207T145016Z
UID:8536-1771070400-1771088400@www.amstelschutters.nl
SUMMARY:SW13 schoonmaken
DESCRIPTION:SW13 mosvrij maken
URL:https://www.amstelschutters.nl/activiteit/sw13-schoonmaken/
CATEGORIES:Algemeen
ATTACH;FMTTYPE=image/png:https://www.amstelschutters.nl/wp-content/uploads/2026/02/image.png
END:VEVENT
BEGIN:VEVENT
DTSTART;TZID=Europe/Amsterdam:20240109T190000
DTEND;TZID=Europe/Amsterdam:20240109T210000
DTSTAMP:20260422T140400
CREATED:20231229T091622Z
LAST-MODIFIED:20231229T091622Z
UID:5414-1704826800-1704834000@www.amstelschutters.nl
SUMMARY:Nieuwjaarsreceptie
DESCRIPTION:Vanaf dinsdagavond 9 januari is iedereen weer welkom op de normale clubavonden. We kunnen die avond dan ook meteen de gelegenheid aangrijpen om elkaar een sportief en gezond 2024 te wensen. We zullen zorgen voor een toepasselijke entourage met oliebollen en gluhwijn. ????
URL:https://www.amstelschutters.nl/activiteit/nieuwjaarsreceptie/
LOCATION:Sportpark West\, Wimbledonpark 2\, Amstelschutters\, Amstelveen\, Noord-Holland\, 1185 XN
CATEGORIES:Algemeen
ATTACH;FMTTYPE=image/jpeg:https://www.amstelschutters.nl/wp-content/uploads/2023/12/Oliebollen.jpg
ORGANIZER;CN="Amstelschutters":MAILTO:webmaster@amstelschutters.nl
END:VEVENT
BEGIN:VEVENT
DTSTART;TZID=Europe/Amsterdam:20231224T080000
DTEND;TZID=Europe/Amsterdam:20240108T170000
DTSTAMP:20260422T140400
CREATED:20231206T203345Z
LAST-MODIFIED:20231207T081434Z
UID:5371-1703404800-1704733200@www.amstelschutters.nl
SUMMARY:Wintersluiting
DESCRIPTION:Om iedereen gelegenheid te geven om de feestdagen rustig te kunnen vieren is de club vanaf 23 december t/m 8 januari op de dinsdag- en vrijdagavonden gesloten. De zaterdagochtenden van 10 tot 12 kan wel gewoon worden getraind (ijs en weder dienende). Vanaf dinsdagavond 9 januari is iedereen weer welkom op de normale clubavonden. We kunnen die avond dan ook meteen de gelegenheid aangrijpen om elkaar een sportief en gezond 2024 te wensen. We zullen zorgen voor een toepasselijke entourage met oliebollen en gluhwijn. ???? Ik hoop dat iedereen op het eind van het jaar een paar gezellige dagen met vrienden\, familie en geliefden kan doorbrengen. \nFijne feestdagen en een prettige jaarwisseling. Theo
URL:https://www.amstelschutters.nl/activiteit/wintersluiting/
LOCATION:Sportpark West\, Wimbledonpark 2\, Amstelschutters\, Amstelveen\, Noord-Holland\, 1185 XN
CATEGORIES:Algemeen,Feestdagen
ATTACH;FMTTYPE=image/jpeg:https://www.amstelschutters.nl/wp-content/uploads/2020/10/20210211_124221-scaled.jpg
ORGANIZER;CN="Amstelschutters":MAILTO:webmaster@amstelschutters.nl
END:VEVENT
END:VCALENDAR