BEGIN:VCALENDAR
VERSION:2.0
PRODID:-//Amstelschutters - ECPv6.15.20//NONSGML v1.0//EN
CALSCALE:GREGORIAN
METHOD:PUBLISH
X-WR-CALNAME:Amstelschutters
X-ORIGINAL-URL:https://www.amstelschutters.nl
X-WR-CALDESC:Evenementen voor Amstelschutters
REFRESH-INTERVAL;VALUE=DURATION:PT1H
X-Robots-Tag:noindex
X-PUBLISHED-TTL:PT1H
BEGIN:VTIMEZONE
TZID:Europe/Amsterdam
BEGIN:DAYLIGHT
TZOFFSETFROM:+0100
TZOFFSETTO:+0200
TZNAME:CEST
DTSTART:20250330T010000
END:DAYLIGHT
BEGIN:STANDARD
TZOFFSETFROM:+0200
TZOFFSETTO:+0100
TZNAME:CET
DTSTART:20251026T010000
END:STANDARD
BEGIN:DAYLIGHT
TZOFFSETFROM:+0100
TZOFFSETTO:+0200
TZNAME:CEST
DTSTART:20260329T010000
END:DAYLIGHT
BEGIN:STANDARD
TZOFFSETFROM:+0200
TZOFFSETTO:+0100
TZNAME:CET
DTSTART:20261025T010000
END:STANDARD
BEGIN:DAYLIGHT
TZOFFSETFROM:+0100
TZOFFSETTO:+0200
TZNAME:CEST
DTSTART:20270328T010000
END:DAYLIGHT
BEGIN:STANDARD
TZOFFSETFROM:+0200
TZOFFSETTO:+0100
TZNAME:CET
DTSTART:20271031T010000
END:STANDARD
END:VTIMEZONE
BEGIN:VEVENT
DTSTART;TZID=Europe/Amsterdam:20260110T100000
DTEND;TZID=Europe/Amsterdam:20260110T120000
DTSTAMP:20260423T000941
CREATED:20260103T131458Z
LAST-MODIFIED:20260107T101046Z
UID:8280-1768039200-1768046400@www.amstelschutters.nl
SUMMARY:Nieuwjaarsreceptie
DESCRIPTION:Op zaterdagochtend 10 januari willen we deze gelegenheid aangrijpen om elkaar een heel fijn en gezond nieuwjaar te wensen. Ik zal zorgen voor een gepaste entourage en neem wat glühwein en andere versnaperingen mee. We hopen op droog weer dus hou de chat berichten in de gaten. \nNoteer dus in je agenda; zaterdag 10 januari van 10:00 tot 12:00. \nTot ziens op de baan! \nTheo
URL:https://www.amstelschutters.nl/activiteit/nieuwjaarsreceptie-4/
LOCATION:Sportpark West\, Wimbledonpark 2\, Amstelschutters\, Amstelveen\, Noord-Holland\, 1185 XN
CATEGORIES:Feestdagen
ATTACH;FMTTYPE=image/jpeg:https://www.amstelschutters.nl/wp-content/uploads/2023/12/Oliebollen.jpg
ORGANIZER;CN="Amstelschutters":MAILTO:webmaster@amstelschutters.nl
END:VEVENT
END:VCALENDAR