BEGIN:VCALENDAR
VERSION:2.0
PRODID:-//Amstelschutters - ECPv6.15.20//NONSGML v1.0//EN
CALSCALE:GREGORIAN
METHOD:PUBLISH
X-WR-CALNAME:Amstelschutters
X-ORIGINAL-URL:https://www.amstelschutters.nl
X-WR-CALDESC:Evenementen voor Amstelschutters
REFRESH-INTERVAL;VALUE=DURATION:PT1H
X-Robots-Tag:noindex
X-PUBLISHED-TTL:PT1H
BEGIN:VTIMEZONE
TZID:Europe/Amsterdam
BEGIN:DAYLIGHT
TZOFFSETFROM:+0100
TZOFFSETTO:+0200
TZNAME:CEST
DTSTART:20240331T010000
END:DAYLIGHT
BEGIN:STANDARD
TZOFFSETFROM:+0200
TZOFFSETTO:+0100
TZNAME:CET
DTSTART:20241027T010000
END:STANDARD
BEGIN:DAYLIGHT
TZOFFSETFROM:+0100
TZOFFSETTO:+0200
TZNAME:CEST
DTSTART:20250330T010000
END:DAYLIGHT
BEGIN:STANDARD
TZOFFSETFROM:+0200
TZOFFSETTO:+0100
TZNAME:CET
DTSTART:20251026T010000
END:STANDARD
BEGIN:DAYLIGHT
TZOFFSETFROM:+0100
TZOFFSETTO:+0200
TZNAME:CEST
DTSTART:20260329T010000
END:DAYLIGHT
BEGIN:STANDARD
TZOFFSETFROM:+0200
TZOFFSETTO:+0100
TZNAME:CET
DTSTART:20261025T010000
END:STANDARD
END:VTIMEZONE
BEGIN:VEVENT
DTSTART;TZID=Europe/Amsterdam:20250809T140000
DTEND;TZID=Europe/Amsterdam:20250809T200000
DTSTAMP:20260422T211127
CREATED:20250717T124921Z
LAST-MODIFIED:20250717T130719Z
UID:7585-1754748000-1754769600@www.amstelschutters.nl
SUMMARY:BBQ Toernooi
DESCRIPTION:Ook dit zomerseizoen willen we een toernooi met aansluitend een BBQ organiseren. We mogen gebruikmaken van de faciliteiten van onze honkbal buren DVH. Zij verzorgen de gehele horeca voor ons evenement. Ook voor vegetarische maaltijden kan worden voorzien mits van tevoren duidelijk aangegeven. Het toernooi is van 14:00 tot 16:00 en daarna kunnen we op het terras van DVH de BBQ genieten. Omdat zij voor ons het eten inkopen moeten we wel van tevoren aangeven met hoeveel mensen we komen. Je kunt je opgeven tot uiterlijk vrijdag 1 augustus\, daarna is het helaas niet meer mogelijk om je op te geven omdat de inkopen dan al zijn gedaan. Ook partners\, familie\, vrienden\, etc. zijn welkom op de afsluitende BBQ\, wel van tevoren opgeven hoeveel mensen met je meekomen.\nWe beginnen stipt om 14:00 uur met het toernooi dus zorg dat je op tijd aanwezig bent om je boog klaar te maken en in te schieten. Rond 16:00 zal de prijsuitreiking zijn. Het wordt een gezelligheidstoernooi maar dat neemt niet weg dat we serieus om de punten gaan strijden. Je kunt meedoen in de disciplines Barebow en Recurve. We schieten 2 ronden van 10×3 pijlen op 18 meter. Barebow schiet op een 60 cm blazoen en Recurve op een 40 cm blazoen. Alle leden zijn van harte welkom\, met name de leden die pas zijn begonnen. Een ideale manier om met de andere leden kennis te maken. \nDe BBQ na afloop zal rond 16:30 beginnen en ook vrienden\, familie en partners zijn daarbij welkom. Kunnen zij ook eens kennis maken met de andere boogschutters met wie jij elke week zoveel plezier hebt.\nOmdat zoals eerder gezegd de horeca door onze honkbalburen van DVH wordt gedaan verwachten zij vóór vrijdag 1 augustus te horen voor hoeveel mensen zij moeten inkopen. Kosten voor de BBQ zijn € 18 pp\, De drankjes zijn voor rekening van de vereniging. Onze leden die als trainers de cursussen leiden hoeven niets te betalen\, dit als dank voor het werk het afgelopen jaar en de vele uurtjes die zij voor de vereniging inzetten. \n\n	Bericht: JavaScript is vereist voor deze inhoud.\nDit formulier ondergaat momenteel onderhoud. Probeer het later nogmaals.\nReeds aangemelde deelnemers \nNo records found
URL:https://www.amstelschutters.nl/activiteit/bbq-toernooi-3/
LOCATION:Sportpark West\, Wimbledonpark 2\, Amstelschutters\, Amstelveen\, Noord-Holland\, 1185 XN
CATEGORIES:Toernooi
ATTACH;FMTTYPE=image/jpeg:https://www.amstelschutters.nl/wp-content/uploads/2024/06/BBQ.jpg
ORGANIZER;CN="Amstelschutters":MAILTO:webmaster@amstelschutters.nl
END:VEVENT
END:VCALENDAR