BEGIN:VCALENDAR
VERSION:2.0
PRODID:-//Amstelschutters - ECPv6.15.20//NONSGML v1.0//EN
CALSCALE:GREGORIAN
METHOD:PUBLISH
X-WR-CALNAME:Amstelschutters
X-ORIGINAL-URL:https://www.amstelschutters.nl
X-WR-CALDESC:Evenementen voor Amstelschutters
REFRESH-INTERVAL;VALUE=DURATION:PT1H
X-Robots-Tag:noindex
X-PUBLISHED-TTL:PT1H
BEGIN:VTIMEZONE
TZID:Europe/Amsterdam
BEGIN:DAYLIGHT
TZOFFSETFROM:+0100
TZOFFSETTO:+0200
TZNAME:CEST
DTSTART:20210328T010000
END:DAYLIGHT
BEGIN:STANDARD
TZOFFSETFROM:+0200
TZOFFSETTO:+0100
TZNAME:CET
DTSTART:20211031T010000
END:STANDARD
BEGIN:DAYLIGHT
TZOFFSETFROM:+0100
TZOFFSETTO:+0200
TZNAME:CEST
DTSTART:20220327T010000
END:DAYLIGHT
BEGIN:STANDARD
TZOFFSETFROM:+0200
TZOFFSETTO:+0100
TZNAME:CET
DTSTART:20221030T010000
END:STANDARD
BEGIN:DAYLIGHT
TZOFFSETFROM:+0100
TZOFFSETTO:+0200
TZNAME:CEST
DTSTART:20230326T010000
END:DAYLIGHT
BEGIN:STANDARD
TZOFFSETFROM:+0200
TZOFFSETTO:+0100
TZNAME:CET
DTSTART:20231029T010000
END:STANDARD
BEGIN:DAYLIGHT
TZOFFSETFROM:+0100
TZOFFSETTO:+0200
TZNAME:CEST
DTSTART:20240331T010000
END:DAYLIGHT
BEGIN:STANDARD
TZOFFSETFROM:+0200
TZOFFSETTO:+0100
TZNAME:CET
DTSTART:20241027T010000
END:STANDARD
BEGIN:DAYLIGHT
TZOFFSETFROM:+0100
TZOFFSETTO:+0200
TZNAME:CEST
DTSTART:20250330T010000
END:DAYLIGHT
BEGIN:STANDARD
TZOFFSETFROM:+0200
TZOFFSETTO:+0100
TZNAME:CET
DTSTART:20251026T010000
END:STANDARD
BEGIN:DAYLIGHT
TZOFFSETFROM:+0100
TZOFFSETTO:+0200
TZNAME:CEST
DTSTART:20260329T010000
END:DAYLIGHT
BEGIN:STANDARD
TZOFFSETFROM:+0200
TZOFFSETTO:+0100
TZNAME:CET
DTSTART:20261025T010000
END:STANDARD
BEGIN:DAYLIGHT
TZOFFSETFROM:+0100
TZOFFSETTO:+0200
TZNAME:CEST
DTSTART:20270328T010000
END:DAYLIGHT
BEGIN:STANDARD
TZOFFSETFROM:+0200
TZOFFSETTO:+0100
TZNAME:CET
DTSTART:20271031T010000
END:STANDARD
END:VTIMEZONE
BEGIN:VEVENT
DTSTART;TZID=Europe/Amsterdam:20260123T193000
DTEND;TZID=Europe/Amsterdam:20260123T220000
DTSTAMP:20260422T111228
CREATED:20251204T152015Z
LAST-MODIFIED:20251227T143433Z
UID:8167-1769196600-1769205600@www.amstelschutters.nl
SUMMARY:Algemene Ledenvergadering (ALV)
DESCRIPTION:Agenda\n\n\n\n\nNotulen Algemene Ledenvergadering 31 januari 2025\n\n\n\nIngekomen stukken\n\n\n\nJaarverslag secretaris/penningmeester\n\n\n\nBegroting verenigingsjaar 2026\n\n\n\nVerslag financiële commissie 2025 en decharge-verlening\n\n\n\nVerkiezing financiële commissie 2026\n\n\n\nVaststellen van de contributie voor gewone leden\n\n\n\nVerkiezing bestuur\n\n\n\nTheo stelt zich voor maximaal 1 jaar nog herkiesbaar\, Jim en Rik zijn niet herkiesbaar. Saskia en Yu Hong stellen zich verkiesbaar\n\n\n\nBeleidsvoornemen\, Contact met gemeente Amstelveen\n\n\n\nSociaal Veiligheidsbeleid\, 4V’s\n\n\n\nTechnische commissie\n\n\n\nJeugdsectie\n\n\n\nWat verder ter tafel komt\n\n\n\nRondvraag en afsluiting
URL:https://www.amstelschutters.nl/activiteit/algemene-ledenvergadering-alv/
LOCATION:Tweede honk DVH\, Wimbledonpark 2\, Amstelveen\, NH\, 1185 XN\, Netherlands
CATEGORIES:Vergadering
ATTACH;FMTTYPE=image/jpeg:https://www.amstelschutters.nl/wp-content/uploads/2022/03/Vergadering.jpg
ORGANIZER;CN="Amstelschutters":MAILTO:webmaster@amstelschutters.nl
END:VEVENT
BEGIN:VEVENT
DTSTART;TZID=Europe/Amsterdam:20250131T193000
DTEND;TZID=Europe/Amsterdam:20250131T220000
DTSTAMP:20260422T111228
CREATED:20241211T145933Z
LAST-MODIFIED:20251204T153312Z
UID:6622-1738351800-1738360800@www.amstelschutters.nl
SUMMARY:Algemene Ledenvergadering
DESCRIPTION:Agenda \n\n Notulen Algemene Ledenvergadering 26 januari 2024 (zie bijlage)\n Ingekomen stukken\n Jaarverslag secretaris/penningmeester (volgt)\n Begroting verenigingsjaar 2025 (volgt)\n Verslag financiële commissie 2024 en decharge-verlening\n Verkiezing financiële commissie 2025\n Vaststellen van de contributie voor gewone leden\n Verkiezing bestuur\n\nTheo stelt zich herkiesbaar.\nRolf stelt zijn functie (secretaris/penningmeester) beschikbaar.\n\n\nBeleidsvoornemen\n\n\nSociaal Veiligheidsbeleid (zie bijlage)\nJeugdsectie (zie bijlage)\n\n10. Wat verder ter tafel komt \n11. Rondvraag en afsluiting
URL:https://www.amstelschutters.nl/activiteit/algemene-ledenvergadering-4/
LOCATION:Tweede honk DVH\, Wimbledonpark 2\, Amstelveen\, NH\, 1185 XN\, Netherlands
CATEGORIES:Vergadering
ATTACH;FMTTYPE=image/jpeg:https://www.amstelschutters.nl/wp-content/uploads/2022/03/Vergadering.jpg
ORGANIZER;CN="Amstelschutters":MAILTO:webmaster@amstelschutters.nl
END:VEVENT
BEGIN:VEVENT
DTSTART;TZID=Europe/Amsterdam:20240126T200000
DTEND;TZID=Europe/Amsterdam:20240126T220000
DTSTAMP:20260422T111228
CREATED:20231221T130543Z
LAST-MODIFIED:20231229T090501Z
UID:5392-1706299200-1706306400@www.amstelschutters.nl
SUMMARY:Algemene Ledenvergadering
DESCRIPTION:De concept-agenda is als volgt: \n1. Notulen Algemene ledenvergadering 2023. (dd. 27 jan 2023)\n2. Ingekomen stukken\n3. Jaarverslag secretaris/penningmeester (volgt)\n4. Begroting verenigingsjaar 2024 (volgt)\n5. Verslag financiële commissie 2023 / decharge-verlening\n6. Verkiezing financiële commissie 2024.\n7. Vaststellen van de contributie voor de gewone leden.\n8. Verkiezing bestuur. Theo Duncker en Rolf Zaal stellen zich herkiesbaar. Andere leden die interesse hebben om in het bestuur zitting te nemen worden uitgenodigd zich te melden.\n9. Beleidsvoornemens\n10. Wat verder ter tafel komt\n11. Rondvraag en afsluiting
URL:https://www.amstelschutters.nl/activiteit/algemene-ledenvergadering-3/
LOCATION:Tweede honk DVH\, Wimbledonpark 2\, Amstelveen\, NH\, 1185 XN\, Netherlands
CATEGORIES:Vergadering
ATTACH;FMTTYPE=image/jpeg:https://www.amstelschutters.nl/wp-content/uploads/2022/03/Vergadering.jpg
ORGANIZER;CN="Amstelschutters":MAILTO:webmaster@amstelschutters.nl
END:VEVENT
BEGIN:VEVENT
DTSTART;TZID=Europe/Amsterdam:20230127T200000
DTEND;TZID=Europe/Amsterdam:20230127T220000
DTSTAMP:20260422T111228
CREATED:20221216T100258Z
LAST-MODIFIED:20230107T144657Z
UID:3761-1674849600-1674856800@www.amstelschutters.nl
SUMMARY:Algemene Ledenvergadering
DESCRIPTION:De concept-agenda is als volgt: \n\n\n\nIngekomen stukken en vaststellen agenda\nJaarverslag secretaris/penningmeester (zie bijlage)\nBegroting verenigingsjaar 2023 (zie bijlage)\nVerslag financiële commissie 2022 /  decharge-verlening\nVerkiezing financiële commissie 2023.\nVaststellen van de contributie voor de gewone leden.\nVerkiezing bestuur. Theo Duncker en Rolf Zaal stellen zich herkiesbaar. Andere leden die interesse hebben om in het bestuur zitting te nemen worden uitgenodigd zich te melden.\nBeleidsvoornemens\nRondvraag en afsluiting\n\n\n\n 
URL:https://www.amstelschutters.nl/activiteit/algemene-ledenvergadering-2/
LOCATION:Tweede honk DVH\, Wimbledonpark 2\, Amstelveen\, NH\, 1185 XN\, Netherlands
CATEGORIES:Vergadering
ATTACH;FMTTYPE=image/jpeg:https://www.amstelschutters.nl/wp-content/uploads/2022/03/Vergadering.jpg
ORGANIZER;CN="Amstelschutters":MAILTO:webmaster@amstelschutters.nl
END:VEVENT
BEGIN:VEVENT
DTSTART;TZID=Europe/Amsterdam:20220422T190000
DTEND;TZID=Europe/Amsterdam:20220422T213000
DTSTAMP:20260422T111228
CREATED:20220325T080629Z
LAST-MODIFIED:20220330T085350Z
UID:2982-1650654000-1650663000@www.amstelschutters.nl
SUMMARY:Algemene ledenvergadering
DESCRIPTION:Beste leden\, \nWe hebben afgelopen weekend de aftrap van het nieuwe handboog-seizoen gevierd met een uitermate geslaagd Kouwe Klauwen-Toernooi.  Er werd opmerkelijk goed geschoten en de sfeer was super. Maar het reilen en zeilen van een vereniging brengt naast sportieve krachtmetingen en gezelligheid ook bestuurlijke beslommeringen met zich mee. Om te zorgen dat we ook op dat vlak op één lijn blijven opereren is er een jaarlijkse Algemene Leden-vergadering gepland op: \nVrijdagavond 22 april\, van 19:00 tot 22:00\nLokatie:  DVH-gebouw  ( direct rechts na het passeren van het toegangshek ) \nBelangrijke zaken die aan de orde komen zijn onder meer: het huishoudelijk reglement\, het reglement van veiligheid en een verhoging van de contributie.\nJullie aanwezigheid en inbreng wordt zeer op prijs gesteld.  \nDe concept-agenda is als volgt: \n\n\n\nIngekomen stukken en vaststellen agenda\nJaarverslag secretaris/penningmeester (zie bijlage) \nBegroting verenigingsjaar 2022 (zie bijlage)\nVerslag financiële commissie 2021 /  decharge-verlening\nVerkiezing financiële commissie 2022. \nVaststellen van de contributie voor de gewone leden voor de verenigingsjaren 2022 en 2023.\nVaststelling huishoudelijk reglement (zie bijlage)\nVaststelling reglement van veiligheid (zie bijlage)\nVerkiezing bestuur. Theo Duncker en Rolf Zaal stellen zich herkiesbaar. Andere leden die interesse hebben om in het bestuur zitting te nemen worden uitgenodigd zich te melden. \nBeleidsvoornemens\nRondvraag en afsluiting\n\n\n\nHeb je nog een ander punt dat je graag op de agenda zou zien\, meld het dan even. \nMet sportieve groet\, \nRolf\nsecretaris/penningmeester Amstelschutters
URL:https://www.amstelschutters.nl/activiteit/algemene-ledenvergadering/
LOCATION:Sportpark West\, Wimbledonpark 2\, Amstelschutters\, Amstelveen\, Noord-Holland\, 1185 XN
CATEGORIES:Vergadering
ATTACH;FMTTYPE=image/jpeg:https://www.amstelschutters.nl/wp-content/uploads/2022/03/Vergadering.jpg
END:VEVENT
END:VCALENDAR