BEGIN:VCALENDAR
VERSION:2.0
PRODID:-//Amstelschutters - ECPv6.15.20//NONSGML v1.0//EN
CALSCALE:GREGORIAN
METHOD:PUBLISH
X-ORIGINAL-URL:https://www.amstelschutters.nl
X-WR-CALDESC:Evenementen voor Amstelschutters
REFRESH-INTERVAL;VALUE=DURATION:PT1H
X-Robots-Tag:noindex
X-PUBLISHED-TTL:PT1H
BEGIN:VTIMEZONE
TZID:Europe/Amsterdam
BEGIN:DAYLIGHT
TZOFFSETFROM:+0100
TZOFFSETTO:+0200
TZNAME:CEST
DTSTART:20210328T010000
END:DAYLIGHT
BEGIN:STANDARD
TZOFFSETFROM:+0200
TZOFFSETTO:+0100
TZNAME:CET
DTSTART:20211031T010000
END:STANDARD
BEGIN:DAYLIGHT
TZOFFSETFROM:+0100
TZOFFSETTO:+0200
TZNAME:CEST
DTSTART:20220327T010000
END:DAYLIGHT
BEGIN:STANDARD
TZOFFSETFROM:+0200
TZOFFSETTO:+0100
TZNAME:CET
DTSTART:20221030T010000
END:STANDARD
BEGIN:DAYLIGHT
TZOFFSETFROM:+0100
TZOFFSETTO:+0200
TZNAME:CEST
DTSTART:20230326T010000
END:DAYLIGHT
BEGIN:STANDARD
TZOFFSETFROM:+0200
TZOFFSETTO:+0100
TZNAME:CET
DTSTART:20231029T010000
END:STANDARD
BEGIN:DAYLIGHT
TZOFFSETFROM:+0100
TZOFFSETTO:+0200
TZNAME:CEST
DTSTART:20240331T010000
END:DAYLIGHT
BEGIN:STANDARD
TZOFFSETFROM:+0200
TZOFFSETTO:+0100
TZNAME:CET
DTSTART:20241027T010000
END:STANDARD
BEGIN:DAYLIGHT
TZOFFSETFROM:+0100
TZOFFSETTO:+0200
TZNAME:CEST
DTSTART:20250330T010000
END:DAYLIGHT
BEGIN:STANDARD
TZOFFSETFROM:+0200
TZOFFSETTO:+0100
TZNAME:CET
DTSTART:20251026T010000
END:STANDARD
BEGIN:DAYLIGHT
TZOFFSETFROM:+0100
TZOFFSETTO:+0200
TZNAME:CEST
DTSTART:20260329T010000
END:DAYLIGHT
BEGIN:STANDARD
TZOFFSETFROM:+0200
TZOFFSETTO:+0100
TZNAME:CET
DTSTART:20261025T010000
END:STANDARD
END:VTIMEZONE
BEGIN:VEVENT
DTSTART;TZID=Europe/Amsterdam:20250617T190000
DTEND;TZID=Europe/Amsterdam:20250617T210000
DTSTAMP:20260420T111809
CREATED:20250613T090231Z
LAST-MODIFIED:20250613T090317Z
UID:7508-1750186800-1750194000@www.amstelschutters.nl
SUMMARY:Workshop Boogonderhoud
DESCRIPTION:Hoe maak je een pees? Of hoe vervang je de serving vaneen pees of de pijloplegger? In deze workshop kun je dit leren. Het is niet moeilijk\, wel handig om te kunnen.
URL:https://www.amstelschutters.nl/activiteit/workshop-boogonderhoud/
LOCATION:Sportpark West\, Wimbledonpark 2\, Amstelschutters\, Amstelveen\, Noord-Holland\, 1185 XN
CATEGORIES:Workshop
ATTACH;FMTTYPE=image/jpeg:https://www.amstelschutters.nl/wp-content/uploads/2021/11/20211106_142839-scaled.jpg
ORGANIZER;CN="Amstelschutters":MAILTO:webmaster@amstelschutters.nl
END:VEVENT
BEGIN:VEVENT
DTSTART;TZID=Europe/Amsterdam:20241001T193000
DTEND;TZID=Europe/Amsterdam:20241001T203000
DTSTAMP:20260420T111809
CREATED:20240819T142531Z
LAST-MODIFIED:20240819T142531Z
UID:6091-1727811000-1727814600@www.amstelschutters.nl
SUMMARY:Workshop Finetuning Recurveboog
DESCRIPTION:Deze tweede workshop is gericht op recurve-schutters en gaat over het afstellen van de nokhoogte m.b.v. een kale pijl. Ook het afstellen van de demper (veerdruk en positie)\, ook m.b.v. een kale pijl\, komen aan bod. \nAls de pijl niet bij de boog past zal deze nooit in een rechte lijn kunnen vliegen en is het moeilijk om goed te groeperen. De bedoeling van het afstellen van de demper is om de pijl. Boog en manier van schieten van de individuele schutter op elkaar af te stemmen. De demper zal de fouten van de schutter niet herstellen maar zorgt voor een minder wiebelende weg zelfs als er kleine fouten bij het lossen worden gemaakt. M.n. buiten op langere afstanden schieten is dit belangrijk. \nAls je boog goed is afgesteld maakt het dat je pijlen meer consistent en rechter vliegen en komen ze ook rechter in het blazoen terecht. Groeperen gaat ook een stuk beter met een goed afgestelde boog.
URL:https://www.amstelschutters.nl/activiteit/workshop-finetuning-recurveboog/
LOCATION:Sportpark West\, Wimbledonpark 2\, Amstelschutters\, Amstelveen\, Noord-Holland\, 1185 XN
CATEGORIES:Workshop
ATTACH;FMTTYPE=image/jpeg:https://www.amstelschutters.nl/wp-content/uploads/2024/08/20240817_150626.jpg
ORGANIZER;CN="Amstelschutters":MAILTO:webmaster@amstelschutters.nl
END:VEVENT
BEGIN:VEVENT
DTSTART;TZID=Europe/Amsterdam:20240903T193000
DTEND;TZID=Europe/Amsterdam:20240903T203000
DTSTAMP:20260420T111809
CREATED:20240819T141525Z
LAST-MODIFIED:20240819T143031Z
UID:6087-1725391800-1725395400@www.amstelschutters.nl
SUMMARY:Workshop Finetuning Barebow
DESCRIPTION:Op initiatief van Diana willen we regelmatig een workshop houden om je boog beter af te stellen\, het zgn Finetuning. Deze workshops zullen plaatsvinden op iedere eerste dinsdagavond van de maand. Deelname is geheel vrijblijvend. Elke workshop zal in ca. 30minuten\, of zoveel langer als nodig is\, een schiet-technisch of materiaal-technisch onderwerp behandelen. Ze zijn er voor iedereen\, van beginner tot gevorderde\, en voor alle boogtypen en schietstijlen. \nHeb je zelf een onderwerp waar je graag meer over wilt weten?. Of wil je zelf wel een workshop geven? Zet een berichtje in de app groep en dan zullen we daar een avond voor inplannen. \nDe eerste workshop is dinsdagavond 3 september en gaat over het thema peeshoogte en nokpunthoogte en is gericht op Barebow-schutters. Vallen jouw pijlen altijd links of rechts\, of juist hoog of laag? Is jouw pijlvlucht grillig en zijn jouw groepen groot? Maakt jouw boog veel lawaai\, of heb je veel slijtage aan veren of oplegger? Voelt jouw boog onrustig aan in de hand? Grote kans dat je dat oplost door simpelweg jouw pees op-of af- te draaien en/of jouw nokpunt aan te passen. \nIn deze workshop komen de volgende begrippen voor: \n\nBooghaak: een soort winkelhaak met aan de korte kant klemmetjes die je om de pees schuift.\nPeeshoogte: de afstand van de binnenkant van het boog-handvat (of van de oplegger) tot de pees.\nNokpunthoogte: de genokte pijl ligt wat met de punt naar beneden op de boog. Zo komen de veren/vanes niet tegen de oplegger na het lossen.  De nokpunthoogte is een maat voor die scheefheid\, namelijk is het aantal millimeters dat de onderkant van de pijlnok hoger is dan de oplegger.\n\n \nDe tweede workshop is gericht op recurve-schutters en gaat over het afstellen van de nokhoogte m.b.v. een kale pijl. Ook het afstellen van de demper (veerdruk en positie)\, ook m.b.v. een kale pijl\, komen aan bod. \nAls de pijl niet bij de boog past zal deze nooit in een rechte lijn kunnen vliegen en is het moeilijk om goed te groeperen. De bedoeling van het afstellen van de demper is om de pijl. Boog en manier van schieten van de individuele schutter op elkaar af te stemmen. De demper zal de fouten van de schutter niet herstellen maar zorgt voor een minder wiebelende weg zelfs als er kleine fouten bij het lossen worden gemaakt. M.n. buiten op langere afstanden schieten is dit belangrijk. Als je boog goed is afgesteld maakt het dat je pijlen meer consistent en rechter vliegen en komen ze ook rechter in het blazoen terecht. Groeperen gaat ook een stuk beter met een goed afgestelde boog.
URL:https://www.amstelschutters.nl/activiteit/workshop-finetuning/
LOCATION:Sportpark West\, Wimbledonpark 2\, Amstelschutters\, Amstelveen\, Noord-Holland\, 1185 XN
CATEGORIES:Workshop
ATTACH;FMTTYPE=image/jpeg:https://www.amstelschutters.nl/wp-content/uploads/2024/08/20240817_150558.jpg
ORGANIZER;CN="Amstelschutters":MAILTO:webmaster@amstelschutters.nl
END:VEVENT
BEGIN:VEVENT
DTSTART;TZID=Europe/Amsterdam:20240206T190000
DTEND;TZID=Europe/Amsterdam:20240206T210000
DTSTAMP:20260420T111809
CREATED:20240131T103159Z
LAST-MODIFIED:20240131T103159Z
UID:5567-1707246000-1707253200@www.amstelschutters.nl
SUMMARY:Bogendokter
DESCRIPTION:Met het groeiend aantal leden groeit ook de vraag naar onderhoud van pijl en boog. Vooral de beginnende leden hebben meestal nog niet de kennis om zelf hun eigen materiaal te repareren of aan te passen. Er zal daarom iedere eerste dinsdagavond van de maand een “Bogendokter” aanwezig zijn om kleine reparaties uit te voeren. Denk aan; Veren plakken\, nokken vervangen\, serving repareren\, etc. Uiteraard hebben we geen uitgebreide werkplaats met allerlei soorten veren\, nokken e.d. dus de reparaties kunnen alleen worden uitgevoerd voor zover dat mogelijk is. Het is uiteindelijk de bedoeling dat iedere schutter zelf zijn spullen kan repareren en aanpassen dus de acties van de Bogendokter zullen er op gericht zijn om zoveel mogelijk kennis over te brengen zodat iedereen uiteindelijk zelf zijn boogmateriaal kan onderhouden. Het is ook mogelijk om een pees op maat te laten maken\, zowel een Vlaamse pees als een pees met endless loop kunnen worden gemaakt met naar keus B50 (Dacron) of B625 (FastFlight) materiaal. Hier zijn wel kosten aan verbonden. € 10\,- voor B50 (Dacron) voor traditionele boog € 15\,- voor B625 (FF) voor recurveboog.
URL:https://www.amstelschutters.nl/activiteit/bogendokter/
LOCATION:Sportpark West\, Wimbledonpark 2\, Amstelschutters\, Amstelveen\, Noord-Holland\, 1185 XN
CATEGORIES:Workshop
ORGANIZER;CN="Amstelschutters":MAILTO:webmaster@amstelschutters.nl
END:VEVENT
BEGIN:VEVENT
DTSTART;TZID=Europe/Amsterdam:20230506T130000
DTEND;TZID=Europe/Amsterdam:20230506T160000
DTSTAMP:20260420T111809
CREATED:20230429T120443Z
LAST-MODIFIED:20230429T120933Z
UID:4233-1683378000-1683388800@www.amstelschutters.nl
SUMMARY:Workshop Boogtechniek
DESCRIPTION:Een goede gelegenheid om je materiaal te repareren of aan te vullen\, dan wel om gewoon eens te kijken hoe dit in zijn werk gaat.
URL:https://www.amstelschutters.nl/activiteit/workshop-boogtechniek-3/
LOCATION:Sportpark West\, Wimbledonpark 2\, Amstelschutters\, Amstelveen\, Noord-Holland\, 1185 XN
CATEGORIES:Workshop
ATTACH;FMTTYPE=image/jpeg:https://www.amstelschutters.nl/wp-content/uploads/2021/08/Handboog-Hout.jpg
ORGANIZER;CN="Amstelschutters":MAILTO:webmaster@amstelschutters.nl
END:VEVENT
BEGIN:VEVENT
DTSTART;TZID=Europe/Amsterdam:20221105T130000
DTEND;TZID=Europe/Amsterdam:20221105T170000
DTSTAMP:20260420T111809
CREATED:20221021T100524Z
LAST-MODIFIED:20221101T082434Z
UID:3602-1667653200-1667667600@www.amstelschutters.nl
SUMMARY:Workshop Boogtechniek
DESCRIPTION:Zaterdag 5 november organiseren wij weer een workshop boogtechniek. In deze workshop kun je o.a. zelf een pees voor je boog maken\, pijlen repareren\, serving herstellen\, je boog afstellen\, etc.. Je kunt een pees voor een recurveboog maken (oneindige lus) maar ook een Vlaamse pees voor een traditionele boog. Verder is er gelegenheid om te zien hoe veren op een pijl worden geplakt met behulp van een “pijlenplakker”\, kun je kennis nemen hoe je je boog moet afstellen (tiller\, nokpunt\, centershot\, demper\, peeshoogte\, etc\, etc.). De bedoeling is om de aanwezige kennis binnen de club te verspreiden zodat ook nieuwe leden langzaam in de geheimen van de boogtechniek worden ingewijd. \n\n	Bericht: JavaScript is vereist voor deze inhoud.\nDit formulier ondergaat momenteel onderhoud. Probeer het later nogmaals.
URL:https://www.amstelschutters.nl/activiteit/workshop-boogtechniek/
LOCATION:Tweede honk DVH\, Wimbledonpark 2\, Amstelveen\, NH\, 1185 XN\, Netherlands
CATEGORIES:Workshop
ATTACH;FMTTYPE=image/jpeg:https://www.amstelschutters.nl/wp-content/uploads/2022/04/Pees-maken.jpg
ORGANIZER;CN="Amstelschutters":MAILTO:webmaster@amstelschutters.nl
END:VEVENT
BEGIN:VEVENT
DTSTART;TZID=Europe/Amsterdam:20220507T130000
DTEND;TZID=Europe/Amsterdam:20220507T170000
DTSTAMP:20260420T111810
CREATED:20211227T101015Z
LAST-MODIFIED:20211227T114946Z
UID:2735-1651928400-1651942800@www.amstelschutters.nl
SUMMARY:Workshop Boogtechniek
DESCRIPTION:Zaterdag 7 mei organiseren wij weer een workshop boogtechniek. In deze workshop kun je o.a. zelf een pees voor je boog maken. Je kunt een pees voor een recurveboog maken (oneindige lus) maar ook een Vlaamse pees voor een traditionele boog. Verder is er gelegenheid om te zien hoe veren op een pijl worden geplakt met behulp van een “pijlenplakker”\, kun je kennis nemen hoe je je boog moet afstellen (tiller\, nokpunt\, centershot\, demper\, peeshoogte\, etc\, etc.). De bedoeling is om de aanwezige kennis binnen de club te verspreiden zodat ook nieuwe leden langzaam in de geheimen van de boogtechniek worden ingewijd.
URL:https://www.amstelschutters.nl/activiteit/workshop-boogtechniek-2/
LOCATION:Sportpark West\, Wimbledonpark 2\, Amstelschutters\, Amstelveen\, Noord-Holland\, 1185 XN
CATEGORIES:Workshop
ATTACH;FMTTYPE=image/jpeg:https://www.amstelschutters.nl/wp-content/uploads/2021/12/Workshop-e1640875945320.jpeg
ORGANIZER;CN="Amstelschutters":MAILTO:webmaster@amstelschutters.nl
END:VEVENT
END:VCALENDAR