BEGIN:VCALENDAR
VERSION:2.0
PRODID:-//Amstelschutters - ECPv6.15.20//NONSGML v1.0//EN
CALSCALE:GREGORIAN
METHOD:PUBLISH
X-WR-CALNAME:Amstelschutters
X-ORIGINAL-URL:https://www.amstelschutters.nl
X-WR-CALDESC:Evenementen voor Amstelschutters
REFRESH-INTERVAL;VALUE=DURATION:PT1H
X-Robots-Tag:noindex
X-PUBLISHED-TTL:PT1H
BEGIN:VTIMEZONE
TZID:Europe/Amsterdam
BEGIN:DAYLIGHT
TZOFFSETFROM:+0100
TZOFFSETTO:+0200
TZNAME:CEST
DTSTART:20250330T010000
END:DAYLIGHT
BEGIN:STANDARD
TZOFFSETFROM:+0200
TZOFFSETTO:+0100
TZNAME:CET
DTSTART:20251026T010000
END:STANDARD
BEGIN:DAYLIGHT
TZOFFSETFROM:+0100
TZOFFSETTO:+0200
TZNAME:CEST
DTSTART:20260329T010000
END:DAYLIGHT
BEGIN:STANDARD
TZOFFSETFROM:+0200
TZOFFSETTO:+0100
TZNAME:CET
DTSTART:20261025T010000
END:STANDARD
BEGIN:DAYLIGHT
TZOFFSETFROM:+0100
TZOFFSETTO:+0200
TZNAME:CEST
DTSTART:20270328T010000
END:DAYLIGHT
BEGIN:STANDARD
TZOFFSETFROM:+0200
TZOFFSETTO:+0100
TZNAME:CET
DTSTART:20271031T010000
END:STANDARD
END:VTIMEZONE
BEGIN:VEVENT
DTSTART;TZID=Europe/Amsterdam:20260304T190000
DTEND;TZID=Europe/Amsterdam:20260304T210000
DTSTAMP:20260420T133227
CREATED:20251227T135429Z
LAST-MODIFIED:20260329T150601Z
UID:8197-1772650800-1772658000@www.amstelschutters.nl
SUMMARY:Basiscursus 2026-03 W
DESCRIPTION:Basiscursus woensdagavond 4\, 11\, 18\, 25 maart 2026
URL:https://www.amstelschutters.nl/activiteit/basiscursus-2026-03-w/
LOCATION:Sportpark West\, Wimbledonpark 2\, Amstelschutters\, Amstelveen\, Noord-Holland\, 1185 XN
CATEGORIES:Cursus
ATTACH;FMTTYPE=image/jpeg:https://www.amstelschutters.nl/wp-content/uploads/2026/02/Blazoen1200x500.jpg
ORGANIZER;CN="Amstelschutters - Trainers":MAILTO:webmaster@amstelschutters.nl
END:VEVENT
BEGIN:VEVENT
DTSTART;TZID=Europe/Amsterdam:20260307T100000
DTEND;TZID=Europe/Amsterdam:20260307T120000
DTSTAMP:20260420T133227
CREATED:20251227T135248Z
LAST-MODIFIED:20260329T150755Z
UID:8195-1772877600-1772884800@www.amstelschutters.nl
SUMMARY:Basiscursus 2026-03 Z
DESCRIPTION:Basiscursus zaterdagochtend 7\, 14\, 21\, 28 maart 2026
URL:https://www.amstelschutters.nl/activiteit/basiscursus-2026-03-z/
LOCATION:Sportpark West\, Wimbledonpark 2\, Amstelschutters\, Amstelveen\, Noord-Holland\, 1185 XN
CATEGORIES:Cursus
ATTACH;FMTTYPE=image/jpeg:https://www.amstelschutters.nl/wp-content/uploads/2026/02/Blazoen1200x500.jpg
ORGANIZER;CN="Amstelschutters - Trainers":MAILTO:webmaster@amstelschutters.nl
END:VEVENT
BEGIN:VEVENT
DTSTART;TZID=Europe/Amsterdam:20260328T140000
DTEND;TZID=Europe/Amsterdam:20260328T160000
DTSTAMP:20260420T133227
CREATED:20251227T144226Z
LAST-MODIFIED:20260320T132927Z
UID:8208-1774706400-1774713600@www.amstelschutters.nl
SUMMARY:KKT 2026
DESCRIPTION:Traditioneel schieten we op de laatste zaterdag van maart ons openingstoernooi. \n\n\n\nAan het begin van dit nieuwe buitenseizoen schieten we op 28 maart 2026 het Kouwe Klauwen Toernooi (KKT). We schieten dit toernooi op 18 en 30 meter afstand\, telkens in een serie van 10 x 3 pijlen. De winnaar krijgt de titel “Grote Klauw 2026”. Disciplines voor Barebow en Recurve. Aanmelden kan via dit formulier; \n\n\n\n	Bericht: JavaScript is vereist voor deze inhoud.
URL:https://www.amstelschutters.nl/activiteit/kkt-2026/
CATEGORIES:Toernooi
ATTACH;FMTTYPE=image/jpeg:https://www.amstelschutters.nl/wp-content/uploads/2023/12/Boogschieten-in-de-winter.jpg
END:VEVENT
BEGIN:VEVENT
DTSTART;TZID=Europe/Amsterdam:20260401T190000
DTEND;TZID=Europe/Amsterdam:20260401T210000
DTSTAMP:20260420T133227
CREATED:20250914T124839Z
LAST-MODIFIED:20260329T150834Z
UID:7788-1775070000-1775077200@www.amstelschutters.nl
SUMMARY:Basiscursus 2026-04 W
DESCRIPTION:Basiscursus woensdagavond 1\, 8\, 15 en 22 april 2026
URL:https://www.amstelschutters.nl/activiteit/basiscursus-2026-04-w/
LOCATION:Sportpark West\, Wimbledonpark 2\, Amstelschutters\, Amstelveen\, Noord-Holland\, 1185 XN
CATEGORIES:Cursus
ATTACH;FMTTYPE=image/jpeg:https://www.amstelschutters.nl/wp-content/uploads/2026/02/Blazoen1200x500.jpg
ORGANIZER;CN="Amstelschutters - Trainers":MAILTO:webmaster@amstelschutters.nl
END:VEVENT
BEGIN:VEVENT
DTSTART;TZID=Europe/Amsterdam:20260404T100000
DTEND;TZID=Europe/Amsterdam:20260404T120000
DTSTAMP:20260420T133227
CREATED:20250914T092052Z
LAST-MODIFIED:20260329T150908Z
UID:7757-1775296800-1775304000@www.amstelschutters.nl
SUMMARY:Basiscursus 2026-04 Z
DESCRIPTION:Basiscursus zaterdagochtend 4\, 11\, 18\, 25 april 2026
URL:https://www.amstelschutters.nl/activiteit/basiscursus-2026-04-z/
LOCATION:Sportpark West\, Wimbledonpark 2\, Amstelschutters\, Amstelveen\, Noord-Holland\, 1185 XN
CATEGORIES:Cursus
ATTACH;FMTTYPE=image/jpeg:https://www.amstelschutters.nl/wp-content/uploads/2026/02/Blazoen1200x500.jpg
ORGANIZER;CN="Amstelschutters - Trainers":MAILTO:webmaster@amstelschutters.nl
END:VEVENT
BEGIN:VEVENT
DTSTART;TZID=Europe/Amsterdam:20260404T100000
DTEND;TZID=Europe/Amsterdam:20260404T120000
DTSTAMP:20260420T133227
CREATED:20260329T152031Z
LAST-MODIFIED:20260329T152033Z
UID:8848-1775296800-1775304000@www.amstelschutters.nl
SUMMARY:Paasei schieten
DESCRIPTION:Raak het konijn en verzamel de chocolade-eieren
URL:https://www.amstelschutters.nl/activiteit/paasei-schieten/
ATTACH;FMTTYPE=image/jpeg:https://www.amstelschutters.nl/wp-content/uploads/2026/03/Paasei.jpg
END:VEVENT
BEGIN:VEVENT
DTSTART;TZID=Europe/Amsterdam:20260414T190000
DTEND;TZID=Europe/Amsterdam:20260414T210000
DTSTAMP:20260420T133227
CREATED:20260404T152722Z
LAST-MODIFIED:20260410T210347Z
UID:8873-1776193200-1776200400@www.amstelschutters.nl
SUMMARY:Flintwedstrijd
DESCRIPTION:Volgende week dinsdagavond organiseert Diana een Flint wedstrijd. Dit is een op Engelse maten georiënteerde wedstrijd. We schieten n.l. op 30\, 25\, 20\, 15\, 10 Yard en op 20 Feet. De blazoenen zijn afwisselend 20 en 35 cm groot en er worden 4 pijlen per serie geschoten en we schieten twee sessies.  \n\n\n\nWe schieten op een “gewone” trainingsavond om zoveel mogelijk leden de gelegenheid te geven om deel te nemen. Je kunt uiteraard gewoon binnenlopen en deelnemen maar voor de organisatie is het handig om vooraf te weten hoeveel deelnemers willen mee schieten. Je kunt je daarom opgeven via onderstaand formulier \n\n\n\nLet op\, we beginnen om 19:00u. \n\n\n\n\n	Bericht: JavaScript is vereist voor deze inhoud.\n\n\n    \n\n\n        \n        \n        \n\n\n\n\n\n\n\n\n\n\n\n\n\n\n\n\n\n\n\nAanmeldingVolgnr.NaamE-mailBoogvoorkeurOpmerkingen04-04-2026 17:431Theotheo.duncker@gmail.comRecurve04-04-2026 17:462RickRickvkersbergen@gmail.comBarebow Houten pijlen05-04-2026 15:343Werner Tenzercontact@wernertenzer.nlRecurve11-04-2026 13:254Hans van Steenbergenhans.mijnvoornaam@gmail.comBarebow Houten pijlen11-04-2026 13:265RickRickvkersbergen@gmail.comBarebow Houten pijlen11-04-2026 13:266Saskiaandrewsaskia@planet.nlBarebow Carbon pijlenNiet 100% zekerheid dat ik het qua tijd ga redden na mijn werk11-04-2026 14:317Monique van Kampenmonique@mhome.nlBarebow Carbon pijlen11-04-2026 14:348Marcel van EgmondMarcel@mhome.nlBarebow Carbon pijlen11-04-2026 15:339Ronald Nieuwendamronaldnieuw@gmail.comBarebow Houten pijlen11-04-2026 20:0910Lilynowwhat_22@yahoo.comRecurve11-04-2026 20:1211Marc Worrellmarc@worrell.nlRecurve12-04-2026 19:1112Elliot ScottEsscott2007@gmail.comBarebow Houten pijlen12-04-2026 20:2613Dianadianalankhof@gmail.comBarebow Carbon pijlen12-04-2026 22:0914Raviraviveraart@gmail.comRecurve13-04-2026 12:4615Niels Maliepaardnielsjenielsje@hotmail.comBarebow Houten pijlen14-04-2026 17:1216Heather93.heatherhoekstra@gmail.comBarebow Carbon pijlen14-04-2026 17:1417Heather93.heatherhoekstra@gmail.comBarebow Carbon pijlen14-04-2026 17:3518Kirakira.roozeboom@gmail.comRecurve
URL:https://www.amstelschutters.nl/activiteit/flintwedstrijd-2/
CATEGORIES:Toernooi
ATTACH;FMTTYPE=image/jpeg:https://www.amstelschutters.nl/wp-content/uploads/2025/05/Flint.jpg
END:VEVENT
BEGIN:VEVENT
DTSTART;TZID=Europe/Amsterdam:20260426T080000
DTEND;TZID=Europe/Amsterdam:20260426T170000
DTSTAMP:20260420T133227
CREATED:20260110T124031Z
LAST-MODIFIED:20260329T151110Z
UID:8357-1777190400-1777222800@www.amstelschutters.nl
SUMMARY:3D Jachtronde Nijverdal
DESCRIPTION:Sinds een paar jaar nemen een aantal Amstelschutters deel aan de 3D wedstrijd in Nijverdal van de vereniging Sagitta et Arcus. Dit jaar organiseren ze weer een wedstrijd op 25 en 26 april. Hert lijkt me heel leuk om daar weer met een ploeg naar toe te gaan\, dus wie wil er mee? \n\n\n\nPersoonlijk wil ik me focussen op de zondag 26 april omdat er op zaterdag nog een Basiscursus wordt gegeven. Maar als je individueel ook op zaterdag wilt schieten kan dat ook. \n\n\n\nUiteraard kun je je ook individueel aanmelden maar ik denk dat we meer kans op deelname hebben als we ons als groep aanmelden. \n\n\n\nKosten zijn € 15 voor senioren (18+) en € 7\,50 voor jeugd (12 t/m 17). \n\n\n\nLet op; Dit soort wedstrijden zijn allemaal erg snel volgeboekt dus als je dit jaar ook mee wilt doen laat het mij dan zo spoedig mogelijk weten zodat ik ons als vereniging kan inschrijven om meer kans op deelname te hebben. Inschrijven kan via dit formulier hieronder. Betaling volgt later via een betaalverzoek van de penningmeester. \n\n\n\nWat zij willen weten voor de inschrijving; \n\n\n\n\nBoogklasse waarin je wilt meedoen. (Barebow recurve\, Bow Hunter recurve\, Longbow\, Historical)\n\n\n\nCategorie; Heren senioren\, Dames senioren\, Heren onder 16\, Dames onder 16.\n\n\n\n\nZie voor verdere details de flyer op het Forum. Als je vragen hebt over in welke boogklasse je valt kijk dan op pagina 2 van het 3D Schiettechnisch Reglement (of zie een extract daarvan hieronder). \n\n\n\nAls je nog vragen hebt dan hoor ik dat graag z.s.m. \n\n\n\nGroeten\, Theo \n\n\n\nOnderstaande kaart geeft de lokatie weer van de buitenbaan van Sagitta et Arcus waar op zaterdag 25 en zondag 26 april 2026 hun 3d ronde gehouden wordt.Onze buitenbaan ligt aan de Noordelijke Hoofddijk\, te Hulsen.GPS: (N)52.383455 (E)6.507691 maar als alternatief voor de navigatie kun je het adres van Stegeman\, Noordelijkehoofddijk 25\, 7443RV\, Nijverdal nemen\, dat perceel ligt ca. 250m. van de buitenbaaningang af. \n\n\n\n\n\n\n\n  Terrein open: 08.00u (svp. aanmelden vóór 09.00u.) Aanvang wedstrijd: ca. 10.00u.
URL:https://www.amstelschutters.nl/activiteit/3d-jachtronde-nijverdal-2026/
CATEGORIES:Toernooi
ATTACH;FMTTYPE=image/jpeg:https://www.amstelschutters.nl/wp-content/uploads/2025/05/Afbeelding-van-WhatsApp-op-2025-05-03-om-13.06.49_5ddbdc94.jpg
END:VEVENT
BEGIN:VEVENT
DTSTART;TZID=Europe/Amsterdam:20260502T100000
DTEND;TZID=Europe/Amsterdam:20260502T120000
DTSTAMP:20260420T133227
CREATED:20260206T101226Z
LAST-MODIFIED:20260329T151023Z
UID:8552-1777716000-1777723200@www.amstelschutters.nl
SUMMARY:Trainerscursus
DESCRIPTION:Cursus voor trainers zaterdagochtend 2\, 9\, 23 en 30 mei 2026 \n\n\n\nIn mei organiseren we een trainerscursus. Deze staat open voor leden die zich tot trainer willen ontwikkelen en voor bestaande trainers die hun vaardigheden willen verbeteren.Theo heeft Arnold Visser\, een zeer ervaren trainer uit het NHB-circuit\, bereid gevonden om deze cursus te verzorgen op vier zaterdagochtenden: 2\, 9\, 23 en 30 mei\, van 10:00 tot 12:00 uur. Deelname is kosteloos. \n\n\n\n	Bericht: JavaScript is vereist voor deze inhoud.\n\n\n    \n\n\n        \n        \n        \n\n\n\n\nAanmeldingen\n\n\n\nVolgnr.NaamOpmerkingenIk meld me aan voor:1Hans van SteenbergenTrainerscursus 2\, 9\, 23\, 30 mei2Rolf ZaalTrainerscursus 2\, 9\, 23\, 30 mei3ChrisTrainerscursus 2\, 9\, 23\, 30 mei4NielsTrainerscursus 2\, 9\, 23\, 30 mei5MaartenTrainerscursus 2\, 9\, 23\, 30 mei6TheoTrainerscursus 2\, 9\, 23\, 30 mei7JimTrainerscursus 2\, 9\, 23\, 30 mei
URL:https://www.amstelschutters.nl/activiteit/trainerscursus/
CATEGORIES:Cursus
ATTACH;FMTTYPE=image/jpeg:https://www.amstelschutters.nl/wp-content/uploads/2025/11/signal-2025-10-19-073353_002.jpeg
END:VEVENT
BEGIN:VEVENT
DTSTART;TZID=Europe/Amsterdam:20260506T190000
DTEND;TZID=Europe/Amsterdam:20260506T210000
DTSTAMP:20260420T133227
CREATED:20250914T123429Z
LAST-MODIFIED:20260329T150951Z
UID:7783-1778094000-1778101200@www.amstelschutters.nl
SUMMARY:Basiscursus 2026-05 W
DESCRIPTION:Basiscursus woensdagavond 6\, 13\, 20 en 27 mei 2026
URL:https://www.amstelschutters.nl/activiteit/basiscursus-2026-05-w/
LOCATION:Sportpark West\, Wimbledonpark 2\, Amstelschutters\, Amstelveen\, Noord-Holland\, 1185 XN
CATEGORIES:Cursus
ATTACH;FMTTYPE=image/jpeg:https://www.amstelschutters.nl/wp-content/uploads/2026/02/Blazoen1200x500.jpg
ORGANIZER;CN="Amstelschutters - Trainers":MAILTO:webmaster@amstelschutters.nl
END:VEVENT
END:VCALENDAR