BEGIN:VCALENDAR
VERSION:2.0
PRODID:-//Amstelschutters - ECPv6.15.20//NONSGML v1.0//EN
CALSCALE:GREGORIAN
METHOD:PUBLISH
X-WR-CALNAME:Amstelschutters
X-ORIGINAL-URL:https://www.amstelschutters.nl
X-WR-CALDESC:Evenementen voor Amstelschutters
REFRESH-INTERVAL;VALUE=DURATION:PT1H
X-Robots-Tag:noindex
X-PUBLISHED-TTL:PT1H
BEGIN:VTIMEZONE
TZID:Europe/Amsterdam
BEGIN:DAYLIGHT
TZOFFSETFROM:+0100
TZOFFSETTO:+0200
TZNAME:CEST
DTSTART:20210328T010000
END:DAYLIGHT
BEGIN:STANDARD
TZOFFSETFROM:+0200
TZOFFSETTO:+0100
TZNAME:CET
DTSTART:20211031T010000
END:STANDARD
BEGIN:DAYLIGHT
TZOFFSETFROM:+0100
TZOFFSETTO:+0200
TZNAME:CEST
DTSTART:20220327T010000
END:DAYLIGHT
BEGIN:STANDARD
TZOFFSETFROM:+0200
TZOFFSETTO:+0100
TZNAME:CET
DTSTART:20221030T010000
END:STANDARD
BEGIN:DAYLIGHT
TZOFFSETFROM:+0100
TZOFFSETTO:+0200
TZNAME:CEST
DTSTART:20230326T010000
END:DAYLIGHT
BEGIN:STANDARD
TZOFFSETFROM:+0200
TZOFFSETTO:+0100
TZNAME:CET
DTSTART:20231029T010000
END:STANDARD
END:VTIMEZONE
BEGIN:VEVENT
DTSTART;TZID=Europe/Amsterdam:20220507T130000
DTEND;TZID=Europe/Amsterdam:20220507T170000
DTSTAMP:20260422T180827
CREATED:20211227T101015Z
LAST-MODIFIED:20211227T114946Z
UID:2735-1651928400-1651942800@www.amstelschutters.nl
SUMMARY:Workshop Boogtechniek
DESCRIPTION:Zaterdag 7 mei organiseren wij weer een workshop boogtechniek. In deze workshop kun je o.a. zelf een pees voor je boog maken. Je kunt een pees voor een recurveboog maken (oneindige lus) maar ook een Vlaamse pees voor een traditionele boog. Verder is er gelegenheid om te zien hoe veren op een pijl worden geplakt met behulp van een “pijlenplakker”\, kun je kennis nemen hoe je je boog moet afstellen (tiller\, nokpunt\, centershot\, demper\, peeshoogte\, etc\, etc.). De bedoeling is om de aanwezige kennis binnen de club te verspreiden zodat ook nieuwe leden langzaam in de geheimen van de boogtechniek worden ingewijd.
URL:https://www.amstelschutters.nl/activiteit/workshop-boogtechniek-2/
LOCATION:Sportpark West\, Wimbledonpark 2\, Amstelschutters\, Amstelveen\, Noord-Holland\, 1185 XN
CATEGORIES:Workshop
ATTACH;FMTTYPE=image/jpeg:https://www.amstelschutters.nl/wp-content/uploads/2021/12/Workshop-e1640875945320.jpeg
ORGANIZER;CN="Amstelschutters":MAILTO:webmaster@amstelschutters.nl
END:VEVENT
BEGIN:VEVENT
DTSTART;TZID=Europe/Amsterdam:20220422T190000
DTEND;TZID=Europe/Amsterdam:20220422T213000
DTSTAMP:20260422T180827
CREATED:20220325T080629Z
LAST-MODIFIED:20220330T085350Z
UID:2982-1650654000-1650663000@www.amstelschutters.nl
SUMMARY:Algemene ledenvergadering
DESCRIPTION:Beste leden\, \nWe hebben afgelopen weekend de aftrap van het nieuwe handboog-seizoen gevierd met een uitermate geslaagd Kouwe Klauwen-Toernooi.  Er werd opmerkelijk goed geschoten en de sfeer was super. Maar het reilen en zeilen van een vereniging brengt naast sportieve krachtmetingen en gezelligheid ook bestuurlijke beslommeringen met zich mee. Om te zorgen dat we ook op dat vlak op één lijn blijven opereren is er een jaarlijkse Algemene Leden-vergadering gepland op: \nVrijdagavond 22 april\, van 19:00 tot 22:00\nLokatie:  DVH-gebouw  ( direct rechts na het passeren van het toegangshek ) \nBelangrijke zaken die aan de orde komen zijn onder meer: het huishoudelijk reglement\, het reglement van veiligheid en een verhoging van de contributie.\nJullie aanwezigheid en inbreng wordt zeer op prijs gesteld.  \nDe concept-agenda is als volgt: \n\n\n\nIngekomen stukken en vaststellen agenda\nJaarverslag secretaris/penningmeester (zie bijlage) \nBegroting verenigingsjaar 2022 (zie bijlage)\nVerslag financiële commissie 2021 /  decharge-verlening\nVerkiezing financiële commissie 2022. \nVaststellen van de contributie voor de gewone leden voor de verenigingsjaren 2022 en 2023.\nVaststelling huishoudelijk reglement (zie bijlage)\nVaststelling reglement van veiligheid (zie bijlage)\nVerkiezing bestuur. Theo Duncker en Rolf Zaal stellen zich herkiesbaar. Andere leden die interesse hebben om in het bestuur zitting te nemen worden uitgenodigd zich te melden. \nBeleidsvoornemens\nRondvraag en afsluiting\n\n\n\nHeb je nog een ander punt dat je graag op de agenda zou zien\, meld het dan even. \nMet sportieve groet\, \nRolf\nsecretaris/penningmeester Amstelschutters
URL:https://www.amstelschutters.nl/activiteit/algemene-ledenvergadering/
LOCATION:Sportpark West\, Wimbledonpark 2\, Amstelschutters\, Amstelveen\, Noord-Holland\, 1185 XN
CATEGORIES:Vergadering
ATTACH;FMTTYPE=image/jpeg:https://www.amstelschutters.nl/wp-content/uploads/2022/03/Vergadering.jpg
END:VEVENT
BEGIN:VEVENT
DTSTART;TZID=Europe/Amsterdam:20220326T140000
DTEND;TZID=Europe/Amsterdam:20220326T160000
DTSTAMP:20260422T180827
CREATED:20211227T101440Z
LAST-MODIFIED:20220112T153123Z
UID:2737-1648303200-1648310400@www.amstelschutters.nl
SUMMARY:Kouwe Klauwen Toernooi (KKT) 2022
DESCRIPTION:Aan het begin van dit nieuwe buitenseizoen schieten we op 26 maart 2022 het Kouwe Klauwen Toernooi (KKT). Vanwege een groot aantal beginnende boogschutters schieten we dit jaar op 18 en 30 meter afstand\, telkens in een serie van 10 x 3 pijlen. Onze junioren schieten 2 series op 18 meter. De winnaar krijgt de titel “Grote Klauw 2022”. Disciplines voor Barebow en Recurve. Je kunt je inschrijven en een reservering maken via de RSVP knop hieronder.
URL:https://www.amstelschutters.nl/activiteit/kouwe-klauwen-toernooi-kkt-2022-2/
LOCATION:Sportpark West\, Wimbledonpark 2\, Amstelschutters\, Amstelveen\, Noord-Holland\, 1185 XN
CATEGORIES:Toernooi
ATTACH;FMTTYPE=image/jpeg:https://www.amstelschutters.nl/wp-content/uploads/2020/05/IMG-20211123-WA0001-scaled.jpeg
ORGANIZER;CN="Amstelschutters":MAILTO:webmaster@amstelschutters.nl
END:VEVENT
END:VCALENDAR