BEGIN:VCALENDAR
VERSION:2.0
PRODID:-//Amstelschutters - ECPv6.15.20//NONSGML v1.0//EN
CALSCALE:GREGORIAN
METHOD:PUBLISH
X-WR-CALNAME:Amstelschutters
X-ORIGINAL-URL:https://www.amstelschutters.nl
X-WR-CALDESC:Evenementen voor Amstelschutters
REFRESH-INTERVAL;VALUE=DURATION:PT1H
X-Robots-Tag:noindex
X-PUBLISHED-TTL:PT1H
BEGIN:VTIMEZONE
TZID:Europe/Amsterdam
BEGIN:DAYLIGHT
TZOFFSETFROM:+0100
TZOFFSETTO:+0200
TZNAME:CEST
DTSTART:20250330T010000
END:DAYLIGHT
BEGIN:STANDARD
TZOFFSETFROM:+0200
TZOFFSETTO:+0100
TZNAME:CET
DTSTART:20251026T010000
END:STANDARD
BEGIN:DAYLIGHT
TZOFFSETFROM:+0100
TZOFFSETTO:+0200
TZNAME:CEST
DTSTART:20260329T010000
END:DAYLIGHT
BEGIN:STANDARD
TZOFFSETFROM:+0200
TZOFFSETTO:+0100
TZNAME:CET
DTSTART:20261025T010000
END:STANDARD
BEGIN:DAYLIGHT
TZOFFSETFROM:+0100
TZOFFSETTO:+0200
TZNAME:CEST
DTSTART:20270328T010000
END:DAYLIGHT
BEGIN:STANDARD
TZOFFSETFROM:+0200
TZOFFSETTO:+0100
TZNAME:CET
DTSTART:20271031T010000
END:STANDARD
END:VTIMEZONE
BEGIN:VEVENT
DTSTART;TZID=Europe/Amsterdam:20260304T190000
DTEND;TZID=Europe/Amsterdam:20260304T210000
DTSTAMP:20260420T121352
CREATED:20251227T135429Z
LAST-MODIFIED:20260329T150601Z
UID:8197-1772650800-1772658000@www.amstelschutters.nl
SUMMARY:Basiscursus 2026-03 W
DESCRIPTION:Basiscursus woensdagavond 4\, 11\, 18\, 25 maart 2026
URL:https://www.amstelschutters.nl/activiteit/basiscursus-2026-03-w/
LOCATION:Sportpark West\, Wimbledonpark 2\, Amstelschutters\, Amstelveen\, Noord-Holland\, 1185 XN
CATEGORIES:Cursus
ATTACH;FMTTYPE=image/jpeg:https://www.amstelschutters.nl/wp-content/uploads/2026/02/Blazoen1200x500.jpg
ORGANIZER;CN="Amstelschutters - Trainers":MAILTO:webmaster@amstelschutters.nl
END:VEVENT
BEGIN:VEVENT
DTSTART;TZID=Europe/Amsterdam:20260307T100000
DTEND;TZID=Europe/Amsterdam:20260307T120000
DTSTAMP:20260420T121352
CREATED:20251227T135248Z
LAST-MODIFIED:20260329T150755Z
UID:8195-1772877600-1772884800@www.amstelschutters.nl
SUMMARY:Basiscursus 2026-03 Z
DESCRIPTION:Basiscursus zaterdagochtend 7\, 14\, 21\, 28 maart 2026
URL:https://www.amstelschutters.nl/activiteit/basiscursus-2026-03-z/
LOCATION:Sportpark West\, Wimbledonpark 2\, Amstelschutters\, Amstelveen\, Noord-Holland\, 1185 XN
CATEGORIES:Cursus
ATTACH;FMTTYPE=image/jpeg:https://www.amstelschutters.nl/wp-content/uploads/2026/02/Blazoen1200x500.jpg
ORGANIZER;CN="Amstelschutters - Trainers":MAILTO:webmaster@amstelschutters.nl
END:VEVENT
BEGIN:VEVENT
DTSTART;TZID=Europe/Amsterdam:20260328T140000
DTEND;TZID=Europe/Amsterdam:20260328T160000
DTSTAMP:20260420T121352
CREATED:20251227T144226Z
LAST-MODIFIED:20260320T132927Z
UID:8208-1774706400-1774713600@www.amstelschutters.nl
SUMMARY:KKT 2026
DESCRIPTION:Traditioneel schieten we op de laatste zaterdag van maart ons openingstoernooi. \n\n\n\nAan het begin van dit nieuwe buitenseizoen schieten we op 28 maart 2026 het Kouwe Klauwen Toernooi (KKT). We schieten dit toernooi op 18 en 30 meter afstand\, telkens in een serie van 10 x 3 pijlen. De winnaar krijgt de titel “Grote Klauw 2026”. Disciplines voor Barebow en Recurve. Aanmelden kan via dit formulier; \n\n\n\n	Bericht: JavaScript is vereist voor deze inhoud.
URL:https://www.amstelschutters.nl/activiteit/kkt-2026/
CATEGORIES:Toernooi
ATTACH;FMTTYPE=image/jpeg:https://www.amstelschutters.nl/wp-content/uploads/2023/12/Boogschieten-in-de-winter.jpg
END:VEVENT
END:VCALENDAR